BEGIN:VCALENDAR
VERSION:2.0
PRODID:-//spbstu.ru//ical//RU
NAME:Расписание группы 5030102/50003
X-WR-CALNAME:Расписание группы 5030102/50003
TIMEZONE-ID:Europe/Moscow
X-WR-TIMEZONE:Europe/Moscow
BEGIN:VEVENT
UID:yki2@192.168.245.71:3006
SEQUENCE:0
DTSTAMP:20260423T205656Z
DTSTART:20260110T070000Z
DTEND:20260110T074500Z
SUMMARY:Линейная алгебра и аналитическая геометрия
LOCATION:ГЗ 122
END:VEVENT
END:VCALENDAR