BEGIN:VCALENDAR
VERSION:2.0
PRODID:-//spbstu.ru//ical//RU
NAME:Расписание группы 5030103/50001
X-WR-CALNAME:Расписание группы 5030103/50001
TIMEZONE-ID:Europe/Moscow
X-WR-TIMEZONE:Europe/Moscow
BEGIN:VEVENT
UID:g26c@192.168.245.71:3006
SEQUENCE:0
DTSTAMP:20260425T162851Z
DTSTART:20251020T070000Z
DTEND:20251020T084000Z
SUMMARY:Физика
LOCATION:ГЗ 283
END:VEVENT
BEGIN:VEVENT
UID:8402@192.168.245.71:3006
SEQUENCE:0
DTSTAMP:20260425T162851Z
DTSTART:20251020T090000Z
DTEND:20251020T104000Z
SUMMARY:Линейная алгебра и аналитическая геометрия
LOCATION:3 к. 211
END:VEVENT
BEGIN:VEVENT
UID:yibr@192.168.245.71:3006
SEQUENCE:0
DTSTAMP:20260425T162851Z
DTSTART:20251020T110000Z
DTEND:20251020T124000Z
SUMMARY:Физика
LOCATION:ГЗ 155
END:VEVENT
BEGIN:VEVENT
UID:20n5@192.168.245.71:3006
SEQUENCE:0
DTSTAMP:20260425T162851Z
DTSTART:20251020T110000Z
DTEND:20251020T124000Z
SUMMARY:Физика
LOCATION:ГЗ 155
END:VEVENT
BEGIN:VEVENT
UID:dxxm@192.168.245.71:3006
SEQUENCE:0
DTSTAMP:20260425T162851Z
DTSTART:20251020T130000Z
DTEND:20251020T144000Z
SUMMARY:Творческие семестры
LOCATION:ГЗ Белый зал
END:VEVENT
BEGIN:VEVENT
UID:udlt@192.168.245.71:3006
SEQUENCE:0
DTSTAMP:20260425T162851Z
DTSTART:20251021T070000Z
DTEND:20251021T084000Z
SUMMARY:Информатика
LOCATION:Мех. к. БМ
END:VEVENT
BEGIN:VEVENT
UID:cg86@192.168.245.71:3006
SEQUENCE:0
DTSTAMP:20260425T162851Z
DTSTART:20251021T090000Z
DTEND:20251021T104000Z
SUMMARY:Математический анализ
LOCATION:ГЗ 305
END:VEVENT
BEGIN:VEVENT
UID:s060@192.168.245.71:3006
SEQUENCE:0
DTSTAMP:20260425T162851Z
DTSTART:20251021T110000Z
DTEND:20251021T124000Z
SUMMARY:Основы цифровых технологий
LOCATION:НИК А2.07
END:VEVENT
BEGIN:VEVENT
UID:jb7f@192.168.245.71:3006
SEQUENCE:0
DTSTAMP:20260425T162851Z
DTSTART:20251021T150000Z
DTEND:20251021T164000Z
SUMMARY:Русский язык как иностранный
LOCATION:15 к. 330
END:VEVENT
BEGIN:VEVENT
UID:9p6m@192.168.245.71:3006
SEQUENCE:0
DTSTAMP:20260425T162851Z
DTSTART:20251022T070000Z
DTEND:20251022T084000Z
SUMMARY:Элективная физическая культура и спорт
LOCATION:СК Секции
END:VEVENT
BEGIN:VEVENT
UID:cbnx@192.168.245.71:3006
SEQUENCE:0
DTSTAMP:20260425T162851Z
DTSTART:20251022T090000Z
DTEND:20251022T104000Z
SUMMARY:Линейная алгебра и аналитическая геометрия
LOCATION:ГЗ 305
END:VEVENT
BEGIN:VEVENT
UID:hksg@192.168.245.71:3006
SEQUENCE:0
DTSTAMP:20260425T162851Z
DTSTART:20251022T130000Z
DTEND:20251022T144000Z
SUMMARY:Физика
LOCATION:ГЗ 106
END:VEVENT
BEGIN:VEVENT
UID:wfsy@192.168.245.71:3006
SEQUENCE:0
DTSTAMP:20260425T162851Z
DTSTART:20251022T150000Z
DTEND:20251022T164000Z
SUMMARY:Факультатив по физике
LOCATION:ГЗ 161
END:VEVENT
BEGIN:VEVENT
UID:ircg@192.168.245.71:3006
SEQUENCE:0
DTSTAMP:20260425T162851Z
DTSTART:20251023T070000Z
DTEND:20251023T084000Z
SUMMARY:Математический анализ
LOCATION:Мех. к. БМ
END:VEVENT
BEGIN:VEVENT
UID:337h@192.168.245.71:3006
SEQUENCE:0
DTSTAMP:20260425T162851Z
DTSTART:20251023T090000Z
DTEND:20251023T104000Z
SUMMARY:Физика
LOCATION:ГЗ 245
END:VEVENT
BEGIN:VEVENT
UID:yzhg@192.168.245.71:3006
SEQUENCE:0
DTSTAMP:20260425T162851Z
DTSTART:20251023T110000Z
DTEND:20251023T124000Z
SUMMARY:Информатика
LOCATION:НИК А2.07
END:VEVENT
BEGIN:VEVENT
UID:1b02@192.168.245.71:3006
SEQUENCE:0
DTSTAMP:20260425T162851Z
DTSTART:20251023T130000Z
DTEND:20251023T144000Z
SUMMARY:Основы российской государственности
LOCATION:НИК В2.02
END:VEVENT
BEGIN:VEVENT
UID:r8cw@192.168.245.71:3006
SEQUENCE:0
DTSTAMP:20260425T162851Z
DTSTART:20251024T050000Z
DTEND:20251024T064000Z
SUMMARY:Иностранный язык: Русский язык как иностранный
LOCATION:3 к. 501
END:VEVENT
BEGIN:VEVENT
UID:f97g@192.168.245.71:3006
SEQUENCE:0
DTSTAMP:20260425T162851Z
DTSTART:20251024T070000Z
DTEND:20251024T084000Z
SUMMARY:Физика
LOCATION:ГЗ 324
END:VEVENT
BEGIN:VEVENT
UID:pg76@192.168.245.71:3006
SEQUENCE:0
DTSTAMP:20260425T162851Z
DTSTART:20251024T090000Z
DTEND:20251024T104000Z
SUMMARY:Иностранный язык: Базовый курс
LOCATION:ГЗ 254
END:VEVENT
BEGIN:VEVENT
UID:0zaz@192.168.245.71:3006
SEQUENCE:0
DTSTAMP:20260425T162851Z
DTSTART:20251024T110000Z
DTEND:20251024T124000Z
SUMMARY:Математический анализ
LOCATION:ГЗ 106
END:VEVENT
BEGIN:VEVENT
UID:wbes@192.168.245.71:3006
SEQUENCE:0
DTSTAMP:20260425T162851Z
DTSTART:20251024T130000Z
DTEND:20251024T144000Z
SUMMARY:Экономическая культура
LOCATION:ГЗ 181
END:VEVENT
BEGIN:VEVENT
UID:hrs0@192.168.245.71:3006
SEQUENCE:0
DTSTAMP:20260425T162851Z
DTSTART:20251024T150000Z
DTEND:20251024T164000Z
SUMMARY:Факультатив по математике
LOCATION:ГЗ 329
END:VEVENT
BEGIN:VEVENT
UID:rcef@192.168.245.71:3006
SEQUENCE:0
DTSTAMP:20260425T162851Z
DTSTART:20251025T050000Z
DTEND:20251025T064000Z
SUMMARY:Элективная физическая культура и спорт
LOCATION:СК Секции
END:VEVENT
BEGIN:VEVENT
UID:pket@192.168.245.71:3006
SEQUENCE:0
DTSTAMP:20260425T162851Z
DTSTART:20251025T130000Z
DTEND:20251025T144000Z
SUMMARY:Иностранный язык: Русский язык как иностранный
LOCATION:3 к. 211
END:VEVENT
END:VCALENDAR