BEGIN:VCALENDAR
VERSION:2.0
PRODID:-//spbstu.ru//ical//RU
NAME:Расписание группы 5030103/50001
X-WR-CALNAME:Расписание группы 5030103/50001
TIMEZONE-ID:Europe/Moscow
X-WR-TIMEZONE:Europe/Moscow
BEGIN:VEVENT
UID:9ixc@192.168.245.71:3006
SEQUENCE:0
DTSTAMP:20260422T061721Z
DTSTART:20260323T070000Z
DTEND:20260323T084000Z
SUMMARY:История России
LOCATION:ГЗ 283
END:VEVENT
BEGIN:VEVENT
UID:9alo@192.168.245.71:3006
SEQUENCE:0
DTSTAMP:20260422T061721Z
DTSTART:20260323T090000Z
DTEND:20260323T104000Z
SUMMARY:Физика
LOCATION:ГЗ 186 А
END:VEVENT
BEGIN:VEVENT
UID:rua6@192.168.245.71:3006
SEQUENCE:0
DTSTAMP:20260422T061721Z
DTSTART:20260323T090000Z
DTEND:20260323T104000Z
SUMMARY:Физика
LOCATION:ГЗ 186 А
END:VEVENT
BEGIN:VEVENT
UID:p8w6@192.168.245.71:3006
SEQUENCE:0
DTSTAMP:20260422T061721Z
DTSTART:20260323T110000Z
DTEND:20260323T124000Z
SUMMARY:Линейная алгебра и аналитическая геометрия
LOCATION:ГЗ 242
END:VEVENT
BEGIN:VEVENT
UID:yk0e@192.168.245.71:3006
SEQUENCE:0
DTSTAMP:20260422T061721Z
DTSTART:20260323T130000Z
DTEND:20260323T144000Z
SUMMARY:Информатика
LOCATION:2 к. 265
END:VEVENT
BEGIN:VEVENT
UID:6191@192.168.245.71:3006
SEQUENCE:0
DTSTAMP:20260422T061721Z
DTSTART:20260323T143000Z
DTEND:20260323T154500Z
SUMMARY:Информатика
LOCATION:2 к. 265
END:VEVENT
BEGIN:VEVENT
UID:5bdo@192.168.245.71:3006
SEQUENCE:0
DTSTAMP:20260422T061721Z
DTSTART:20260324T070000Z
DTEND:20260324T084000Z
SUMMARY:Основы программирования и алгоритмизации
LOCATION:НИК А2.07
END:VEVENT
BEGIN:VEVENT
UID:83tk@192.168.245.71:3006
SEQUENCE:0
DTSTAMP:20260422T061721Z
DTSTART:20260324T090000Z
DTEND:20260324T104000Z
SUMMARY:Физика
LOCATION:ГЗ 324
END:VEVENT
BEGIN:VEVENT
UID:d695@192.168.245.71:3006
SEQUENCE:0
DTSTAMP:20260422T061721Z
DTSTART:20260324T110000Z
DTEND:20260324T124000Z
SUMMARY:Математический анализ
LOCATION:ГЗ 305
END:VEVENT
BEGIN:VEVENT
UID:te2p@192.168.245.71:3006
SEQUENCE:0
DTSTAMP:20260422T061721Z
DTSTART:20260324T150000Z
DTEND:20260324T163000Z
SUMMARY:Математический анализ
LOCATION:ГЗ 215
END:VEVENT
BEGIN:VEVENT
UID:akap@192.168.245.71:3006
SEQUENCE:0
DTSTAMP:20260422T061721Z
DTSTART:20260325T050000Z
DTEND:20260325T064000Z
SUMMARY:Иностранный язык: Русский язык как иностранный
LOCATION:НИК В2.18
END:VEVENT
BEGIN:VEVENT
UID:0ddg@192.168.245.71:3006
SEQUENCE:0
DTSTAMP:20260422T061721Z
DTSTART:20260325T070000Z
DTEND:20260325T084000Z
SUMMARY:Элективная физическая культура и спорт
LOCATION:СК Секции
END:VEVENT
BEGIN:VEVENT
UID:kei6@192.168.245.71:3006
SEQUENCE:0
DTSTAMP:20260422T061721Z
DTSTART:20260325T090000Z
DTEND:20260325T104000Z
SUMMARY:Линейная алгебра и аналитическая геометрия
LOCATION:ГЗ 329
END:VEVENT
BEGIN:VEVENT
UID:2tma@192.168.245.71:3006
SEQUENCE:0
DTSTAMP:20260422T061721Z
DTSTART:20260325T110000Z
DTEND:20260325T124000Z
SUMMARY:Иностранный язык: Базовый курс
LOCATION:ГЗ 152
END:VEVENT
BEGIN:VEVENT
UID:r6g9@192.168.245.71:3006
SEQUENCE:0
DTSTAMP:20260422T061721Z
DTSTART:20260326T050000Z
DTEND:20260326T064000Z
SUMMARY:Иностранный язык: Русский язык как иностранный
LOCATION:НИК В2.18
END:VEVENT
BEGIN:VEVENT
UID:o2ad@192.168.245.71:3006
SEQUENCE:0
DTSTAMP:20260422T061721Z
DTSTART:20260326T070000Z
DTEND:20260326T084000Z
SUMMARY:Математический анализ
LOCATION:Мех. к. БМ
END:VEVENT
BEGIN:VEVENT
UID:d961@192.168.245.71:3006
SEQUENCE:0
DTSTAMP:20260422T061721Z
DTSTART:20260326T090000Z
DTEND:20260326T104000Z
SUMMARY:Математический анализ
LOCATION:ГЗ 279
END:VEVENT
BEGIN:VEVENT
UID:xdjl@192.168.245.71:3006
SEQUENCE:0
DTSTAMP:20260422T061721Z
DTSTART:20260326T110000Z
DTEND:20260326T124000Z
SUMMARY:Физика
LOCATION:ГЗ 324
END:VEVENT
BEGIN:VEVENT
UID:5ssu@192.168.245.71:3006
SEQUENCE:0
DTSTAMP:20260422T061721Z
DTSTART:20260326T130000Z
DTEND:20260326T144000Z
SUMMARY:Физика
LOCATION:ГЗ 278
END:VEVENT
BEGIN:VEVENT
UID:2wn8@192.168.245.71:3006
SEQUENCE:0
DTSTAMP:20260422T061721Z
DTSTART:20260326T150000Z
DTEND:20260326T154000Z
SUMMARY:Физика
LOCATION:ГЗ 278
END:VEVENT
BEGIN:VEVENT
UID:avbc@192.168.245.71:3006
SEQUENCE:0
DTSTAMP:20260422T061721Z
DTSTART:20260327T070000Z
DTEND:20260327T084000Z
SUMMARY:Математический анализ
LOCATION:ГЗ 241
END:VEVENT
BEGIN:VEVENT
UID:3yod@192.168.245.71:3006
SEQUENCE:0
DTSTAMP:20260422T061721Z
DTSTART:20260327T090000Z
DTEND:20260327T104000Z
SUMMARY:Информатика
LOCATION:НИК А2.07
END:VEVENT
BEGIN:VEVENT
UID:ip87@192.168.245.71:3006
SEQUENCE:0
DTSTAMP:20260422T061721Z
DTSTART:20260328T050000Z
DTEND:20260328T064000Z
SUMMARY:Элективная физическая культура и спорт
LOCATION:СК Секции
END:VEVENT
BEGIN:VEVENT
UID:14b3@192.168.245.71:3006
SEQUENCE:0
DTSTAMP:20260422T061721Z
DTSTART:20260328T090000Z
DTEND:20260328T103000Z
SUMMARY:Линейная алгебра и аналитическая геометрия
LOCATION:ГЗ 280
END:VEVENT
END:VCALENDAR