BEGIN:VCALENDAR
VERSION:2.0
PRODID:-//spbstu.ru//ical//RU
NAME:Расписание группы 5030103/50001
X-WR-CALNAME:Расписание группы 5030103/50001
TIMEZONE-ID:Europe/Moscow
X-WR-TIMEZONE:Europe/Moscow
BEGIN:VEVENT
UID:obhp@192.168.245.71:3006
SEQUENCE:0
DTSTAMP:20260422T124024Z
DTSTART:20260310T070000Z
DTEND:20260310T084000Z
SUMMARY:Основы программирования и алгоритмизации
LOCATION:НИК А2.07
END:VEVENT
BEGIN:VEVENT
UID:tap9@192.168.245.71:3006
SEQUENCE:0
DTSTAMP:20260422T124024Z
DTSTART:20260310T090000Z
DTEND:20260310T104000Z
SUMMARY:Физика
LOCATION:ГЗ 324
END:VEVENT
BEGIN:VEVENT
UID:z9oj@192.168.245.71:3006
SEQUENCE:0
DTSTAMP:20260422T124024Z
DTSTART:20260310T110000Z
DTEND:20260310T124000Z
SUMMARY:Математический анализ
LOCATION:ГЗ 305
END:VEVENT
BEGIN:VEVENT
UID:41mj@192.168.245.71:3006
SEQUENCE:0
DTSTAMP:20260422T124024Z
DTSTART:20260311T050000Z
DTEND:20260311T064000Z
SUMMARY:Иностранный язык: Русский язык как иностранный
LOCATION:НИК В2.18
END:VEVENT
BEGIN:VEVENT
UID:944u@192.168.245.71:3006
SEQUENCE:0
DTSTAMP:20260422T124024Z
DTSTART:20260311T070000Z
DTEND:20260311T084000Z
SUMMARY:Элективная физическая культура и спорт
LOCATION:СК Секции
END:VEVENT
BEGIN:VEVENT
UID:jzxz@192.168.245.71:3006
SEQUENCE:0
DTSTAMP:20260422T124024Z
DTSTART:20260311T090000Z
DTEND:20260311T104000Z
SUMMARY:Линейная алгебра и аналитическая геометрия
LOCATION:ГЗ 329
END:VEVENT
BEGIN:VEVENT
UID:xjkn@192.168.245.71:3006
SEQUENCE:0
DTSTAMP:20260422T124024Z
DTSTART:20260311T110000Z
DTEND:20260311T124000Z
SUMMARY:Иностранный язык: Базовый курс
LOCATION:ГЗ 152
END:VEVENT
BEGIN:VEVENT
UID:95zg@192.168.245.71:3006
SEQUENCE:0
DTSTAMP:20260422T124024Z
DTSTART:20260312T050000Z
DTEND:20260312T064000Z
SUMMARY:Иностранный язык: Русский язык как иностранный
LOCATION:НИК В2.18
END:VEVENT
BEGIN:VEVENT
UID:pq4o@192.168.245.71:3006
SEQUENCE:0
DTSTAMP:20260422T124024Z
DTSTART:20260312T070000Z
DTEND:20260312T084000Z
SUMMARY:Математический анализ
LOCATION:Мех. к. БМ
END:VEVENT
BEGIN:VEVENT
UID:y6qq@192.168.245.71:3006
SEQUENCE:0
DTSTAMP:20260422T124024Z
DTSTART:20260312T090000Z
DTEND:20260312T104000Z
SUMMARY:Математический анализ
LOCATION:ГЗ 279
END:VEVENT
BEGIN:VEVENT
UID:2wdc@192.168.245.71:3006
SEQUENCE:0
DTSTAMP:20260422T124024Z
DTSTART:20260312T110000Z
DTEND:20260312T124000Z
SUMMARY:Физика
LOCATION:ГЗ 324
END:VEVENT
BEGIN:VEVENT
UID:m9a1@192.168.245.71:3006
SEQUENCE:0
DTSTAMP:20260422T124024Z
DTSTART:20260312T130000Z
DTEND:20260312T144000Z
SUMMARY:Физика
LOCATION:ГЗ 278
END:VEVENT
BEGIN:VEVENT
UID:envh@192.168.245.71:3006
SEQUENCE:0
DTSTAMP:20260422T124024Z
DTSTART:20260312T150000Z
DTEND:20260312T154000Z
SUMMARY:Физика
LOCATION:ГЗ 278
END:VEVENT
BEGIN:VEVENT
UID:tfgd@192.168.245.71:3006
SEQUENCE:0
DTSTAMP:20260422T124024Z
DTSTART:20260313T070000Z
DTEND:20260313T084000Z
SUMMARY:Математический анализ
LOCATION:ГЗ 241
END:VEVENT
BEGIN:VEVENT
UID:tm5b@192.168.245.71:3006
SEQUENCE:0
DTSTAMP:20260422T124024Z
DTSTART:20260313T090000Z
DTEND:20260313T104000Z
SUMMARY:Информатика
LOCATION:НИК А2.07
END:VEVENT
BEGIN:VEVENT
UID:6glg@192.168.245.71:3006
SEQUENCE:0
DTSTAMP:20260422T124024Z
DTSTART:20260314T050000Z
DTEND:20260314T064000Z
SUMMARY:Элективная физическая культура и спорт
LOCATION:СК Секции
END:VEVENT
END:VCALENDAR