BEGIN:VCALENDAR
VERSION:2.0
PRODID:-//spbstu.ru//ical//RU
NAME:Расписание группы 5030103/50001
X-WR-CALNAME:Расписание группы 5030103/50001
TIMEZONE-ID:Europe/Moscow
X-WR-TIMEZONE:Europe/Moscow
BEGIN:VEVENT
UID:9vc2@192.168.245.71:3006
SEQUENCE:0
DTSTAMP:20260421T115145Z
DTSTART:20260420T070000Z
DTEND:20260420T084000Z
SUMMARY:История России
LOCATION:ГЗ 283
END:VEVENT
BEGIN:VEVENT
UID:x51x@192.168.245.71:3006
SEQUENCE:0
DTSTAMP:20260421T115145Z
DTSTART:20260420T090000Z
DTEND:20260420T104000Z
SUMMARY:Физика
LOCATION:ГЗ 186 А
END:VEVENT
BEGIN:VEVENT
UID:ip80@192.168.245.71:3006
SEQUENCE:0
DTSTAMP:20260421T115145Z
DTSTART:20260420T090000Z
DTEND:20260420T104000Z
SUMMARY:Физика
LOCATION:ГЗ 186 А
END:VEVENT
BEGIN:VEVENT
UID:996c@192.168.245.71:3006
SEQUENCE:0
DTSTAMP:20260421T115145Z
DTSTART:20260420T110000Z
DTEND:20260420T124000Z
SUMMARY:Линейная алгебра и аналитическая геометрия
LOCATION:ГЗ 242
END:VEVENT
BEGIN:VEVENT
UID:rore@192.168.245.71:3006
SEQUENCE:0
DTSTAMP:20260421T115145Z
DTSTART:20260420T130000Z
DTEND:20260420T144000Z
SUMMARY:Информатика
LOCATION:2 к. 265
END:VEVENT
BEGIN:VEVENT
UID:wq96@192.168.245.71:3006
SEQUENCE:0
DTSTAMP:20260421T115145Z
DTSTART:20260421T070000Z
DTEND:20260421T084000Z
SUMMARY:Основы программирования и алгоритмизации
LOCATION:НИК А2.07
END:VEVENT
BEGIN:VEVENT
UID:tgn3@192.168.245.71:3006
SEQUENCE:0
DTSTAMP:20260421T115145Z
DTSTART:20260421T090000Z
DTEND:20260421T104000Z
SUMMARY:Физика
LOCATION:ГЗ 324
END:VEVENT
BEGIN:VEVENT
UID:owtl@192.168.245.71:3006
SEQUENCE:0
DTSTAMP:20260421T115145Z
DTSTART:20260421T110000Z
DTEND:20260421T124000Z
SUMMARY:Математический анализ
LOCATION:ГЗ 305
END:VEVENT
BEGIN:VEVENT
UID:w1az@192.168.245.71:3006
SEQUENCE:0
DTSTAMP:20260421T115145Z
DTSTART:20260422T050000Z
DTEND:20260422T064000Z
SUMMARY:Иностранный язык: Русский язык как иностранный
LOCATION:НИК В2.18
END:VEVENT
BEGIN:VEVENT
UID:777y@192.168.245.71:3006
SEQUENCE:0
DTSTAMP:20260421T115145Z
DTSTART:20260422T070000Z
DTEND:20260422T084000Z
SUMMARY:Элективная физическая культура и спорт
LOCATION:СК Секции
END:VEVENT
BEGIN:VEVENT
UID:2k9d@192.168.245.71:3006
SEQUENCE:0
DTSTAMP:20260421T115145Z
DTSTART:20260422T090000Z
DTEND:20260422T104000Z
SUMMARY:Линейная алгебра и аналитическая геометрия
LOCATION:ГЗ 329
END:VEVENT
BEGIN:VEVENT
UID:roop@192.168.245.71:3006
SEQUENCE:0
DTSTAMP:20260421T115145Z
DTSTART:20260422T110000Z
DTEND:20260422T124000Z
SUMMARY:Иностранный язык: Базовый курс
LOCATION:ГЗ 152
END:VEVENT
BEGIN:VEVENT
UID:qpn8@192.168.245.71:3006
SEQUENCE:0
DTSTAMP:20260421T115145Z
DTSTART:20260423T050000Z
DTEND:20260423T064000Z
SUMMARY:Иностранный язык: Русский язык как иностранный
LOCATION:НИК В2.18
END:VEVENT
BEGIN:VEVENT
UID:uzhw@192.168.245.71:3006
SEQUENCE:0
DTSTAMP:20260421T115145Z
DTSTART:20260423T070000Z
DTEND:20260423T084000Z
SUMMARY:Математический анализ
LOCATION:Мех. к. БМ
END:VEVENT
BEGIN:VEVENT
UID:3p6a@192.168.245.71:3006
SEQUENCE:0
DTSTAMP:20260421T115145Z
DTSTART:20260423T090000Z
DTEND:20260423T104000Z
SUMMARY:Математический анализ
LOCATION:ГЗ 279
END:VEVENT
BEGIN:VEVENT
UID:u8ef@192.168.245.71:3006
SEQUENCE:0
DTSTAMP:20260421T115145Z
DTSTART:20260423T110000Z
DTEND:20260423T124000Z
SUMMARY:Физика
LOCATION:ГЗ 324
END:VEVENT
BEGIN:VEVENT
UID:xout@192.168.245.71:3006
SEQUENCE:0
DTSTAMP:20260421T115145Z
DTSTART:20260423T130000Z
DTEND:20260423T144000Z
SUMMARY:Физика
LOCATION:ГЗ 278
END:VEVENT
BEGIN:VEVENT
UID:s2ov@192.168.245.71:3006
SEQUENCE:0
DTSTAMP:20260421T115145Z
DTSTART:20260423T150000Z
DTEND:20260423T154000Z
SUMMARY:Физика
LOCATION:ГЗ 278
END:VEVENT
BEGIN:VEVENT
UID:e1xw@192.168.245.71:3006
SEQUENCE:0
DTSTAMP:20260421T115145Z
DTSTART:20260424T070000Z
DTEND:20260424T084000Z
SUMMARY:Математический анализ
LOCATION:ГЗ 241
END:VEVENT
BEGIN:VEVENT
UID:nadi@192.168.245.71:3006
SEQUENCE:0
DTSTAMP:20260421T115145Z
DTSTART:20260424T090000Z
DTEND:20260424T104000Z
SUMMARY:Информатика
LOCATION:НИК А2.07
END:VEVENT
BEGIN:VEVENT
UID:kf62@192.168.245.71:3006
SEQUENCE:0
DTSTAMP:20260421T115145Z
DTSTART:20260425T050000Z
DTEND:20260425T064000Z
SUMMARY:Элективная физическая культура и спорт
LOCATION:СК Секции
END:VEVENT
END:VCALENDAR