BEGIN:VCALENDAR
VERSION:2.0
PRODID:-//spbstu.ru//ical//RU
NAME:Расписание группы 5030103/50001
X-WR-CALNAME:Расписание группы 5030103/50001
TIMEZONE-ID:Europe/Moscow
X-WR-TIMEZONE:Europe/Moscow
BEGIN:VEVENT
UID:zwhl@192.168.245.71:3006
SEQUENCE:0
DTSTAMP:20260422T011700Z
DTSTART:20260406T070000Z
DTEND:20260406T084000Z
SUMMARY:История России
LOCATION:ГЗ 283
END:VEVENT
BEGIN:VEVENT
UID:kvb5@192.168.245.71:3006
SEQUENCE:0
DTSTAMP:20260422T011700Z
DTSTART:20260406T090000Z
DTEND:20260406T104000Z
SUMMARY:Физика
LOCATION:ГЗ 186 А
END:VEVENT
BEGIN:VEVENT
UID:cqmk@192.168.245.71:3006
SEQUENCE:0
DTSTAMP:20260422T011700Z
DTSTART:20260406T090000Z
DTEND:20260406T104000Z
SUMMARY:Физика
LOCATION:ГЗ 186 А
END:VEVENT
BEGIN:VEVENT
UID:d5tw@192.168.245.71:3006
SEQUENCE:0
DTSTAMP:20260422T011700Z
DTSTART:20260406T110000Z
DTEND:20260406T124000Z
SUMMARY:Линейная алгебра и аналитическая геометрия
LOCATION:ГЗ 242
END:VEVENT
BEGIN:VEVENT
UID:purh@192.168.245.71:3006
SEQUENCE:0
DTSTAMP:20260422T011700Z
DTSTART:20260406T130000Z
DTEND:20260406T144000Z
SUMMARY:Информатика
LOCATION:2 к. 265
END:VEVENT
BEGIN:VEVENT
UID:843a@192.168.245.71:3006
SEQUENCE:0
DTSTAMP:20260422T011700Z
DTSTART:20260407T070000Z
DTEND:20260407T084000Z
SUMMARY:Основы программирования и алгоритмизации
LOCATION:НИК А2.07
END:VEVENT
BEGIN:VEVENT
UID:ffeh@192.168.245.71:3006
SEQUENCE:0
DTSTAMP:20260422T011700Z
DTSTART:20260407T090000Z
DTEND:20260407T104000Z
SUMMARY:Физика
LOCATION:ГЗ 324
END:VEVENT
BEGIN:VEVENT
UID:twmv@192.168.245.71:3006
SEQUENCE:0
DTSTAMP:20260422T011700Z
DTSTART:20260407T110000Z
DTEND:20260407T124000Z
SUMMARY:Математический анализ
LOCATION:ГЗ 305
END:VEVENT
BEGIN:VEVENT
UID:4jxk@192.168.245.71:3006
SEQUENCE:0
DTSTAMP:20260422T011700Z
DTSTART:20260408T050000Z
DTEND:20260408T064000Z
SUMMARY:Иностранный язык: Русский язык как иностранный
LOCATION:НИК В2.18
END:VEVENT
BEGIN:VEVENT
UID:ehp9@192.168.245.71:3006
SEQUENCE:0
DTSTAMP:20260422T011700Z
DTSTART:20260408T070000Z
DTEND:20260408T084000Z
SUMMARY:Элективная физическая культура и спорт
LOCATION:СК Секции
END:VEVENT
BEGIN:VEVENT
UID:oqrp@192.168.245.71:3006
SEQUENCE:0
DTSTAMP:20260422T011700Z
DTSTART:20260408T090000Z
DTEND:20260408T104000Z
SUMMARY:Линейная алгебра и аналитическая геометрия
LOCATION:ГЗ 329
END:VEVENT
BEGIN:VEVENT
UID:gc71@192.168.245.71:3006
SEQUENCE:0
DTSTAMP:20260422T011700Z
DTSTART:20260408T110000Z
DTEND:20260408T124000Z
SUMMARY:Иностранный язык: Базовый курс
LOCATION:ГЗ 152
END:VEVENT
BEGIN:VEVENT
UID:8zbx@192.168.245.71:3006
SEQUENCE:0
DTSTAMP:20260422T011700Z
DTSTART:20260408T130000Z
DTEND:20260408T143000Z
SUMMARY:Физика
LOCATION:ГЗ 324
END:VEVENT
BEGIN:VEVENT
UID:w9x0@192.168.245.71:3006
SEQUENCE:0
DTSTAMP:20260422T011700Z
DTSTART:20260408T130000Z
DTEND:20260408T143000Z
SUMMARY:Физика
LOCATION:ГЗ 324
END:VEVENT
BEGIN:VEVENT
UID:d51p@192.168.245.71:3006
SEQUENCE:0
DTSTAMP:20260422T011700Z
DTSTART:20260408T130000Z
DTEND:20260408T143000Z
SUMMARY:Физика
LOCATION:ГЗ 324
END:VEVENT
BEGIN:VEVENT
UID:ztzk@192.168.245.71:3006
SEQUENCE:0
DTSTAMP:20260422T011700Z
DTSTART:20260409T050000Z
DTEND:20260409T064000Z
SUMMARY:Иностранный язык: Русский язык как иностранный
LOCATION:НИК В2.18
END:VEVENT
BEGIN:VEVENT
UID:26e7@192.168.245.71:3006
SEQUENCE:0
DTSTAMP:20260422T011700Z
DTSTART:20260409T070000Z
DTEND:20260409T084000Z
SUMMARY:Математический анализ
LOCATION:Мех. к. БМ
END:VEVENT
BEGIN:VEVENT
UID:j9q9@192.168.245.71:3006
SEQUENCE:0
DTSTAMP:20260422T011700Z
DTSTART:20260409T090000Z
DTEND:20260409T104000Z
SUMMARY:Математический анализ
LOCATION:ГЗ 279
END:VEVENT
BEGIN:VEVENT
UID:5o9g@192.168.245.71:3006
SEQUENCE:0
DTSTAMP:20260422T011700Z
DTSTART:20260409T110000Z
DTEND:20260409T124000Z
SUMMARY:Физика
LOCATION:ГЗ 324
END:VEVENT
BEGIN:VEVENT
UID:4clm@192.168.245.71:3006
SEQUENCE:0
DTSTAMP:20260422T011700Z
DTSTART:20260409T130000Z
DTEND:20260409T144000Z
SUMMARY:Физика
LOCATION:ГЗ 278
END:VEVENT
BEGIN:VEVENT
UID:rri1@192.168.245.71:3006
SEQUENCE:0
DTSTAMP:20260422T011700Z
DTSTART:20260409T150000Z
DTEND:20260409T154000Z
SUMMARY:Физика
LOCATION:ГЗ 278
END:VEVENT
BEGIN:VEVENT
UID:ck3o@192.168.245.71:3006
SEQUENCE:0
DTSTAMP:20260422T011700Z
DTSTART:20260410T070000Z
DTEND:20260410T084000Z
SUMMARY:Математический анализ
LOCATION:ГЗ 241
END:VEVENT
BEGIN:VEVENT
UID:enml@192.168.245.71:3006
SEQUENCE:0
DTSTAMP:20260422T011700Z
DTSTART:20260410T090000Z
DTEND:20260410T104000Z
SUMMARY:Информатика
LOCATION:НИК А2.07
END:VEVENT
BEGIN:VEVENT
UID:e9u7@192.168.245.71:3006
SEQUENCE:0
DTSTAMP:20260422T011700Z
DTSTART:20260411T050000Z
DTEND:20260411T064000Z
SUMMARY:Элективная физическая культура и спорт
LOCATION:СК Секции
END:VEVENT
END:VCALENDAR