BEGIN:VCALENDAR
VERSION:2.0
PRODID:-//spbstu.ru//ical//RU
NAME:Расписание группы 5030103/50001
X-WR-CALNAME:Расписание группы 5030103/50001
TIMEZONE-ID:Europe/Moscow
X-WR-TIMEZONE:Europe/Moscow
BEGIN:VEVENT
UID:m1cw@192.168.245.71:3006
SEQUENCE:0
DTSTAMP:20260422T011717Z
DTSTART:20260511T070000Z
DTEND:20260511T084000Z
SUMMARY:История России
LOCATION:ГЗ 283
END:VEVENT
BEGIN:VEVENT
UID:27oj@192.168.245.71:3006
SEQUENCE:0
DTSTAMP:20260422T011717Z
DTSTART:20260511T090000Z
DTEND:20260511T104000Z
SUMMARY:Физика
LOCATION:ГЗ 186 А
END:VEVENT
BEGIN:VEVENT
UID:jvdy@192.168.245.71:3006
SEQUENCE:0
DTSTAMP:20260422T011717Z
DTSTART:20260511T090000Z
DTEND:20260511T104000Z
SUMMARY:Физика
LOCATION:ГЗ 186 А
END:VEVENT
BEGIN:VEVENT
UID:gx4z@192.168.245.71:3006
SEQUENCE:0
DTSTAMP:20260422T011717Z
DTSTART:20260511T110000Z
DTEND:20260511T124000Z
SUMMARY:Линейная алгебра и аналитическая геометрия
LOCATION:ГЗ 242
END:VEVENT
BEGIN:VEVENT
UID:hi4u@192.168.245.71:3006
SEQUENCE:0
DTSTAMP:20260422T011717Z
DTSTART:20260511T130000Z
DTEND:20260511T144000Z
SUMMARY:Информатика
LOCATION:2 к. 265
END:VEVENT
BEGIN:VEVENT
UID:koaa@192.168.245.71:3006
SEQUENCE:0
DTSTAMP:20260422T011717Z
DTSTART:20260512T070000Z
DTEND:20260512T084000Z
SUMMARY:Основы программирования и алгоритмизации
LOCATION:НИК А2.07
END:VEVENT
BEGIN:VEVENT
UID:y7av@192.168.245.71:3006
SEQUENCE:0
DTSTAMP:20260422T011717Z
DTSTART:20260512T090000Z
DTEND:20260512T104000Z
SUMMARY:Физика
LOCATION:ГЗ 324
END:VEVENT
BEGIN:VEVENT
UID:ujmj@192.168.245.71:3006
SEQUENCE:0
DTSTAMP:20260422T011717Z
DTSTART:20260512T110000Z
DTEND:20260512T124000Z
SUMMARY:Математический анализ
LOCATION:ГЗ 305
END:VEVENT
BEGIN:VEVENT
UID:9jpx@192.168.245.71:3006
SEQUENCE:0
DTSTAMP:20260422T011717Z
DTSTART:20260513T050000Z
DTEND:20260513T064000Z
SUMMARY:Иностранный язык: Русский язык как иностранный
LOCATION:НИК В2.18
END:VEVENT
BEGIN:VEVENT
UID:h29f@192.168.245.71:3006
SEQUENCE:0
DTSTAMP:20260422T011717Z
DTSTART:20260513T070000Z
DTEND:20260513T084000Z
SUMMARY:Элективная физическая культура и спорт
LOCATION:СК Секции
END:VEVENT
BEGIN:VEVENT
UID:mdn6@192.168.245.71:3006
SEQUENCE:0
DTSTAMP:20260422T011717Z
DTSTART:20260513T090000Z
DTEND:20260513T104000Z
SUMMARY:Линейная алгебра и аналитическая геометрия
LOCATION:ГЗ 329
END:VEVENT
BEGIN:VEVENT
UID:4xnc@192.168.245.71:3006
SEQUENCE:0
DTSTAMP:20260422T011717Z
DTSTART:20260513T110000Z
DTEND:20260513T124000Z
SUMMARY:Иностранный язык: Базовый курс
LOCATION:ГЗ 152
END:VEVENT
BEGIN:VEVENT
UID:uj0k@192.168.245.71:3006
SEQUENCE:0
DTSTAMP:20260422T011717Z
DTSTART:20260514T050000Z
DTEND:20260514T064000Z
SUMMARY:Иностранный язык: Русский язык как иностранный
LOCATION:НИК В2.18
END:VEVENT
BEGIN:VEVENT
UID:e7wr@192.168.245.71:3006
SEQUENCE:0
DTSTAMP:20260422T011717Z
DTSTART:20260514T070000Z
DTEND:20260514T084000Z
SUMMARY:Математический анализ
LOCATION:Мех. к. БМ
END:VEVENT
BEGIN:VEVENT
UID:vcer@192.168.245.71:3006
SEQUENCE:0
DTSTAMP:20260422T011717Z
DTSTART:20260514T090000Z
DTEND:20260514T104000Z
SUMMARY:Математический анализ
LOCATION:ГЗ 279
END:VEVENT
BEGIN:VEVENT
UID:2t25@192.168.245.71:3006
SEQUENCE:0
DTSTAMP:20260422T011717Z
DTSTART:20260514T110000Z
DTEND:20260514T124000Z
SUMMARY:Физика
LOCATION:ГЗ 324
END:VEVENT
BEGIN:VEVENT
UID:16c3@192.168.245.71:3006
SEQUENCE:0
DTSTAMP:20260422T011717Z
DTSTART:20260514T130000Z
DTEND:20260514T144000Z
SUMMARY:Физика
LOCATION:ГЗ 278
END:VEVENT
BEGIN:VEVENT
UID:pdf5@192.168.245.71:3006
SEQUENCE:0
DTSTAMP:20260422T011717Z
DTSTART:20260514T150000Z
DTEND:20260514T154000Z
SUMMARY:Физика
LOCATION:ГЗ 278
END:VEVENT
BEGIN:VEVENT
UID:lqt8@192.168.245.71:3006
SEQUENCE:0
DTSTAMP:20260422T011717Z
DTSTART:20260515T070000Z
DTEND:20260515T084000Z
SUMMARY:Введение в профессиональную деятельность
LOCATION:2 к. 265
END:VEVENT
BEGIN:VEVENT
UID:fskq@192.168.245.71:3006
SEQUENCE:0
DTSTAMP:20260422T011717Z
DTSTART:20260515T090000Z
DTEND:20260515T104000Z
SUMMARY:Информатика
LOCATION:НИК А2.07
END:VEVENT
BEGIN:VEVENT
UID:msd2@192.168.245.71:3006
SEQUENCE:0
DTSTAMP:20260422T011717Z
DTSTART:20260516T050000Z
DTEND:20260516T064000Z
SUMMARY:Элективная физическая культура и спорт
LOCATION:СК Секции
END:VEVENT
BEGIN:VEVENT
UID:umxd@192.168.245.71:3006
SEQUENCE:0
DTSTAMP:20260422T011717Z
DTSTART:20260516T070000Z
DTEND:20260516T084000Z
SUMMARY:История России
LOCATION:ГЗ 305
END:VEVENT
END:VCALENDAR