BEGIN:VCALENDAR
VERSION:2.0
PRODID:-//spbstu.ru//ical//RU
NAME:Расписание группы 5030103/50002
X-WR-CALNAME:Расписание группы 5030103/50002
TIMEZONE-ID:Europe/Moscow
X-WR-TIMEZONE:Europe/Moscow
BEGIN:VEVENT
UID:pikn@192.168.245.71:3006
SEQUENCE:0
DTSTAMP:20260426T022709Z
DTSTART:20260202T060000Z
DTEND:20260202T064000Z
SUMMARY:Математический анализ
LOCATION:ГЗ 241
END:VEVENT
BEGIN:VEVENT
UID:jwz1@192.168.245.71:3006
SEQUENCE:0
DTSTAMP:20260426T022709Z
DTSTART:20260202T070000Z
DTEND:20260202T084000Z
SUMMARY:Математический анализ
LOCATION:ГЗ 241
END:VEVENT
BEGIN:VEVENT
UID:yfhz@192.168.245.71:3006
SEQUENCE:0
DTSTAMP:20260426T022709Z
DTSTART:20260202T090000Z
DTEND:20260202T104000Z
SUMMARY:Линейная алгебра и аналитическая геометрия
LOCATION:ГЗ 242
END:VEVENT
BEGIN:VEVENT
UID:9x9j@192.168.245.71:3006
SEQUENCE:0
DTSTAMP:20260426T022709Z
DTSTART:20260202T110000Z
DTEND:20260202T124000Z
SUMMARY:Физика
LOCATION:ГЗ 186 А
END:VEVENT
BEGIN:VEVENT
UID:hxwn@192.168.245.71:3006
SEQUENCE:0
DTSTAMP:20260426T022709Z
DTSTART:20260202T110000Z
DTEND:20260202T124000Z
SUMMARY:Физика
LOCATION:ГЗ 186 А
END:VEVENT
BEGIN:VEVENT
UID:0rx2@192.168.245.71:3006
SEQUENCE:0
DTSTAMP:20260426T022709Z
DTSTART:20260202T130000Z
DTEND:20260202T144000Z
SUMMARY:Информатика
LOCATION:2 к. 265
END:VEVENT
BEGIN:VEVENT
UID:k50a@192.168.245.71:3006
SEQUENCE:0
DTSTAMP:20260426T022709Z
DTSTART:20260203T050000Z
DTEND:20260203T064000Z
SUMMARY:Основы программирования и алгоритмизации
LOCATION:НИК А2.07
END:VEVENT
BEGIN:VEVENT
UID:8ux8@192.168.245.71:3006
SEQUENCE:0
DTSTAMP:20260426T022709Z
DTSTART:20260203T070000Z
DTEND:20260203T084000Z
SUMMARY:Физика
LOCATION:ГЗ 278
END:VEVENT
BEGIN:VEVENT
UID:qxq6@192.168.245.71:3006
SEQUENCE:0
DTSTAMP:20260426T022709Z
DTSTART:20260203T090000Z
DTEND:20260203T104000Z
SUMMARY:Физика
LOCATION:ГЗ 324
END:VEVENT
BEGIN:VEVENT
UID:r50p@192.168.245.71:3006
SEQUENCE:0
DTSTAMP:20260426T022709Z
DTSTART:20260203T110000Z
DTEND:20260203T124000Z
SUMMARY:Математический анализ
LOCATION:ГЗ 305
END:VEVENT
BEGIN:VEVENT
UID:i1di@192.168.245.71:3006
SEQUENCE:0
DTSTAMP:20260426T022709Z
DTSTART:20260204T050000Z
DTEND:20260204T064000Z
SUMMARY:Иностранный язык: Русский язык как иностранный
LOCATION:НИК В2.18
END:VEVENT
BEGIN:VEVENT
UID:y5yj@192.168.245.71:3006
SEQUENCE:0
DTSTAMP:20260426T022709Z
DTSTART:20260204T090000Z
DTEND:20260204T104000Z
SUMMARY:Линейная алгебра и аналитическая геометрия
LOCATION:ГЗ 329
END:VEVENT
BEGIN:VEVENT
UID:v8yo@192.168.245.71:3006
SEQUENCE:0
DTSTAMP:20260426T022709Z
DTSTART:20260205T050000Z
DTEND:20260205T064000Z
SUMMARY:Иностранный язык: Русский язык как иностранный
LOCATION:НИК В2.18
END:VEVENT
BEGIN:VEVENT
UID:ptdg@192.168.245.71:3006
SEQUENCE:0
DTSTAMP:20260426T022709Z
DTSTART:20260205T070000Z
DTEND:20260205T084000Z
SUMMARY:Математический анализ
LOCATION:Мех. к. БМ
END:VEVENT
BEGIN:VEVENT
UID:uir1@192.168.245.71:3006
SEQUENCE:0
DTSTAMP:20260426T022709Z
DTSTART:20260205T110000Z
DTEND:20260205T124000Z
SUMMARY:Физика
LOCATION:ГЗ 324
END:VEVENT
BEGIN:VEVENT
UID:xjw5@192.168.245.71:3006
SEQUENCE:0
DTSTAMP:20260426T022709Z
DTSTART:20260206T070000Z
DTEND:20260206T084000Z
SUMMARY:Введение в профессиональную деятельность
LOCATION:2 к. 265
END:VEVENT
BEGIN:VEVENT
UID:spa8@192.168.245.71:3006
SEQUENCE:0
DTSTAMP:20260426T022709Z
DTSTART:20260206T090000Z
DTEND:20260206T104000Z
SUMMARY:История России
LOCATION:Мех. к. БМ
END:VEVENT
BEGIN:VEVENT
UID:3255@192.168.245.71:3006
SEQUENCE:0
DTSTAMP:20260426T022709Z
DTSTART:20260206T110000Z
DTEND:20260206T124000Z
SUMMARY:Информатика
LOCATION:НИК А2.07
END:VEVENT
BEGIN:VEVENT
UID:zq33@192.168.245.71:3006
SEQUENCE:0
DTSTAMP:20260426T022709Z
DTSTART:20260206T130000Z
DTEND:20260206T144000Z
SUMMARY:Иностранный язык: Базовый курс
LOCATION:ГЗ 219
END:VEVENT
BEGIN:VEVENT
UID:1y4l@192.168.245.71:3006
SEQUENCE:0
DTSTAMP:20260426T022709Z
DTSTART:20260207T070000Z
DTEND:20260207T084000Z
SUMMARY:История России
LOCATION:ГЗ 305
END:VEVENT
END:VCALENDAR