BEGIN:VCALENDAR
VERSION:2.0
PRODID:-//spbstu.ru//ical//RU
NAME:Расписание группы 5030103/50002
X-WR-CALNAME:Расписание группы 5030103/50002
TIMEZONE-ID:Europe/Moscow
X-WR-TIMEZONE:Europe/Moscow
BEGIN:VEVENT
UID:3gon@192.168.245.71:3006
SEQUENCE:0
DTSTAMP:20260421T185630Z
DTSTART:20260504T060000Z
DTEND:20260504T064000Z
SUMMARY:Математический анализ
LOCATION:ГЗ 241
END:VEVENT
BEGIN:VEVENT
UID:1jrv@192.168.245.71:3006
SEQUENCE:0
DTSTAMP:20260421T185630Z
DTSTART:20260504T070000Z
DTEND:20260504T084000Z
SUMMARY:Математический анализ
LOCATION:ГЗ 241
END:VEVENT
BEGIN:VEVENT
UID:b5vt@192.168.245.71:3006
SEQUENCE:0
DTSTAMP:20260421T185630Z
DTSTART:20260504T090000Z
DTEND:20260504T104000Z
SUMMARY:Линейная алгебра и аналитическая геометрия
LOCATION:ГЗ 242
END:VEVENT
BEGIN:VEVENT
UID:9qcv@192.168.245.71:3006
SEQUENCE:0
DTSTAMP:20260421T185630Z
DTSTART:20260504T110000Z
DTEND:20260504T124000Z
SUMMARY:Физика
LOCATION:ГЗ 186 А
END:VEVENT
BEGIN:VEVENT
UID:q9v0@192.168.245.71:3006
SEQUENCE:0
DTSTAMP:20260421T185630Z
DTSTART:20260504T110000Z
DTEND:20260504T124000Z
SUMMARY:Физика
LOCATION:ГЗ 186 А
END:VEVENT
BEGIN:VEVENT
UID:7xfi@192.168.245.71:3006
SEQUENCE:0
DTSTAMP:20260421T185630Z
DTSTART:20260504T130000Z
DTEND:20260504T144000Z
SUMMARY:Информатика
LOCATION:2 к. 265
END:VEVENT
BEGIN:VEVENT
UID:guqb@192.168.245.71:3006
SEQUENCE:0
DTSTAMP:20260421T185630Z
DTSTART:20260505T050000Z
DTEND:20260505T064000Z
SUMMARY:Основы программирования и алгоритмизации
LOCATION:НИК А2.07
END:VEVENT
BEGIN:VEVENT
UID:nm7m@192.168.245.71:3006
SEQUENCE:0
DTSTAMP:20260421T185630Z
DTSTART:20260505T070000Z
DTEND:20260505T084000Z
SUMMARY:Физика
LOCATION:ГЗ 278
END:VEVENT
BEGIN:VEVENT
UID:lrc8@192.168.245.71:3006
SEQUENCE:0
DTSTAMP:20260421T185630Z
DTSTART:20260505T090000Z
DTEND:20260505T104000Z
SUMMARY:Физика
LOCATION:ГЗ 324
END:VEVENT
BEGIN:VEVENT
UID:oa7b@192.168.245.71:3006
SEQUENCE:0
DTSTAMP:20260421T185630Z
DTSTART:20260505T110000Z
DTEND:20260505T124000Z
SUMMARY:Математический анализ
LOCATION:ГЗ 305
END:VEVENT
BEGIN:VEVENT
UID:ut28@192.168.245.71:3006
SEQUENCE:0
DTSTAMP:20260421T185630Z
DTSTART:20260506T050000Z
DTEND:20260506T064000Z
SUMMARY:Иностранный язык: Русский язык как иностранный
LOCATION:НИК В2.18
END:VEVENT
BEGIN:VEVENT
UID:6qtr@192.168.245.71:3006
SEQUENCE:0
DTSTAMP:20260421T185630Z
DTSTART:20260506T070000Z
DTEND:20260506T084000Z
SUMMARY:Элективная физическая культура и спорт
LOCATION:СК Секции
END:VEVENT
BEGIN:VEVENT
UID:x011@192.168.245.71:3006
SEQUENCE:0
DTSTAMP:20260421T185630Z
DTSTART:20260506T090000Z
DTEND:20260506T104000Z
SUMMARY:Линейная алгебра и аналитическая геометрия
LOCATION:ГЗ 329
END:VEVENT
BEGIN:VEVENT
UID:o9i2@192.168.245.71:3006
SEQUENCE:0
DTSTAMP:20260421T185630Z
DTSTART:20260507T050000Z
DTEND:20260507T064000Z
SUMMARY:Иностранный язык: Русский язык как иностранный
LOCATION:НИК В2.18
END:VEVENT
BEGIN:VEVENT
UID:6mft@192.168.245.71:3006
SEQUENCE:0
DTSTAMP:20260421T185630Z
DTSTART:20260507T070000Z
DTEND:20260507T084000Z
SUMMARY:Математический анализ
LOCATION:Мех. к. БМ
END:VEVENT
BEGIN:VEVENT
UID:yte6@192.168.245.71:3006
SEQUENCE:0
DTSTAMP:20260421T185630Z
DTSTART:20260507T090000Z
DTEND:20260507T104000Z
SUMMARY:Физика
LOCATION:ГЗ 161
END:VEVENT
BEGIN:VEVENT
UID:6ox6@192.168.245.71:3006
SEQUENCE:0
DTSTAMP:20260421T185630Z
DTSTART:20260507T110000Z
DTEND:20260507T124000Z
SUMMARY:Физика
LOCATION:ГЗ 324
END:VEVENT
BEGIN:VEVENT
UID:wgs1@192.168.245.71:3006
SEQUENCE:0
DTSTAMP:20260421T185630Z
DTSTART:20260508T070000Z
DTEND:20260508T084000Z
SUMMARY:Философия
LOCATION:ГЗ 229
END:VEVENT
BEGIN:VEVENT
UID:3kin@192.168.245.71:3006
SEQUENCE:0
DTSTAMP:20260421T185630Z
DTSTART:20260508T090000Z
DTEND:20260508T104000Z
SUMMARY:История России
LOCATION:Мех. к. БМ
END:VEVENT
BEGIN:VEVENT
UID:1rb5@192.168.245.71:3006
SEQUENCE:0
DTSTAMP:20260421T185630Z
DTSTART:20260508T110000Z
DTEND:20260508T124000Z
SUMMARY:Информатика
LOCATION:НИК А2.07
END:VEVENT
BEGIN:VEVENT
UID:jjhj@192.168.245.71:3006
SEQUENCE:0
DTSTAMP:20260421T185630Z
DTSTART:20260508T130000Z
DTEND:20260508T144000Z
SUMMARY:Иностранный язык: Базовый курс
LOCATION:ГЗ 219
END:VEVENT
END:VCALENDAR