BEGIN:VCALENDAR
VERSION:2.0
PRODID:-//spbstu.ru//ical//RU
NAME:Расписание группы 5030103/50004
X-WR-CALNAME:Расписание группы 5030103/50004
TIMEZONE-ID:Europe/Moscow
X-WR-TIMEZONE:Europe/Moscow
BEGIN:VEVENT
UID:wpfz@192.168.245.71:3006
SEQUENCE:0
DTSTAMP:20260420T212910Z
DTSTART:20260330T070000Z
DTEND:20260330T084000Z
SUMMARY:Физика
LOCATION:ГЗ 278
END:VEVENT
BEGIN:VEVENT
UID:ei2x@192.168.245.71:3006
SEQUENCE:0
DTSTAMP:20260420T212910Z
DTSTART:20260330T090000Z
DTEND:20260330T104000Z
SUMMARY:Иностранный язык: Базовый курс
LOCATION:ГЗ 239
END:VEVENT
BEGIN:VEVENT
UID:7b48@192.168.245.71:3006
SEQUENCE:0
DTSTAMP:20260420T212910Z
DTSTART:20260330T110000Z
DTEND:20260330T124000Z
SUMMARY:Математический анализ
LOCATION:ГЗ 227
END:VEVENT
BEGIN:VEVENT
UID:v3bx@192.168.245.71:3006
SEQUENCE:0
DTSTAMP:20260420T212910Z
DTSTART:20260330T130000Z
DTEND:20260330T144000Z
SUMMARY:Информатика
LOCATION:2 к. 265
END:VEVENT
BEGIN:VEVENT
UID:1lez@192.168.245.71:3006
SEQUENCE:0
DTSTAMP:20260420T212910Z
DTSTART:20260330T150000Z
DTEND:20260330T163000Z
SUMMARY:Иностранный язык: Базовый курс
LOCATION:ГЗ 138
END:VEVENT
BEGIN:VEVENT
UID:nzqn@192.168.245.71:3006
SEQUENCE:0
DTSTAMP:20260420T212910Z
DTSTART:20260331T090000Z
DTEND:20260331T104000Z
SUMMARY:Физика
LOCATION:ГЗ 324
END:VEVENT
BEGIN:VEVENT
UID:79h1@192.168.245.71:3006
SEQUENCE:0
DTSTAMP:20260420T212910Z
DTSTART:20260331T110000Z
DTEND:20260331T124000Z
SUMMARY:Математический анализ
LOCATION:ГЗ 305
END:VEVENT
BEGIN:VEVENT
UID:sm29@192.168.245.71:3006
SEQUENCE:0
DTSTAMP:20260420T212910Z
DTSTART:20260331T130000Z
DTEND:20260331T144000Z
SUMMARY:Основы программирования и алгоритмизации
LOCATION:НИК А2.07
END:VEVENT
BEGIN:VEVENT
UID:fl9r@192.168.245.71:3006
SEQUENCE:0
DTSTAMP:20260420T212910Z
DTSTART:20260401T050000Z
DTEND:20260401T064000Z
SUMMARY:Иностранный язык: Русский язык как иностранный
LOCATION:НИК В2.18
END:VEVENT
BEGIN:VEVENT
UID:st1n@192.168.245.71:3006
SEQUENCE:0
DTSTAMP:20260420T212910Z
DTSTART:20260401T070000Z
DTEND:20260401T084000Z
SUMMARY:Элективная физическая культура и спорт
LOCATION:СК Секции
END:VEVENT
BEGIN:VEVENT
UID:x7fk@192.168.245.71:3006
SEQUENCE:0
DTSTAMP:20260420T212910Z
DTSTART:20260401T090000Z
DTEND:20260401T104000Z
SUMMARY:Линейная алгебра и аналитическая геометрия
LOCATION:ГЗ 329
END:VEVENT
BEGIN:VEVENT
UID:4hzv@192.168.245.71:3006
SEQUENCE:0
DTSTAMP:20260420T212910Z
DTSTART:20260401T110000Z
DTEND:20260401T124000Z
SUMMARY:Информатика
LOCATION:НИК А2.07
END:VEVENT
BEGIN:VEVENT
UID:3pyy@192.168.245.71:3006
SEQUENCE:0
DTSTAMP:20260420T212910Z
DTSTART:20260401T130000Z
DTEND:20260401T144000Z
SUMMARY:История России
LOCATION:Мех. к. БМ
END:VEVENT
BEGIN:VEVENT
UID:scrn@192.168.245.71:3006
SEQUENCE:0
DTSTAMP:20260420T212910Z
DTSTART:20260402T050000Z
DTEND:20260402T064000Z
SUMMARY:Иностранный язык: Русский язык как иностранный
LOCATION:НИК В2.18
END:VEVENT
BEGIN:VEVENT
UID:cwj4@192.168.245.71:3006
SEQUENCE:0
DTSTAMP:20260420T212910Z
DTSTART:20260402T070000Z
DTEND:20260402T084000Z
SUMMARY:Математический анализ
LOCATION:Мех. к. БМ
END:VEVENT
BEGIN:VEVENT
UID:sib9@192.168.245.71:3006
SEQUENCE:0
DTSTAMP:20260420T212910Z
DTSTART:20260402T110000Z
DTEND:20260402T124000Z
SUMMARY:Физика
LOCATION:ГЗ 324
END:VEVENT
BEGIN:VEVENT
UID:i0ax@192.168.245.71:3006
SEQUENCE:0
DTSTAMP:20260420T212910Z
DTSTART:20260402T130000Z
DTEND:20260402T144000Z
SUMMARY:Линейная алгебра и аналитическая геометрия
LOCATION:ГЗ 138
END:VEVENT
BEGIN:VEVENT
UID:wihs@192.168.245.71:3006
SEQUENCE:0
DTSTAMP:20260420T212910Z
DTSTART:20260403T070000Z
DTEND:20260403T084000Z
SUMMARY:Введение в профессиональную деятельность
LOCATION:2 к. 265
END:VEVENT
BEGIN:VEVENT
UID:g01h@192.168.245.71:3006
SEQUENCE:0
DTSTAMP:20260420T212910Z
DTSTART:20260403T090000Z
DTEND:20260403T104000Z
SUMMARY:Физика
LOCATION:ГЗ 186 А
END:VEVENT
BEGIN:VEVENT
UID:40x3@192.168.245.71:3006
SEQUENCE:0
DTSTAMP:20260420T212910Z
DTSTART:20260403T090000Z
DTEND:20260403T104000Z
SUMMARY:Физика
LOCATION:ГЗ 186 А
END:VEVENT
BEGIN:VEVENT
UID:cfaf@192.168.245.71:3006
SEQUENCE:0
DTSTAMP:20260420T212910Z
DTSTART:20260404T050000Z
DTEND:20260404T064000Z
SUMMARY:Элективная физическая культура и спорт
LOCATION:СК Секции
END:VEVENT
BEGIN:VEVENT
UID:gvxm@192.168.245.71:3006
SEQUENCE:0
DTSTAMP:20260420T212910Z
DTSTART:20260404T070000Z
DTEND:20260404T084000Z
SUMMARY:История России
LOCATION:ГЗ 305
END:VEVENT
END:VCALENDAR