BEGIN:VCALENDAR
VERSION:2.0
PRODID:-//spbstu.ru//ical//RU
NAME:Расписание группы 5030103/50004
X-WR-CALNAME:Расписание группы 5030103/50004
TIMEZONE-ID:Europe/Moscow
X-WR-TIMEZONE:Europe/Moscow
BEGIN:VEVENT
UID:bo7g@192.168.245.71:3006
SEQUENCE:0
DTSTAMP:20260420T180230Z
DTSTART:20260413T070000Z
DTEND:20260413T084000Z
SUMMARY:Физика
LOCATION:ГЗ 278
END:VEVENT
BEGIN:VEVENT
UID:n2ds@192.168.245.71:3006
SEQUENCE:0
DTSTAMP:20260420T180230Z
DTSTART:20260413T090000Z
DTEND:20260413T104000Z
SUMMARY:Иностранный язык: Базовый курс
LOCATION:ГЗ 239
END:VEVENT
BEGIN:VEVENT
UID:wjjt@192.168.245.71:3006
SEQUENCE:0
DTSTAMP:20260420T180230Z
DTSTART:20260413T110000Z
DTEND:20260413T124000Z
SUMMARY:Математический анализ
LOCATION:ГЗ 227
END:VEVENT
BEGIN:VEVENT
UID:9eo0@192.168.245.71:3006
SEQUENCE:0
DTSTAMP:20260420T180230Z
DTSTART:20260413T130000Z
DTEND:20260413T144000Z
SUMMARY:Информатика
LOCATION:2 к. 265
END:VEVENT
BEGIN:VEVENT
UID:3z8l@192.168.245.71:3006
SEQUENCE:0
DTSTAMP:20260420T180230Z
DTSTART:20260414T090000Z
DTEND:20260414T104000Z
SUMMARY:Физика
LOCATION:ГЗ 324
END:VEVENT
BEGIN:VEVENT
UID:ldvc@192.168.245.71:3006
SEQUENCE:0
DTSTAMP:20260420T180230Z
DTSTART:20260414T110000Z
DTEND:20260414T124000Z
SUMMARY:Математический анализ
LOCATION:ГЗ 305
END:VEVENT
BEGIN:VEVENT
UID:n5ub@192.168.245.71:3006
SEQUENCE:0
DTSTAMP:20260420T180230Z
DTSTART:20260414T130000Z
DTEND:20260414T144000Z
SUMMARY:Основы программирования и алгоритмизации
LOCATION:НИК А2.07
END:VEVENT
BEGIN:VEVENT
UID:ruae@192.168.245.71:3006
SEQUENCE:0
DTSTAMP:20260420T180230Z
DTSTART:20260415T050000Z
DTEND:20260415T064000Z
SUMMARY:Иностранный язык: Русский язык как иностранный
LOCATION:НИК В2.18
END:VEVENT
BEGIN:VEVENT
UID:t42w@192.168.245.71:3006
SEQUENCE:0
DTSTAMP:20260420T180230Z
DTSTART:20260415T070000Z
DTEND:20260415T084000Z
SUMMARY:Элективная физическая культура и спорт
LOCATION:СК Секции
END:VEVENT
BEGIN:VEVENT
UID:lmw2@192.168.245.71:3006
SEQUENCE:0
DTSTAMP:20260420T180230Z
DTSTART:20260415T090000Z
DTEND:20260415T104000Z
SUMMARY:Линейная алгебра и аналитическая геометрия
LOCATION:ГЗ 329
END:VEVENT
BEGIN:VEVENT
UID:zcc5@192.168.245.71:3006
SEQUENCE:0
DTSTAMP:20260420T180230Z
DTSTART:20260415T110000Z
DTEND:20260415T124000Z
SUMMARY:Информатика
LOCATION:НИК А2.07
END:VEVENT
BEGIN:VEVENT
UID:eydu@192.168.245.71:3006
SEQUENCE:0
DTSTAMP:20260420T180230Z
DTSTART:20260415T130000Z
DTEND:20260415T144000Z
SUMMARY:История России
LOCATION:Мех. к. БМ
END:VEVENT
BEGIN:VEVENT
UID:z2p2@192.168.245.71:3006
SEQUENCE:0
DTSTAMP:20260420T180230Z
DTSTART:20260416T050000Z
DTEND:20260416T064000Z
SUMMARY:Иностранный язык: Русский язык как иностранный
LOCATION:НИК В2.18
END:VEVENT
BEGIN:VEVENT
UID:apqj@192.168.245.71:3006
SEQUENCE:0
DTSTAMP:20260420T180230Z
DTSTART:20260416T070000Z
DTEND:20260416T084000Z
SUMMARY:Математический анализ
LOCATION:Мех. к. БМ
END:VEVENT
BEGIN:VEVENT
UID:qb9a@192.168.245.71:3006
SEQUENCE:0
DTSTAMP:20260420T180230Z
DTSTART:20260416T110000Z
DTEND:20260416T124000Z
SUMMARY:Физика
LOCATION:ГЗ 324
END:VEVENT
BEGIN:VEVENT
UID:qu6s@192.168.245.71:3006
SEQUENCE:0
DTSTAMP:20260420T180230Z
DTSTART:20260416T130000Z
DTEND:20260416T144000Z
SUMMARY:Линейная алгебра и аналитическая геометрия
LOCATION:ГЗ 138
END:VEVENT
BEGIN:VEVENT
UID:z9ir@192.168.245.71:3006
SEQUENCE:0
DTSTAMP:20260420T180230Z
DTSTART:20260417T070000Z
DTEND:20260417T084000Z
SUMMARY:Введение в профессиональную деятельность
LOCATION:2 к. 265
END:VEVENT
BEGIN:VEVENT
UID:v230@192.168.245.71:3006
SEQUENCE:0
DTSTAMP:20260420T180230Z
DTSTART:20260417T090000Z
DTEND:20260417T104000Z
SUMMARY:Физика
LOCATION:ГЗ 186 А
END:VEVENT
BEGIN:VEVENT
UID:p0mi@192.168.245.71:3006
SEQUENCE:0
DTSTAMP:20260420T180230Z
DTSTART:20260417T090000Z
DTEND:20260417T104000Z
SUMMARY:Физика
LOCATION:ГЗ 186 А
END:VEVENT
BEGIN:VEVENT
UID:fpmt@192.168.245.71:3006
SEQUENCE:0
DTSTAMP:20260420T180230Z
DTSTART:20260417T110000Z
DTEND:20260417T124000Z
SUMMARY:Философия
LOCATION:ГЗ 229
END:VEVENT
BEGIN:VEVENT
UID:437h@192.168.245.71:3006
SEQUENCE:0
DTSTAMP:20260420T180230Z
DTSTART:20260418T050000Z
DTEND:20260418T064000Z
SUMMARY:Элективная физическая культура и спорт
LOCATION:СК Секции
END:VEVENT
BEGIN:VEVENT
UID:opn9@192.168.245.71:3006
SEQUENCE:0
DTSTAMP:20260420T180230Z
DTSTART:20260418T070000Z
DTEND:20260418T084000Z
SUMMARY:История России
LOCATION:ГЗ 305
END:VEVENT
END:VCALENDAR