BEGIN:VCALENDAR
VERSION:2.0
PRODID:-//spbstu.ru//ical//RU
NAME:Расписание группы 5030301/50001
X-WR-CALNAME:Расписание группы 5030301/50001
TIMEZONE-ID:Europe/Moscow
X-WR-TIMEZONE:Europe/Moscow
BEGIN:VEVENT
UID:aqm1@192.168.245.71:3006
SEQUENCE:0
DTSTAMP:20260423T205758Z
DTSTART:20251110T090000Z
DTEND:20251110T104000Z
SUMMARY:Математический анализ
LOCATION:ГЗ 224
END:VEVENT
BEGIN:VEVENT
UID:2ohq@192.168.245.71:3006
SEQUENCE:0
DTSTAMP:20260423T205758Z
DTSTART:20251110T130000Z
DTEND:20251110T144000Z
SUMMARY:Основы российской государственности
LOCATION:НИК В2.03
END:VEVENT
BEGIN:VEVENT
UID:gqc1@192.168.245.71:3006
SEQUENCE:0
DTSTAMP:20260423T205758Z
DTSTART:20251111T090000Z
DTEND:20251111T104000Z
SUMMARY:Физика
LOCATION:ГЗ 324
END:VEVENT
BEGIN:VEVENT
UID:fr7q@192.168.245.71:3006
SEQUENCE:0
DTSTAMP:20260423T205758Z
DTSTART:20251111T110000Z
DTEND:20251111T124000Z
SUMMARY:Линейная алгебра и аналитическая геометрия
LOCATION:2 к. 265
END:VEVENT
BEGIN:VEVENT
UID:cshy@192.168.245.71:3006
SEQUENCE:0
DTSTAMP:20260423T205758Z
DTSTART:20251111T130000Z
DTEND:20251111T144000Z
SUMMARY:Основы цифровых технологий
LOCATION:1 к. 428
END:VEVENT
BEGIN:VEVENT
UID:tbae@192.168.245.71:3006
SEQUENCE:0
DTSTAMP:20260423T205758Z
DTSTART:20251111T150000Z
DTEND:20251111T164000Z
SUMMARY:Русский язык как иностранный
LOCATION:15 к. 330
END:VEVENT
BEGIN:VEVENT
UID:z5ak@192.168.245.71:3006
SEQUENCE:0
DTSTAMP:20260423T205758Z
DTSTART:20251112T070000Z
DTEND:20251112T084000Z
SUMMARY:Элективная физическая культура и спорт
LOCATION:СК Секции
END:VEVENT
BEGIN:VEVENT
UID:7osz@192.168.245.71:3006
SEQUENCE:0
DTSTAMP:20260423T205758Z
DTSTART:20251112T090000Z
DTEND:20251112T104000Z
SUMMARY:Информатика
LOCATION:НИК В2.02
END:VEVENT
BEGIN:VEVENT
UID:ywpf@192.168.245.71:3006
SEQUENCE:0
DTSTAMP:20260423T205758Z
DTSTART:20251112T110000Z
DTEND:20251112T124000Z
SUMMARY:Информатика
LOCATION:1 к. 428
END:VEVENT
BEGIN:VEVENT
UID:1bdp@192.168.245.71:3006
SEQUENCE:0
DTSTAMP:20260423T205758Z
DTSTART:20251112T130000Z
DTEND:20251112T153000Z
SUMMARY:Физика
LOCATION:ГЗ 278
END:VEVENT
BEGIN:VEVENT
UID:1xc3@192.168.245.71:3006
SEQUENCE:0
DTSTAMP:20260423T205758Z
DTSTART:20251112T150000Z
DTEND:20251112T164000Z
SUMMARY:Факультатив по физике
LOCATION:ГЗ 161
END:VEVENT
BEGIN:VEVENT
UID:kecu@192.168.245.71:3006
SEQUENCE:0
DTSTAMP:20260423T205758Z
DTSTART:20251113T090000Z
DTEND:20251113T104000Z
SUMMARY:Физика
LOCATION:ГЗ 324
END:VEVENT
BEGIN:VEVENT
UID:uydp@192.168.245.71:3006
SEQUENCE:0
DTSTAMP:20260423T205758Z
DTSTART:20251113T110000Z
DTEND:20251113T124000Z
SUMMARY:Физика
LOCATION:ГЗ 155
END:VEVENT
BEGIN:VEVENT
UID:5sj2@192.168.245.71:3006
SEQUENCE:0
DTSTAMP:20260423T205758Z
DTSTART:20251113T110000Z
DTEND:20251113T124000Z
SUMMARY:Физика
LOCATION:ГЗ 155
END:VEVENT
BEGIN:VEVENT
UID:5pck@192.168.245.71:3006
SEQUENCE:0
DTSTAMP:20260423T205758Z
DTSTART:20251113T130000Z
DTEND:20251113T144000Z
SUMMARY:Иностранный язык: Базовый курс
LOCATION:ГЗ 108
END:VEVENT
BEGIN:VEVENT
UID:cnvk@192.168.245.71:3006
SEQUENCE:0
DTSTAMP:20260423T205758Z
DTSTART:20251114T050000Z
DTEND:20251114T064000Z
SUMMARY:Иностранный язык: Русский язык как иностранный
LOCATION:3 к. 501
END:VEVENT
BEGIN:VEVENT
UID:hp5r@192.168.245.71:3006
SEQUENCE:0
DTSTAMP:20260423T205758Z
DTSTART:20251114T070000Z
DTEND:20251114T084000Z
SUMMARY:Линейная алгебра и аналитическая геометрия
LOCATION:ГЗ 241
END:VEVENT
BEGIN:VEVENT
UID:iutc@192.168.245.71:3006
SEQUENCE:0
DTSTAMP:20260423T205758Z
DTSTART:20251114T090000Z
DTEND:20251114T104000Z
SUMMARY:Математический анализ
LOCATION:ГЗ 241
END:VEVENT
BEGIN:VEVENT
UID:1luf@192.168.245.71:3006
SEQUENCE:0
DTSTAMP:20260423T205758Z
DTSTART:20251114T110000Z
DTEND:20251114T124000Z
SUMMARY:Математический анализ
LOCATION:ГЗ 224
END:VEVENT
BEGIN:VEVENT
UID:peqm@192.168.245.71:3006
SEQUENCE:0
DTSTAMP:20260423T205758Z
DTSTART:20251115T050000Z
DTEND:20251115T064000Z
SUMMARY:Элективная физическая культура и спорт
LOCATION:СК Секции
END:VEVENT
BEGIN:VEVENT
UID:adz6@192.168.245.71:3006
SEQUENCE:0
DTSTAMP:20260423T205758Z
DTSTART:20251115T090000Z
DTEND:20251115T104000Z
SUMMARY:Линейная алгебра и аналитическая геометрия
LOCATION:ГЗ 245
END:VEVENT
BEGIN:VEVENT
UID:18xt@192.168.245.71:3006
SEQUENCE:0
DTSTAMP:20260423T205758Z
DTSTART:20251115T130000Z
DTEND:20251115T144000Z
SUMMARY:Иностранный язык: Русский язык как иностранный
LOCATION:3 к. 211
END:VEVENT
END:VCALENDAR