BEGIN:VCALENDAR
VERSION:2.0
PRODID:-//spbstu.ru//ical//RU
NAME:Расписание группы 5030302/50003
X-WR-CALNAME:Расписание группы 5030302/50003
TIMEZONE-ID:Europe/Moscow
X-WR-TIMEZONE:Europe/Moscow
BEGIN:VEVENT
UID:tidd@192.168.245.71:3006
SEQUENCE:0
DTSTAMP:20260426T042221Z
DTSTART:20251201T070000Z
DTEND:20251201T084000Z
SUMMARY:Линейная алгебра и аналитическая геометрия
LOCATION:DL Дистанционно
END:VEVENT
BEGIN:VEVENT
UID:y1gd@192.168.245.71:3006
SEQUENCE:0
DTSTAMP:20260426T042221Z
DTSTART:20251202T070000Z
DTEND:20251202T084000Z
SUMMARY:Линейная алгебра и аналитическая геометрия
LOCATION:2 к. 331
END:VEVENT
BEGIN:VEVENT
UID:dv0u@192.168.245.71:3006
SEQUENCE:0
DTSTAMP:20260426T042221Z
DTSTART:20251202T090000Z
DTEND:20251202T104000Z
SUMMARY:Физика
LOCATION:ГЗ 324
END:VEVENT
BEGIN:VEVENT
UID:3rqw@192.168.245.71:3006
SEQUENCE:0
DTSTAMP:20260426T042221Z
DTSTART:20251202T110000Z
DTEND:20251202T124000Z
SUMMARY:Математический анализ
LOCATION:ГЗ 122
END:VEVENT
BEGIN:VEVENT
UID:ycrd@192.168.245.71:3006
SEQUENCE:0
DTSTAMP:20260426T042221Z
DTSTART:20251202T130000Z
DTEND:20251202T144000Z
SUMMARY:Химия
LOCATION:Хим. к. 10
END:VEVENT
BEGIN:VEVENT
UID:o84h@192.168.245.71:3006
SEQUENCE:0
DTSTAMP:20260426T042221Z
DTSTART:20251202T130000Z
DTEND:20251202T144000Z
SUMMARY:Химия
LOCATION:Хим. к. 10
END:VEVENT
BEGIN:VEVENT
UID:od4j@192.168.245.71:3006
SEQUENCE:0
DTSTAMP:20260426T042221Z
DTSTART:20251203T070000Z
DTEND:20251203T084000Z
SUMMARY:Элективная физическая культура и спорт
LOCATION:СК Секции
END:VEVENT
BEGIN:VEVENT
UID:52ge@192.168.245.71:3006
SEQUENCE:0
DTSTAMP:20260426T042221Z
DTSTART:20251203T090000Z
DTEND:20251203T104000Z
SUMMARY:Физика
LOCATION:ГЗ 155
END:VEVENT
BEGIN:VEVENT
UID:m8dx@192.168.245.71:3006
SEQUENCE:0
DTSTAMP:20260426T042221Z
DTSTART:20251203T090000Z
DTEND:20251203T104000Z
SUMMARY:Физика
LOCATION:ГЗ 155
END:VEVENT
BEGIN:VEVENT
UID:vkmq@192.168.245.71:3006
SEQUENCE:0
DTSTAMP:20260426T042221Z
DTSTART:20251203T110000Z
DTEND:20251203T124000Z
SUMMARY:Математический анализ
LOCATION:ГЗ 224
END:VEVENT
BEGIN:VEVENT
UID:4pgw@192.168.245.71:3006
SEQUENCE:0
DTSTAMP:20260426T042221Z
DTSTART:20251203T150000Z
DTEND:20251203T164000Z
SUMMARY:Факультатив по физике
LOCATION:ГЗ 161
END:VEVENT
BEGIN:VEVENT
UID:hi1k@192.168.245.71:3006
SEQUENCE:0
DTSTAMP:20260426T042221Z
DTSTART:20251204T060000Z
DTEND:20251204T065000Z
SUMMARY:Физика
LOCATION:ГЗ 278
END:VEVENT
BEGIN:VEVENT
UID:32x0@192.168.245.71:3006
SEQUENCE:0
DTSTAMP:20260426T042221Z
DTSTART:20251204T070000Z
DTEND:20251204T084000Z
SUMMARY:Физика
LOCATION:ГЗ 278
END:VEVENT
BEGIN:VEVENT
UID:s2i9@192.168.245.71:3006
SEQUENCE:0
DTSTAMP:20260426T042221Z
DTSTART:20251204T090000Z
DTEND:20251204T104000Z
SUMMARY:Физика
LOCATION:ГЗ 324
END:VEVENT
BEGIN:VEVENT
UID:n6hi@192.168.245.71:3006
SEQUENCE:0
DTSTAMP:20260426T042221Z
DTSTART:20251204T110000Z
DTEND:20251204T124000Z
SUMMARY:Математический анализ
LOCATION:2 к. 330
END:VEVENT
BEGIN:VEVENT
UID:0y4h@192.168.245.71:3006
SEQUENCE:0
DTSTAMP:20260426T042221Z
DTSTART:20251204T130000Z
DTEND:20251204T135000Z
SUMMARY:Математический анализ
LOCATION:2 к. 330
END:VEVENT
BEGIN:VEVENT
UID:5faf@192.168.245.71:3006
SEQUENCE:0
DTSTAMP:20260426T042221Z
DTSTART:20251205T090000Z
DTEND:20251205T104000Z
SUMMARY:Химия
LOCATION:1 к. 41
END:VEVENT
BEGIN:VEVENT
UID:e56f@192.168.245.71:3006
SEQUENCE:0
DTSTAMP:20260426T042221Z
DTSTART:20251205T110000Z
DTEND:20251205T124000Z
SUMMARY:Информатика
LOCATION:2 к. 265
END:VEVENT
BEGIN:VEVENT
UID:75c8@192.168.245.71:3006
SEQUENCE:0
DTSTAMP:20260426T042221Z
DTSTART:20251205T130000Z
DTEND:20251205T144000Z
SUMMARY:Творческие семестры
LOCATION:ГЗ Белый зал
END:VEVENT
BEGIN:VEVENT
UID:fzv0@192.168.245.71:3006
SEQUENCE:0
DTSTAMP:20260426T042221Z
DTSTART:20251206T050000Z
DTEND:20251206T064000Z
SUMMARY:Элективная физическая культура и спорт
LOCATION:СК Секции
END:VEVENT
BEGIN:VEVENT
UID:em3v@192.168.245.71:3006
SEQUENCE:0
DTSTAMP:20260426T042221Z
DTSTART:20251206T070000Z
DTEND:20251206T084000Z
SUMMARY:Основы российской государственности
LOCATION:ГЗ 305
END:VEVENT
BEGIN:VEVENT
UID:ybyl@192.168.245.71:3006
SEQUENCE:0
DTSTAMP:20260426T042221Z
DTSTART:20251206T090000Z
DTEND:20251206T104000Z
SUMMARY:Иностранный язык: Базовый курс
LOCATION:ГЗ 222
END:VEVENT
BEGIN:VEVENT
UID:bpe3@192.168.245.71:3006
SEQUENCE:0
DTSTAMP:20260426T042221Z
DTSTART:20251206T110000Z
DTEND:20251206T124000Z
SUMMARY:Экономическая культура
LOCATION:ГЗ 178
END:VEVENT
END:VCALENDAR