BEGIN:VCALENDAR
VERSION:2.0
PRODID:-//spbstu.ru//ical//RU
NAME:Расписание группы 5030302/50005
X-WR-CALNAME:Расписание группы 5030302/50005
TIMEZONE-ID:Europe/Moscow
X-WR-TIMEZONE:Europe/Moscow
BEGIN:VEVENT
UID:utdv@192.168.245.71:3006
SEQUENCE:0
DTSTAMP:20260422T145345Z
DTSTART:20260518T070000Z
DTEND:20260518T084000Z
SUMMARY:История России
LOCATION:НИК В2.18
END:VEVENT
BEGIN:VEVENT
UID:x3l9@192.168.245.71:3006
SEQUENCE:0
DTSTAMP:20260422T145345Z
DTSTART:20260518T090000Z
DTEND:20260518T104000Z
SUMMARY:Информатика
LOCATION:2 к. 265
END:VEVENT
BEGIN:VEVENT
UID:1r5h@192.168.245.71:3006
SEQUENCE:0
DTSTAMP:20260422T145345Z
DTSTART:20260519T050000Z
DTEND:20260519T064000Z
SUMMARY:Программирование
LOCATION:2 к. 104
END:VEVENT
BEGIN:VEVENT
UID:jh1p@192.168.245.71:3006
SEQUENCE:0
DTSTAMP:20260422T145345Z
DTSTART:20260521T070000Z
DTEND:20260521T084000Z
SUMMARY:Введение в профессиональную деятельность
LOCATION:2 к. 265
END:VEVENT
BEGIN:VEVENT
UID:bhms@192.168.245.71:3006
SEQUENCE:0
DTSTAMP:20260422T145345Z
DTSTART:20260522T060000Z
DTEND:20260522T074000Z
SUMMARY:Линейная алгебра и аналитическая геометрия
LOCATION:DL Дистанционно
END:VEVENT
BEGIN:VEVENT
UID:13k7@192.168.245.71:3006
SEQUENCE:0
DTSTAMP:20260422T145345Z
DTSTART:20260522T110000Z
DTEND:20260522T124000Z
SUMMARY:Иностранный язык: Базовый курс
LOCATION:2 к. 329
END:VEVENT
BEGIN:VEVENT
UID:qiru@192.168.245.71:3006
SEQUENCE:0
DTSTAMP:20260422T145345Z
DTSTART:20260522T130000Z
DTEND:20260522T144000Z
SUMMARY:Информатика
LOCATION:2 к. 104
END:VEVENT
BEGIN:VEVENT
UID:mgu7@192.168.245.71:3006
SEQUENCE:0
DTSTAMP:20260422T145345Z
DTSTART:20260522T150000Z
DTEND:20260522T164000Z
SUMMARY:Факультатив по физике
LOCATION:ГЗ 161
END:VEVENT
BEGIN:VEVENT
UID:do86@192.168.245.71:3006
SEQUENCE:0
DTSTAMP:20260422T145345Z
DTSTART:20260523T070000Z
DTEND:20260523T084000Z
SUMMARY:История России
LOCATION:ГЗ 305
END:VEVENT
END:VCALENDAR