BEGIN:VCALENDAR
VERSION:2.0
PRODID:-//spbstu.ru//ical//RU
NAME:Расписание группы 5031503/50001
X-WR-CALNAME:Расписание группы 5031503/50001
TIMEZONE-ID:Europe/Moscow
X-WR-TIMEZONE:Europe/Moscow
BEGIN:VEVENT
UID:1xaz@192.168.245.71:3006
SEQUENCE:0
DTSTAMP:20260422T014628Z
DTSTART:20260119T070000Z
DTEND:20260119T130000Z
SUMMARY:Физика
LOCATION:ГЗ 245
END:VEVENT
BEGIN:VEVENT
UID:1c48@192.168.245.71:3006
SEQUENCE:0
DTSTAMP:20260422T014628Z
DTSTART:20260123T070000Z
DTEND:20260123T074500Z
SUMMARY:Математический анализ
LOCATION:ГЗ 226
END:VEVENT
BEGIN:VEVENT
UID:e5rv@192.168.245.71:3006
SEQUENCE:0
DTSTAMP:20260422T014628Z
DTSTART:20260124T070000Z
DTEND:20260124T130000Z
SUMMARY:Математический анализ
LOCATION:ГЗ 282
END:VEVENT
END:VCALENDAR