BEGIN:VCALENDAR
VERSION:2.0
PRODID:-//spbstu.ru//ical//RU
NAME:Расписание группы 5031503/50001
X-WR-CALNAME:Расписание группы 5031503/50001
TIMEZONE-ID:Europe/Moscow
X-WR-TIMEZONE:Europe/Moscow
BEGIN:VEVENT
UID:9ewm@192.168.245.71:3006
SEQUENCE:0
DTSTAMP:20260420T173630Z
DTSTART:20260413T070000Z
DTEND:20260413T084000Z
SUMMARY:Линейная алгебра и аналитическая геометрия
LOCATION:ГЗ 212
END:VEVENT
BEGIN:VEVENT
UID:e7ry@192.168.245.71:3006
SEQUENCE:0
DTSTAMP:20260420T173630Z
DTSTART:20260413T090000Z
DTEND:20260413T104000Z
SUMMARY:Математический анализ
LOCATION:ГЗ 305
END:VEVENT
BEGIN:VEVENT
UID:r6zd@192.168.245.71:3006
SEQUENCE:0
DTSTAMP:20260420T173630Z
DTSTART:20260413T110000Z
DTEND:20260413T124000Z
SUMMARY:Физика
LOCATION:ГЗ 324
END:VEVENT
BEGIN:VEVENT
UID:a993@192.168.245.71:3006
SEQUENCE:0
DTSTAMP:20260420T173630Z
DTSTART:20260414T070000Z
DTEND:20260414T084000Z
SUMMARY:Детали машин и основы конструирования
LOCATION:1 к. 439
END:VEVENT
BEGIN:VEVENT
UID:equ9@192.168.245.71:3006
SEQUENCE:0
DTSTAMP:20260420T173630Z
DTSTART:20260414T090000Z
DTEND:20260414T104000Z
SUMMARY:Линейная алгебра и аналитическая геометрия
LOCATION:ГЗ 305
END:VEVENT
BEGIN:VEVENT
UID:jqd6@192.168.245.71:3006
SEQUENCE:0
DTSTAMP:20260420T173630Z
DTSTART:20260414T110000Z
DTEND:20260414T124000Z
SUMMARY:Введение в профессиональную деятельность
LOCATION:2 к. 265
END:VEVENT
BEGIN:VEVENT
UID:qukl@192.168.245.71:3006
SEQUENCE:0
DTSTAMP:20260420T173630Z
DTSTART:20260414T130000Z
DTEND:20260414T144000Z
SUMMARY:Линейная алгебра и аналитическая геометрия
LOCATION:ГЗ 223
END:VEVENT
BEGIN:VEVENT
UID:858n@192.168.245.71:3006
SEQUENCE:0
DTSTAMP:20260420T173630Z
DTSTART:20260415T050000Z
DTEND:20260415T064000Z
SUMMARY:Иностранный язык: Русский язык как иностранный
LOCATION:НИК В2.18
END:VEVENT
BEGIN:VEVENT
UID:lw0t@192.168.245.71:3006
SEQUENCE:0
DTSTAMP:20260420T173630Z
DTSTART:20260415T070000Z
DTEND:20260415T084000Z
SUMMARY:Элективная физическая культура и спорт
LOCATION:СК Секции
END:VEVENT
BEGIN:VEVENT
UID:mw7l@192.168.245.71:3006
SEQUENCE:0
DTSTAMP:20260420T173630Z
DTSTART:20260415T090000Z
DTEND:20260415T104000Z
SUMMARY:Физика
LOCATION:ГЗ 186 А
END:VEVENT
BEGIN:VEVENT
UID:zn43@192.168.245.71:3006
SEQUENCE:0
DTSTAMP:20260420T173630Z
DTSTART:20260415T090000Z
DTEND:20260415T104000Z
SUMMARY:Физика
LOCATION:ГЗ 186 А
END:VEVENT
BEGIN:VEVENT
UID:dtve@192.168.245.71:3006
SEQUENCE:0
DTSTAMP:20260420T173630Z
DTSTART:20260415T110000Z
DTEND:20260415T124000Z
SUMMARY:Математический анализ
LOCATION:ГЗ 224
END:VEVENT
BEGIN:VEVENT
UID:y16p@192.168.245.71:3006
SEQUENCE:0
DTSTAMP:20260420T173630Z
DTSTART:20260415T130000Z
DTEND:20260415T144000Z
SUMMARY:Физика
LOCATION:ГЗ 242
END:VEVENT
BEGIN:VEVENT
UID:mzzw@192.168.245.71:3006
SEQUENCE:0
DTSTAMP:20260420T173630Z
DTSTART:20260416T050000Z
DTEND:20260416T064000Z
SUMMARY:Иностранный язык: Русский язык как иностранный
LOCATION:НИК В2.18
END:VEVENT
BEGIN:VEVENT
UID:m9aw@192.168.245.71:3006
SEQUENCE:0
DTSTAMP:20260420T173630Z
DTSTART:20260416T070000Z
DTEND:20260416T084000Z
SUMMARY:Физика
LOCATION:ГЗ 284
END:VEVENT
BEGIN:VEVENT
UID:4cch@192.168.245.71:3006
SEQUENCE:0
DTSTAMP:20260420T173630Z
DTSTART:20260416T090000Z
DTEND:20260416T104000Z
SUMMARY:Математический анализ
LOCATION:ГЗ 209
END:VEVENT
BEGIN:VEVENT
UID:jxp6@192.168.245.71:3006
SEQUENCE:0
DTSTAMP:20260420T173630Z
DTSTART:20260416T110000Z
DTEND:20260416T124000Z
SUMMARY:Организация и управление
LOCATION:ГЗ 224
END:VEVENT
BEGIN:VEVENT
UID:3x4r@192.168.245.71:3006
SEQUENCE:0
DTSTAMP:20260420T173630Z
DTSTART:20260416T130000Z
DTEND:20260416T135000Z
SUMMARY:Организация и управление
LOCATION:ГЗ 224
END:VEVENT
BEGIN:VEVENT
UID:uah9@192.168.245.71:3006
SEQUENCE:0
DTSTAMP:20260420T173630Z
DTSTART:20260417T090000Z
DTEND:20260417T104000Z
SUMMARY:Информатика
LOCATION:2 к. 265
END:VEVENT
BEGIN:VEVENT
UID:7pf7@192.168.245.71:3006
SEQUENCE:0
DTSTAMP:20260420T173630Z
DTSTART:20260417T110000Z
DTEND:20260417T124000Z
SUMMARY:Физика
LOCATION:ГЗ 152
END:VEVENT
BEGIN:VEVENT
UID:kq06@192.168.245.71:3006
SEQUENCE:0
DTSTAMP:20260420T173630Z
DTSTART:20260417T130000Z
DTEND:20260417T144000Z
SUMMARY:Информатика
LOCATION:1 к. 428
END:VEVENT
BEGIN:VEVENT
UID:4qwq@192.168.245.71:3006
SEQUENCE:0
DTSTAMP:20260420T173630Z
DTSTART:20260417T130000Z
DTEND:20260417T144000Z
SUMMARY:Информатика
LOCATION:1 к. 430
END:VEVENT
BEGIN:VEVENT
UID:r82y@192.168.245.71:3006
SEQUENCE:0
DTSTAMP:20260420T173630Z
DTSTART:20260418T050000Z
DTEND:20260418T064000Z
SUMMARY:Элективная физическая культура и спорт
LOCATION:СК Секции
END:VEVENT
BEGIN:VEVENT
UID:jos3@192.168.245.71:3006
SEQUENCE:0
DTSTAMP:20260420T173630Z
DTSTART:20260418T090000Z
DTEND:20260418T104000Z
SUMMARY:Иностранный язык: Базовый курс
LOCATION:ГЗ 221
END:VEVENT
BEGIN:VEVENT
UID:jbd8@192.168.245.71:3006
SEQUENCE:0
DTSTAMP:20260420T173630Z
DTSTART:20260418T110000Z
DTEND:20260418T124000Z
SUMMARY:История России
LOCATION:НИК В2.02
END:VEVENT
END:VCALENDAR