BEGIN:VCALENDAR
VERSION:2.0
PRODID:-//spbstu.ru//ical//RU
NAME:Расписание группы 5031503/50001
X-WR-CALNAME:Расписание группы 5031503/50001
TIMEZONE-ID:Europe/Moscow
X-WR-TIMEZONE:Europe/Moscow
BEGIN:VEVENT
UID:i8tk@192.168.245.71:3006
SEQUENCE:0
DTSTAMP:20260420T190048Z
DTSTART:20260406T070000Z
DTEND:20260406T084000Z
SUMMARY:Философия
LOCATION:НИК В2.03
END:VEVENT
BEGIN:VEVENT
UID:3czg@192.168.245.71:3006
SEQUENCE:0
DTSTAMP:20260420T190048Z
DTSTART:20260406T090000Z
DTEND:20260406T104000Z
SUMMARY:Математический анализ
LOCATION:ГЗ 305
END:VEVENT
BEGIN:VEVENT
UID:pg1z@192.168.245.71:3006
SEQUENCE:0
DTSTAMP:20260420T190048Z
DTSTART:20260406T110000Z
DTEND:20260406T124000Z
SUMMARY:Физика
LOCATION:ГЗ 324
END:VEVENT
BEGIN:VEVENT
UID:pd1w@192.168.245.71:3006
SEQUENCE:0
DTSTAMP:20260420T190048Z
DTSTART:20260407T070000Z
DTEND:20260407T084000Z
SUMMARY:Детали машин и основы конструирования
LOCATION:1 к. 439
END:VEVENT
BEGIN:VEVENT
UID:ru0x@192.168.245.71:3006
SEQUENCE:0
DTSTAMP:20260420T190048Z
DTSTART:20260407T090000Z
DTEND:20260407T104000Z
SUMMARY:Линейная алгебра и аналитическая геометрия
LOCATION:ГЗ 305
END:VEVENT
BEGIN:VEVENT
UID:78jj@192.168.245.71:3006
SEQUENCE:0
DTSTAMP:20260420T190048Z
DTSTART:20260407T110000Z
DTEND:20260407T124000Z
SUMMARY:Введение в профессиональную деятельность
LOCATION:2 к. 265
END:VEVENT
BEGIN:VEVENT
UID:pwwr@192.168.245.71:3006
SEQUENCE:0
DTSTAMP:20260420T190048Z
DTSTART:20260408T050000Z
DTEND:20260408T064000Z
SUMMARY:Иностранный язык: Русский язык как иностранный
LOCATION:НИК В2.18
END:VEVENT
BEGIN:VEVENT
UID:kke3@192.168.245.71:3006
SEQUENCE:0
DTSTAMP:20260420T190048Z
DTSTART:20260408T070000Z
DTEND:20260408T084000Z
SUMMARY:Элективная физическая культура и спорт
LOCATION:СК Секции
END:VEVENT
BEGIN:VEVENT
UID:d60i@192.168.245.71:3006
SEQUENCE:0
DTSTAMP:20260420T190048Z
DTSTART:20260408T090000Z
DTEND:20260408T104000Z
SUMMARY:Физика
LOCATION:ГЗ 186 А
END:VEVENT
BEGIN:VEVENT
UID:adiq@192.168.245.71:3006
SEQUENCE:0
DTSTAMP:20260420T190048Z
DTSTART:20260408T090000Z
DTEND:20260408T104000Z
SUMMARY:Физика
LOCATION:ГЗ 186 А
END:VEVENT
BEGIN:VEVENT
UID:iyvq@192.168.245.71:3006
SEQUENCE:0
DTSTAMP:20260420T190048Z
DTSTART:20260408T110000Z
DTEND:20260408T124000Z
SUMMARY:Математический анализ
LOCATION:ГЗ 224
END:VEVENT
BEGIN:VEVENT
UID:5a9w@192.168.245.71:3006
SEQUENCE:0
DTSTAMP:20260420T190048Z
DTSTART:20260408T130000Z
DTEND:20260408T144000Z
SUMMARY:Математический анализ
LOCATION:ГЗ 279
END:VEVENT
BEGIN:VEVENT
UID:plpr@192.168.245.71:3006
SEQUENCE:0
DTSTAMP:20260420T190048Z
DTSTART:20260408T143000Z
DTEND:20260408T160000Z
SUMMARY:Физика
LOCATION:ГЗ 324
END:VEVENT
BEGIN:VEVENT
UID:qpgr@192.168.245.71:3006
SEQUENCE:0
DTSTAMP:20260420T190048Z
DTSTART:20260409T050000Z
DTEND:20260409T064000Z
SUMMARY:Иностранный язык: Русский язык как иностранный
LOCATION:НИК В2.18
END:VEVENT
BEGIN:VEVENT
UID:c2eh@192.168.245.71:3006
SEQUENCE:0
DTSTAMP:20260420T190048Z
DTSTART:20260409T070000Z
DTEND:20260409T084000Z
SUMMARY:Физика
LOCATION:ГЗ 153
END:VEVENT
BEGIN:VEVENT
UID:uno2@192.168.245.71:3006
SEQUENCE:0
DTSTAMP:20260420T190048Z
DTSTART:20260409T090000Z
DTEND:20260409T104000Z
SUMMARY:Математический анализ
LOCATION:ГЗ 209
END:VEVENT
BEGIN:VEVENT
UID:93fx@192.168.245.71:3006
SEQUENCE:0
DTSTAMP:20260420T190048Z
DTSTART:20260409T110000Z
DTEND:20260409T124000Z
SUMMARY:Организация и управление
LOCATION:ГЗ 224
END:VEVENT
BEGIN:VEVENT
UID:03my@192.168.245.71:3006
SEQUENCE:0
DTSTAMP:20260420T190048Z
DTSTART:20260409T130000Z
DTEND:20260409T135000Z
SUMMARY:Организация и управление
LOCATION:ГЗ 224
END:VEVENT
BEGIN:VEVENT
UID:3fet@192.168.245.71:3006
SEQUENCE:0
DTSTAMP:20260420T190048Z
DTSTART:20260410T070000Z
DTEND:20260410T084000Z
SUMMARY:Детали машин и основы конструирования
LOCATION:2 к. 265
END:VEVENT
BEGIN:VEVENT
UID:v0no@192.168.245.71:3006
SEQUENCE:0
DTSTAMP:20260420T190048Z
DTSTART:20260410T090000Z
DTEND:20260410T104000Z
SUMMARY:Информатика
LOCATION:2 к. 265
END:VEVENT
BEGIN:VEVENT
UID:dffi@192.168.245.71:3006
SEQUENCE:0
DTSTAMP:20260420T190048Z
DTSTART:20260410T110000Z
DTEND:20260410T124000Z
SUMMARY:Физика
LOCATION:ГЗ 152
END:VEVENT
BEGIN:VEVENT
UID:d93u@192.168.245.71:3006
SEQUENCE:0
DTSTAMP:20260420T190048Z
DTSTART:20260410T130000Z
DTEND:20260410T144000Z
SUMMARY:Информатика
LOCATION:1 к. 428
END:VEVENT
BEGIN:VEVENT
UID:0aqi@192.168.245.71:3006
SEQUENCE:0
DTSTAMP:20260420T190048Z
DTSTART:20260410T130000Z
DTEND:20260410T144000Z
SUMMARY:Информатика
LOCATION:1 к. 430
END:VEVENT
BEGIN:VEVENT
UID:83ud@192.168.245.71:3006
SEQUENCE:0
DTSTAMP:20260420T190048Z
DTSTART:20260411T050000Z
DTEND:20260411T064000Z
SUMMARY:Элективная физическая культура и спорт
LOCATION:СК Секции
END:VEVENT
BEGIN:VEVENT
UID:lt8r@192.168.245.71:3006
SEQUENCE:0
DTSTAMP:20260420T190048Z
DTSTART:20260411T070000Z
DTEND:20260411T084000Z
SUMMARY:История России
LOCATION:ГЗ 305
END:VEVENT
BEGIN:VEVENT
UID:lm0s@192.168.245.71:3006
SEQUENCE:0
DTSTAMP:20260420T190048Z
DTSTART:20260411T090000Z
DTEND:20260411T104000Z
SUMMARY:Иностранный язык: Базовый курс
LOCATION:ГЗ 221
END:VEVENT
BEGIN:VEVENT
UID:nne3@192.168.245.71:3006
SEQUENCE:0
DTSTAMP:20260420T190048Z
DTSTART:20260411T110000Z
DTEND:20260411T124000Z
SUMMARY:История России
LOCATION:НИК В2.02
END:VEVENT
END:VCALENDAR