BEGIN:VCALENDAR
VERSION:2.0
PRODID:-//spbstu.ru//ical//RU
NAME:Расписание группы 5031503/50003
X-WR-CALNAME:Расписание группы 5031503/50003
TIMEZONE-ID:Europe/Moscow
X-WR-TIMEZONE:Europe/Moscow
BEGIN:VEVENT
UID:oo3s@192.168.245.71:3006
SEQUENCE:0
DTSTAMP:20260421T004638Z
DTSTART:20260316T060000Z
DTEND:20260316T064000Z
SUMMARY:Математический анализ
LOCATION:ГЗ 242
END:VEVENT
BEGIN:VEVENT
UID:vxsr@192.168.245.71:3006
SEQUENCE:0
DTSTAMP:20260421T004638Z
DTSTART:20260316T070000Z
DTEND:20260316T084000Z
SUMMARY:Математический анализ
LOCATION:ГЗ 242
END:VEVENT
BEGIN:VEVENT
UID:kfhd@192.168.245.71:3006
SEQUENCE:0
DTSTAMP:20260421T004638Z
DTSTART:20260316T090000Z
DTEND:20260316T104000Z
SUMMARY:Математический анализ
LOCATION:ГЗ 305
END:VEVENT
BEGIN:VEVENT
UID:zgwe@192.168.245.71:3006
SEQUENCE:0
DTSTAMP:20260421T004638Z
DTSTART:20260316T110000Z
DTEND:20260316T124000Z
SUMMARY:Физика
LOCATION:ГЗ 324
END:VEVENT
BEGIN:VEVENT
UID:tbfy@192.168.245.71:3006
SEQUENCE:0
DTSTAMP:20260421T004638Z
DTSTART:20260316T130000Z
DTEND:20260316T144000Z
SUMMARY:Линейная алгебра и аналитическая геометрия
LOCATION:ГЗ 245
END:VEVENT
BEGIN:VEVENT
UID:drs1@192.168.245.71:3006
SEQUENCE:0
DTSTAMP:20260421T004638Z
DTSTART:20260316T130000Z
DTEND:20260316T143000Z
SUMMARY:Математический анализ
LOCATION:ГЗ 221
END:VEVENT
BEGIN:VEVENT
UID:ca0n@192.168.245.71:3006
SEQUENCE:0
DTSTAMP:20260421T004638Z
DTSTART:20260317T090000Z
DTEND:20260317T104000Z
SUMMARY:Линейная алгебра и аналитическая геометрия
LOCATION:ГЗ 305
END:VEVENT
BEGIN:VEVENT
UID:3jru@192.168.245.71:3006
SEQUENCE:0
DTSTAMP:20260421T004638Z
DTSTART:20260317T110000Z
DTEND:20260317T124000Z
SUMMARY:Введение в профессиональную деятельность
LOCATION:2 к. 265
END:VEVENT
BEGIN:VEVENT
UID:kqi7@192.168.245.71:3006
SEQUENCE:0
DTSTAMP:20260421T004638Z
DTSTART:20260317T130000Z
DTEND:20260317T144000Z
SUMMARY:Информатика
LOCATION:1 к. лаб.3  каф. Примат
END:VEVENT
BEGIN:VEVENT
UID:ckft@192.168.245.71:3006
SEQUENCE:0
DTSTAMP:20260421T004638Z
DTSTART:20260317T130000Z
DTEND:20260317T144000Z
SUMMARY:Информатика
LOCATION:1 к. лаб.4  каф. Примат
END:VEVENT
BEGIN:VEVENT
UID:3c52@192.168.245.71:3006
SEQUENCE:0
DTSTAMP:20260421T004638Z
DTSTART:20260317T150000Z
DTEND:20260317T164000Z
SUMMARY:Линейная алгебра и аналитическая геометрия
LOCATION:ГЗ 223
END:VEVENT
BEGIN:VEVENT
UID:ya49@192.168.245.71:3006
SEQUENCE:0
DTSTAMP:20260421T004638Z
DTSTART:20260318T050000Z
DTEND:20260318T064000Z
SUMMARY:Иностранный язык: Русский язык как иностранный
LOCATION:НИК В2.18
END:VEVENT
BEGIN:VEVENT
UID:b23s@192.168.245.71:3006
SEQUENCE:0
DTSTAMP:20260421T004638Z
DTSTART:20260318T070000Z
DTEND:20260318T084000Z
SUMMARY:Элективная физическая культура и спорт
LOCATION:СК Секции
END:VEVENT
BEGIN:VEVENT
UID:9nyo@192.168.245.71:3006
SEQUENCE:0
DTSTAMP:20260421T004638Z
DTSTART:20260318T090000Z
DTEND:20260318T104000Z
SUMMARY:Физика
LOCATION:ГЗ 242
END:VEVENT
BEGIN:VEVENT
UID:zorv@192.168.245.71:3006
SEQUENCE:0
DTSTAMP:20260421T004638Z
DTSTART:20260318T110000Z
DTEND:20260318T124000Z
SUMMARY:Математический анализ
LOCATION:ГЗ 224
END:VEVENT
BEGIN:VEVENT
UID:paym@192.168.245.71:3006
SEQUENCE:0
DTSTAMP:20260421T004638Z
DTSTART:20260318T130000Z
DTEND:20260318T144000Z
SUMMARY:Детали машин и основы конструирования
LOCATION:Мех. к. каф.Т ММ
END:VEVENT
BEGIN:VEVENT
UID:ap4n@192.168.245.71:3006
SEQUENCE:0
DTSTAMP:20260421T004638Z
DTSTART:20260319T050000Z
DTEND:20260319T064000Z
SUMMARY:Иностранный язык: Русский язык как иностранный
LOCATION:НИК В2.18
END:VEVENT
BEGIN:VEVENT
UID:agif@192.168.245.71:3006
SEQUENCE:0
DTSTAMP:20260421T004638Z
DTSTART:20260319T070000Z
DTEND:20260319T084000Z
SUMMARY:Физика
LOCATION:ГЗ 284
END:VEVENT
BEGIN:VEVENT
UID:lyt1@192.168.245.71:3006
SEQUENCE:0
DTSTAMP:20260421T004638Z
DTSTART:20260319T090000Z
DTEND:20260319T104000Z
SUMMARY:Физика
LOCATION:ГЗ 186 А
END:VEVENT
BEGIN:VEVENT
UID:yul3@192.168.245.71:3006
SEQUENCE:0
DTSTAMP:20260421T004638Z
DTSTART:20260319T090000Z
DTEND:20260319T104000Z
SUMMARY:Физика
LOCATION:ГЗ 186 А
END:VEVENT
BEGIN:VEVENT
UID:189t@192.168.245.71:3006
SEQUENCE:0
DTSTAMP:20260421T004638Z
DTSTART:20260319T110000Z
DTEND:20260319T124000Z
SUMMARY:Организация и управление
LOCATION:ГЗ 224
END:VEVENT
BEGIN:VEVENT
UID:9zw5@192.168.245.71:3006
SEQUENCE:0
DTSTAMP:20260421T004638Z
DTSTART:20260319T130000Z
DTEND:20260319T135000Z
SUMMARY:Организация и управление
LOCATION:ГЗ 224
END:VEVENT
BEGIN:VEVENT
UID:boz3@192.168.245.71:3006
SEQUENCE:0
DTSTAMP:20260421T004638Z
DTSTART:20260320T070000Z
DTEND:20260320T084000Z
SUMMARY:Физика
LOCATION:ГЗ 152
END:VEVENT
BEGIN:VEVENT
UID:efeh@192.168.245.71:3006
SEQUENCE:0
DTSTAMP:20260421T004638Z
DTSTART:20260320T090000Z
DTEND:20260320T104000Z
SUMMARY:Информатика
LOCATION:2 к. 265
END:VEVENT
BEGIN:VEVENT
UID:ed6l@192.168.245.71:3006
SEQUENCE:0
DTSTAMP:20260421T004638Z
DTSTART:20260320T110000Z
DTEND:20260320T124000Z
SUMMARY:Иностранный язык: Базовый курс
LOCATION:ГЗ 219
END:VEVENT
BEGIN:VEVENT
UID:wvfg@192.168.245.71:3006
SEQUENCE:0
DTSTAMP:20260421T004638Z
DTSTART:20260320T130000Z
DTEND:20260320T144000Z
SUMMARY:История России
LOCATION:ГЗ 282
END:VEVENT
BEGIN:VEVENT
UID:rm4l@192.168.245.71:3006
SEQUENCE:0
DTSTAMP:20260421T004638Z
DTSTART:20260320T150000Z
DTEND:20260320T160000Z
SUMMARY:Основы российской государственности
LOCATION:ГЗ 278
END:VEVENT
BEGIN:VEVENT
UID:q9ni@192.168.245.71:3006
SEQUENCE:0
DTSTAMP:20260421T004638Z
DTSTART:20260321T050000Z
DTEND:20260321T064000Z
SUMMARY:Элективная физическая культура и спорт
LOCATION:СК Секции
END:VEVENT
END:VCALENDAR