BEGIN:VCALENDAR
VERSION:2.0
PRODID:-//spbstu.ru//ical//RU
NAME:Расписание группы 5030102/40001
X-WR-CALNAME:Расписание группы 5030102/40001
TIMEZONE-ID:Europe/Moscow
X-WR-TIMEZONE:Europe/Moscow
BEGIN:VEVENT
UID:y3wh@192.168.245.71:3006
SEQUENCE:0
DTSTAMP:20260425T184357Z
DTSTART:20250929T070000Z
DTEND:20250929T084000Z
SUMMARY:Численные методы
LOCATION:1 к. 428
END:VEVENT
BEGIN:VEVENT
UID:z7te@192.168.245.71:3006
SEQUENCE:0
DTSTAMP:20260425T184357Z
DTSTART:20250929T070000Z
DTEND:20250929T084000Z
SUMMARY:Численные методы
LOCATION:1 к. 430
END:VEVENT
BEGIN:VEVENT
UID:nt3s@192.168.245.71:3006
SEQUENCE:0
DTSTAMP:20260425T184357Z
DTSTART:20250929T090000Z
DTEND:20250929T104000Z
SUMMARY:Физика
LOCATION:ГЗ 324
END:VEVENT
BEGIN:VEVENT
UID:20t6@192.168.245.71:3006
SEQUENCE:0
DTSTAMP:20260425T184357Z
DTSTART:20250929T110000Z
DTEND:20250929T124000Z
SUMMARY:Математический анализ
LOCATION:ГЗ 241
END:VEVENT
BEGIN:VEVENT
UID:j9db@192.168.245.71:3006
SEQUENCE:0
DTSTAMP:20260425T184357Z
DTSTART:20250929T130000Z
DTEND:20250929T144000Z
SUMMARY:Теоретическая механика
LOCATION:ГЗ 212
END:VEVENT
BEGIN:VEVENT
UID:4yb1@192.168.245.71:3006
SEQUENCE:0
DTSTAMP:20260425T184357Z
DTSTART:20250930T090000Z
DTEND:20250930T104000Z
SUMMARY:Безопасность жизнедеятельности
LOCATION:ГК 106
END:VEVENT
BEGIN:VEVENT
UID:0wfq@192.168.245.71:3006
SEQUENCE:0
DTSTAMP:20260425T184357Z
DTSTART:20250930T110000Z
DTEND:20250930T124000Z
SUMMARY:Математический анализ
LOCATION:Мех. к. БМ
END:VEVENT
BEGIN:VEVENT
UID:b53k@192.168.245.71:3006
SEQUENCE:0
DTSTAMP:20260425T184357Z
DTSTART:20250930T130000Z
DTEND:20250930T134500Z
SUMMARY:Математический анализ
LOCATION:Мех. к. БМ
END:VEVENT
BEGIN:VEVENT
UID:41mh@192.168.245.71:3006
SEQUENCE:0
DTSTAMP:20260425T184357Z
DTSTART:20250930T150000Z
DTEND:20250930T164000Z
SUMMARY:Физика
LOCATION:ГЗ 278
END:VEVENT
BEGIN:VEVENT
UID:2dyg@192.168.245.71:3006
SEQUENCE:0
DTSTAMP:20260425T184357Z
DTSTART:20251001T090000Z
DTEND:20251001T104000Z
SUMMARY:Элективная физическая культура и спорт
LOCATION:СК Секции
END:VEVENT
BEGIN:VEVENT
UID:ssj6@192.168.245.71:3006
SEQUENCE:0
DTSTAMP:20260425T184357Z
DTSTART:20251001T110000Z
DTEND:20251001T124000Z
SUMMARY:Теоретическая механика
LOCATION:Мех. к. БМ
END:VEVENT
BEGIN:VEVENT
UID:kjnc@192.168.245.71:3006
SEQUENCE:0
DTSTAMP:20260425T184357Z
DTSTART:20251001T130000Z
DTEND:20251001T144000Z
SUMMARY:Навыки личной эффективности (SoftSkills)
LOCATION:Не опр. Нет
END:VEVENT
BEGIN:VEVENT
UID:sjdn@192.168.245.71:3006
SEQUENCE:0
DTSTAMP:20260425T184357Z
DTSTART:20251002T070000Z
DTEND:20251002T084000Z
SUMMARY:Алгоритмы и структуры данных
LOCATION:DL Дистанционно
END:VEVENT
BEGIN:VEVENT
UID:m67x@192.168.245.71:3006
SEQUENCE:0
DTSTAMP:20260425T184357Z
DTSTART:20251002T090000Z
DTEND:20251002T104000Z
SUMMARY:Алгоритмы и структуры данных
LOCATION:DL Дистанционно
END:VEVENT
BEGIN:VEVENT
UID:o0gb@192.168.245.71:3006
SEQUENCE:0
DTSTAMP:20260425T184357Z
DTSTART:20251003T050000Z
DTEND:20251003T064000Z
SUMMARY:Иностранный язык: Русский язык как иностранный
LOCATION:16 к. 214
END:VEVENT
BEGIN:VEVENT
UID:ecui@192.168.245.71:3006
SEQUENCE:0
DTSTAMP:20260425T184357Z
DTSTART:20251003T070000Z
DTEND:20251003T084000Z
SUMMARY:Физика
LOCATION:ГЗ 285
END:VEVENT
BEGIN:VEVENT
UID:8wl3@192.168.245.71:3006
SEQUENCE:0
DTSTAMP:20260425T184357Z
DTSTART:20251003T070000Z
DTEND:20251003T084000Z
SUMMARY:Физика
LOCATION:ГЗ 285
END:VEVENT
BEGIN:VEVENT
UID:4hkv@192.168.245.71:3006
SEQUENCE:0
DTSTAMP:20260425T184357Z
DTSTART:20251003T090000Z
DTEND:20251003T104000Z
SUMMARY:Физика
LOCATION:ГЗ 324
END:VEVENT
BEGIN:VEVENT
UID:25kt@192.168.245.71:3006
SEQUENCE:0
DTSTAMP:20260425T184357Z
DTSTART:20251003T130000Z
DTEND:20251003T144000Z
SUMMARY:Иностранный язык: Базовый курс
LOCATION:ГЗ 241
END:VEVENT
BEGIN:VEVENT
UID:ky5u@192.168.245.71:3006
SEQUENCE:0
DTSTAMP:20260425T184357Z
DTSTART:20251004T050000Z
DTEND:20251004T064000Z
SUMMARY:Численные методы
LOCATION:DL Дистанционно
END:VEVENT
BEGIN:VEVENT
UID:8r37@192.168.245.71:3006
SEQUENCE:0
DTSTAMP:20260425T184357Z
DTSTART:20251004T070000Z
DTEND:20251004T084000Z
SUMMARY:Навыки личной эффективности (SoftSkills)
LOCATION:Не опр. Нет
END:VEVENT
BEGIN:VEVENT
UID:nuuw@192.168.245.71:3006
SEQUENCE:0
DTSTAMP:20260425T184357Z
DTSTART:20251004T110000Z
DTEND:20251004T124000Z
SUMMARY:Элективная физическая культура и спорт
LOCATION:СК Секции
END:VEVENT
END:VCALENDAR