BEGIN:VCALENDAR
VERSION:2.0
PRODID:-//spbstu.ru//ical//RU
NAME:Расписание группы 5030102/40002
X-WR-CALNAME:Расписание группы 5030102/40002
TIMEZONE-ID:Europe/Moscow
X-WR-TIMEZONE:Europe/Moscow
BEGIN:VEVENT
UID:63ib@192.168.245.71:3006
SEQUENCE:0
DTSTAMP:20260423T000359Z
DTSTART:20251215T070000Z
DTEND:20251215T084000Z
SUMMARY:Теоретическая механика
LOCATION:ГЗ 242
END:VEVENT
BEGIN:VEVENT
UID:0bf4@192.168.245.71:3006
SEQUENCE:0
DTSTAMP:20260423T000359Z
DTSTART:20251215T090000Z
DTEND:20251215T104000Z
SUMMARY:Физика
LOCATION:ГЗ 324
END:VEVENT
BEGIN:VEVENT
UID:xfgg@192.168.245.71:3006
SEQUENCE:0
DTSTAMP:20260423T000359Z
DTSTART:20251215T110000Z
DTEND:20251215T124000Z
SUMMARY:Физика
LOCATION:ГЗ 245
END:VEVENT
BEGIN:VEVENT
UID:3ufr@192.168.245.71:3006
SEQUENCE:0
DTSTAMP:20260423T000359Z
DTSTART:20251216T090000Z
DTEND:20251216T104000Z
SUMMARY:Математический анализ
LOCATION:ГЗ 210
END:VEVENT
BEGIN:VEVENT
UID:0xk2@192.168.245.71:3006
SEQUENCE:0
DTSTAMP:20260423T000359Z
DTSTART:20251216T110000Z
DTEND:20251216T124000Z
SUMMARY:Математический анализ
LOCATION:Мех. к. БМ
END:VEVENT
BEGIN:VEVENT
UID:wxwk@192.168.245.71:3006
SEQUENCE:0
DTSTAMP:20260423T000359Z
DTSTART:20251216T130000Z
DTEND:20251216T134500Z
SUMMARY:Математический анализ
LOCATION:Мех. к. БМ
END:VEVENT
BEGIN:VEVENT
UID:ikq9@192.168.245.71:3006
SEQUENCE:0
DTSTAMP:20260423T000359Z
DTSTART:20251217T120000Z
DTEND:20251217T150000Z
SUMMARY:Цифровая аналитика
LOCATION:DL Дистанционно
END:VEVENT
BEGIN:VEVENT
UID:yng2@192.168.245.71:3006
SEQUENCE:0
DTSTAMP:20260423T000359Z
DTSTART:20251220T150000Z
DTEND:20251220T170000Z
SUMMARY:Безопасность жизнедеятельности
LOCATION:ГК 121
END:VEVENT
END:VCALENDAR