BEGIN:VCALENDAR
VERSION:2.0
PRODID:-//spbstu.ru//ical//RU
NAME:Расписание группы 5030102/40002
X-WR-CALNAME:Расписание группы 5030102/40002
TIMEZONE-ID:Europe/Moscow
X-WR-TIMEZONE:Europe/Moscow
BEGIN:VEVENT
UID:yhe6@192.168.245.71:3006
SEQUENCE:0
DTSTAMP:20260421T110528Z
DTSTART:20260216T090000Z
DTEND:20260216T104000Z
SUMMARY:Численные методы
LOCATION:1 к. 428
END:VEVENT
BEGIN:VEVENT
UID:47br@192.168.245.71:3006
SEQUENCE:0
DTSTAMP:20260421T110528Z
DTSTART:20260216T090000Z
DTEND:20260216T104000Z
SUMMARY:Численные методы
LOCATION:1 к. 430
END:VEVENT
BEGIN:VEVENT
UID:ts20@192.168.245.71:3006
SEQUENCE:0
DTSTAMP:20260421T110528Z
DTSTART:20260216T110000Z
DTEND:20260216T124000Z
SUMMARY:Математический анализ
LOCATION:ГЗ 329
END:VEVENT
BEGIN:VEVENT
UID:coqn@192.168.245.71:3006
SEQUENCE:0
DTSTAMP:20260421T110528Z
DTSTART:20260216T130000Z
DTEND:20260216T135000Z
SUMMARY:Математический анализ
LOCATION:ГЗ 329
END:VEVENT
BEGIN:VEVENT
UID:y2gm@192.168.245.71:3006
SEQUENCE:0
DTSTAMP:20260421T110528Z
DTSTART:20260216T150000Z
DTEND:20260216T163000Z
SUMMARY:Иностранный язык: Базовый курс
LOCATION:ГЗ 284
END:VEVENT
BEGIN:VEVENT
UID:h3au@192.168.245.71:3006
SEQUENCE:0
DTSTAMP:20260421T110528Z
DTSTART:20260216T150000Z
DTEND:20260216T164000Z
SUMMARY:Факультатив по физике
LOCATION:ГЗ 161
END:VEVENT
BEGIN:VEVENT
UID:l7m5@192.168.245.71:3006
SEQUENCE:0
DTSTAMP:20260421T110528Z
DTSTART:20260217T110000Z
DTEND:20260217T124000Z
SUMMARY:Язык кодирования С++
LOCATION:1 к. лаб.1  каф. Примат
END:VEVENT
BEGIN:VEVENT
UID:mx1s@192.168.245.71:3006
SEQUENCE:0
DTSTAMP:20260421T110528Z
DTSTART:20260217T130000Z
DTEND:20260217T144000Z
SUMMARY:Математический анализ
LOCATION:2 к. 330
END:VEVENT
BEGIN:VEVENT
UID:z2ll@192.168.245.71:3006
SEQUENCE:0
DTSTAMP:20260421T110528Z
DTSTART:20260217T150000Z
DTEND:20260217T163000Z
SUMMARY:Математический анализ
LOCATION:2 к. 330
END:VEVENT
BEGIN:VEVENT
UID:8s8i@192.168.245.71:3006
SEQUENCE:0
DTSTAMP:20260421T110528Z
DTSTART:20260218T070000Z
DTEND:20260218T084000Z
SUMMARY:Язык программирования Java
LOCATION:1 к. лаб.3  каф. Примат
END:VEVENT
BEGIN:VEVENT
UID:xz9b@192.168.245.71:3006
SEQUENCE:0
DTSTAMP:20260421T110528Z
DTSTART:20260218T090000Z
DTEND:20260218T104000Z
SUMMARY:Элективная физическая культура и спорт
LOCATION:СК Секции
END:VEVENT
BEGIN:VEVENT
UID:9wi7@192.168.245.71:3006
SEQUENCE:0
DTSTAMP:20260421T110528Z
DTSTART:20260218T110000Z
DTEND:20260218T124000Z
SUMMARY:Теоретическая механика
LOCATION:Мех. к. БМ
END:VEVENT
BEGIN:VEVENT
UID:mcij@192.168.245.71:3006
SEQUENCE:0
DTSTAMP:20260421T110528Z
DTSTART:20260218T130000Z
DTEND:20260218T144000Z
SUMMARY:Иностранный язык. Профессионально-ориентированный курс
LOCATION:ГЗ 230
END:VEVENT
BEGIN:VEVENT
UID:6sil@192.168.245.71:3006
SEQUENCE:0
DTSTAMP:20260421T110528Z
DTSTART:20260219T070000Z
DTEND:20260219T084000Z
SUMMARY:Дискретная математика
LOCATION:ГЗ 245
END:VEVENT
BEGIN:VEVENT
UID:jud4@192.168.245.71:3006
SEQUENCE:0
DTSTAMP:20260421T110528Z
DTSTART:20260219T090000Z
DTEND:20260219T104000Z
SUMMARY:Математический анализ
LOCATION:ГЗ 242
END:VEVENT
BEGIN:VEVENT
UID:08lf@192.168.245.71:3006
SEQUENCE:0
DTSTAMP:20260421T110528Z
DTSTART:20260219T090000Z
DTEND:20260219T103000Z
SUMMARY:Численные методы
LOCATION:1 к. 430
END:VEVENT
BEGIN:VEVENT
UID:5vki@192.168.245.71:3006
SEQUENCE:0
DTSTAMP:20260421T110528Z
DTSTART:20260219T090000Z
DTEND:20260219T103000Z
SUMMARY:Численные методы
LOCATION:1 к. 428
END:VEVENT
BEGIN:VEVENT
UID:uxto@192.168.245.71:3006
SEQUENCE:0
DTSTAMP:20260421T110528Z
DTSTART:20260219T130000Z
DTEND:20260219T144000Z
SUMMARY:Основы проектной деятельности
LOCATION:Не опр. Нет
END:VEVENT
BEGIN:VEVENT
UID:8osm@192.168.245.71:3006
SEQUENCE:0
DTSTAMP:20260421T110528Z
DTSTART:20260220T080000Z
DTEND:20260220T084000Z
SUMMARY:Дискретная математика
LOCATION:DL Дистанционно
END:VEVENT
BEGIN:VEVENT
UID:e9vs@192.168.245.71:3006
SEQUENCE:0
DTSTAMP:20260421T110528Z
DTSTART:20260220T090000Z
DTEND:20260220T104000Z
SUMMARY:Дискретная математика
LOCATION:DL Дистанционно
END:VEVENT
BEGIN:VEVENT
UID:azf8@192.168.245.71:3006
SEQUENCE:0
DTSTAMP:20260421T110528Z
DTSTART:20260220T110000Z
DTEND:20260220T124000Z
SUMMARY:Проектирование данных  в приложениях
LOCATION:DL Дистанционно
END:VEVENT
BEGIN:VEVENT
UID:6yro@192.168.245.71:3006
SEQUENCE:0
DTSTAMP:20260421T110528Z
DTSTART:20260220T130000Z
DTEND:20260220T143000Z
SUMMARY:Численные методы
LOCATION:2 к. 325
END:VEVENT
BEGIN:VEVENT
UID:kkp3@192.168.245.71:3006
SEQUENCE:0
DTSTAMP:20260421T110528Z
DTSTART:20260221T050000Z
DTEND:20260221T064000Z
SUMMARY:Язык программирования Java
LOCATION:DL Дистанционно
END:VEVENT
BEGIN:VEVENT
UID:eg50@192.168.245.71:3006
SEQUENCE:0
DTSTAMP:20260421T110528Z
DTSTART:20260221T070000Z
DTEND:20260221T084000Z
SUMMARY:Численные методы
LOCATION:DL Дистанционно
END:VEVENT
BEGIN:VEVENT
UID:s8hm@192.168.245.71:3006
SEQUENCE:0
DTSTAMP:20260421T110528Z
DTSTART:20260221T110000Z
DTEND:20260221T124000Z
SUMMARY:Элективная физическая культура и спорт
LOCATION:СК Секции
END:VEVENT
END:VCALENDAR