BEGIN:VCALENDAR
VERSION:2.0
PRODID:-//spbstu.ru//ical//RU
NAME:Расписание группы 5030102/40002
X-WR-CALNAME:Расписание группы 5030102/40002
TIMEZONE-ID:Europe/Moscow
X-WR-TIMEZONE:Europe/Moscow
BEGIN:VEVENT
UID:7v27@192.168.245.71:3006
SEQUENCE:0
DTSTAMP:20260420T204206Z
DTSTART:20260413T090000Z
DTEND:20260413T104000Z
SUMMARY:Численные методы
LOCATION:1 к. 430
END:VEVENT
BEGIN:VEVENT
UID:0vsi@192.168.245.71:3006
SEQUENCE:0
DTSTAMP:20260420T204206Z
DTSTART:20260413T090000Z
DTEND:20260413T104000Z
SUMMARY:Численные методы
LOCATION:1 к. 428
END:VEVENT
BEGIN:VEVENT
UID:4pk1@192.168.245.71:3006
SEQUENCE:0
DTSTAMP:20260420T204206Z
DTSTART:20260413T110000Z
DTEND:20260413T124000Z
SUMMARY:Математический анализ
LOCATION:ГЗ 329
END:VEVENT
BEGIN:VEVENT
UID:n4r7@192.168.245.71:3006
SEQUENCE:0
DTSTAMP:20260420T204206Z
DTSTART:20260413T130000Z
DTEND:20260413T135000Z
SUMMARY:Математический анализ
LOCATION:ГЗ 329
END:VEVENT
BEGIN:VEVENT
UID:b4ci@192.168.245.71:3006
SEQUENCE:0
DTSTAMP:20260420T204206Z
DTSTART:20260413T150000Z
DTEND:20260413T164000Z
SUMMARY:Факультатив по физике
LOCATION:ГЗ 161
END:VEVENT
BEGIN:VEVENT
UID:ot93@192.168.245.71:3006
SEQUENCE:0
DTSTAMP:20260420T204206Z
DTSTART:20260414T110000Z
DTEND:20260414T124000Z
SUMMARY:Язык кодирования С++
LOCATION:1 к. лаб.1  каф. Примат
END:VEVENT
BEGIN:VEVENT
UID:a3t4@192.168.245.71:3006
SEQUENCE:0
DTSTAMP:20260420T204206Z
DTSTART:20260414T130000Z
DTEND:20260414T144000Z
SUMMARY:Математический анализ
LOCATION:2 к. 330
END:VEVENT
BEGIN:VEVENT
UID:pq3z@192.168.245.71:3006
SEQUENCE:0
DTSTAMP:20260420T204206Z
DTSTART:20260415T070000Z
DTEND:20260415T084000Z
SUMMARY:Язык программирования Java
LOCATION:1 к. лаб.3  каф. Примат
END:VEVENT
BEGIN:VEVENT
UID:oett@192.168.245.71:3006
SEQUENCE:0
DTSTAMP:20260420T204206Z
DTSTART:20260415T090000Z
DTEND:20260415T104000Z
SUMMARY:Элективная физическая культура и спорт
LOCATION:СК Секции
END:VEVENT
BEGIN:VEVENT
UID:4q3c@192.168.245.71:3006
SEQUENCE:0
DTSTAMP:20260420T204206Z
DTSTART:20260415T110000Z
DTEND:20260415T124000Z
SUMMARY:Теоретическая механика
LOCATION:Мех. к. БМ
END:VEVENT
BEGIN:VEVENT
UID:cpj0@192.168.245.71:3006
SEQUENCE:0
DTSTAMP:20260420T204206Z
DTSTART:20260415T130000Z
DTEND:20260415T144000Z
SUMMARY:Иностранный язык. Профессионально-ориентированный курс
LOCATION:ГЗ 230
END:VEVENT
BEGIN:VEVENT
UID:wl71@192.168.245.71:3006
SEQUENCE:0
DTSTAMP:20260420T204206Z
DTSTART:20260416T070000Z
DTEND:20260416T084000Z
SUMMARY:Дискретная математика
LOCATION:2 к. 330
END:VEVENT
BEGIN:VEVENT
UID:lol4@192.168.245.71:3006
SEQUENCE:0
DTSTAMP:20260420T204206Z
DTSTART:20260416T090000Z
DTEND:20260416T104000Z
SUMMARY:Математический анализ
LOCATION:ГЗ 242
END:VEVENT
BEGIN:VEVENT
UID:zjsy@192.168.245.71:3006
SEQUENCE:0
DTSTAMP:20260420T204206Z
DTSTART:20260417T080000Z
DTEND:20260417T084000Z
SUMMARY:Дискретная математика
LOCATION:DL Дистанционно
END:VEVENT
BEGIN:VEVENT
UID:t7ay@192.168.245.71:3006
SEQUENCE:0
DTSTAMP:20260420T204206Z
DTSTART:20260417T090000Z
DTEND:20260417T104000Z
SUMMARY:Дискретная математика
LOCATION:DL Дистанционно
END:VEVENT
BEGIN:VEVENT
UID:3x8l@192.168.245.71:3006
SEQUENCE:0
DTSTAMP:20260420T204206Z
DTSTART:20260417T110000Z
DTEND:20260417T124000Z
SUMMARY:Проектирование данных  в приложениях
LOCATION:DL Дистанционно
END:VEVENT
BEGIN:VEVENT
UID:l3mv@192.168.245.71:3006
SEQUENCE:0
DTSTAMP:20260420T204206Z
DTSTART:20260417T130000Z
DTEND:20260417T144000Z
SUMMARY:Язык программирования Java
LOCATION:DL Дистанционно
END:VEVENT
BEGIN:VEVENT
UID:hodn@192.168.245.71:3006
SEQUENCE:0
DTSTAMP:20260420T204206Z
DTSTART:20260418T070000Z
DTEND:20260418T084000Z
SUMMARY:Численные методы
LOCATION:DL Дистанционно
END:VEVENT
BEGIN:VEVENT
UID:pqn0@192.168.245.71:3006
SEQUENCE:0
DTSTAMP:20260420T204206Z
DTSTART:20260418T110000Z
DTEND:20260418T124000Z
SUMMARY:Элективная физическая культура и спорт
LOCATION:СК Секции
END:VEVENT
END:VCALENDAR