BEGIN:VCALENDAR
VERSION:2.0
PRODID:-//spbstu.ru//ical//RU
NAME:Расписание группы 5030102/40003
X-WR-CALNAME:Расписание группы 5030102/40003
TIMEZONE-ID:Europe/Moscow
X-WR-TIMEZONE:Europe/Moscow
BEGIN:VEVENT
UID:fe3h@192.168.245.71:3006
SEQUENCE:0
DTSTAMP:20260425T134834Z
DTSTART:20260202T070000Z
DTEND:20260202T084000Z
SUMMARY:Иностранный язык. Профессионально-ориентированный курс
LOCATION:ГЗ 252
END:VEVENT
BEGIN:VEVENT
UID:j61e@192.168.245.71:3006
SEQUENCE:0
DTSTAMP:20260425T134834Z
DTSTART:20260202T090000Z
DTEND:20260202T104000Z
SUMMARY:Теоретическая механика
LOCATION:ГЗ 107
END:VEVENT
BEGIN:VEVENT
UID:4bdv@192.168.245.71:3006
SEQUENCE:0
DTSTAMP:20260425T134834Z
DTSTART:20260202T110000Z
DTEND:20260202T124000Z
SUMMARY:Математический анализ
LOCATION:ГЗ 329
END:VEVENT
BEGIN:VEVENT
UID:v88d@192.168.245.71:3006
SEQUENCE:0
DTSTAMP:20260425T134834Z
DTSTART:20260202T130000Z
DTEND:20260202T135000Z
SUMMARY:Математический анализ
LOCATION:ГЗ 329
END:VEVENT
BEGIN:VEVENT
UID:63la@192.168.245.71:3006
SEQUENCE:0
DTSTAMP:20260425T134834Z
DTSTART:20260202T150000Z
DTEND:20260202T164000Z
SUMMARY:Факультатив по физике
LOCATION:ГЗ 161
END:VEVENT
BEGIN:VEVENT
UID:avay@192.168.245.71:3006
SEQUENCE:0
DTSTAMP:20260425T134834Z
DTSTART:20260203T070000Z
DTEND:20260203T084000Z
SUMMARY:Дискретная математика
LOCATION:1 к. 431
END:VEVENT
BEGIN:VEVENT
UID:4upz@192.168.245.71:3006
SEQUENCE:0
DTSTAMP:20260425T134834Z
DTSTART:20260203T090000Z
DTEND:20260203T104000Z
SUMMARY:Численные методы
LOCATION:1 к. 430
END:VEVENT
BEGIN:VEVENT
UID:hqtu@192.168.245.71:3006
SEQUENCE:0
DTSTAMP:20260425T134834Z
DTSTART:20260203T090000Z
DTEND:20260203T104000Z
SUMMARY:Численные методы
LOCATION:1 к. 428
END:VEVENT
BEGIN:VEVENT
UID:5vnp@192.168.245.71:3006
SEQUENCE:0
DTSTAMP:20260425T134834Z
DTSTART:20260203T110000Z
DTEND:20260203T124000Z
SUMMARY:Математический анализ
LOCATION:2 к. 330
END:VEVENT
BEGIN:VEVENT
UID:e0bx@192.168.245.71:3006
SEQUENCE:0
DTSTAMP:20260425T134834Z
DTSTART:20260204T070000Z
DTEND:20260204T084000Z
SUMMARY:Язык кодирования С++
LOCATION:1 к. лаб.1  каф. Примат
END:VEVENT
BEGIN:VEVENT
UID:m0ep@192.168.245.71:3006
SEQUENCE:0
DTSTAMP:20260425T134834Z
DTSTART:20260204T110000Z
DTEND:20260204T124000Z
SUMMARY:Теоретическая механика
LOCATION:Мех. к. БМ
END:VEVENT
BEGIN:VEVENT
UID:kw1d@192.168.245.71:3006
SEQUENCE:0
DTSTAMP:20260425T134834Z
DTSTART:20260204T130000Z
DTEND:20260204T144000Z
SUMMARY:Язык программирования Java
LOCATION:1 к. лаб.3  каф. Примат
END:VEVENT
BEGIN:VEVENT
UID:a7zz@192.168.245.71:3006
SEQUENCE:0
DTSTAMP:20260425T134834Z
DTSTART:20260206T080000Z
DTEND:20260206T084000Z
SUMMARY:Дискретная математика
LOCATION:DL Дистанционно
END:VEVENT
BEGIN:VEVENT
UID:iksx@192.168.245.71:3006
SEQUENCE:0
DTSTAMP:20260425T134834Z
DTSTART:20260206T090000Z
DTEND:20260206T104000Z
SUMMARY:Дискретная математика
LOCATION:DL Дистанционно
END:VEVENT
BEGIN:VEVENT
UID:mfge@192.168.245.71:3006
SEQUENCE:0
DTSTAMP:20260425T134834Z
DTSTART:20260206T110000Z
DTEND:20260206T124000Z
SUMMARY:Проектирование данных  в приложениях
LOCATION:DL Дистанционно
END:VEVENT
BEGIN:VEVENT
UID:stkt@192.168.245.71:3006
SEQUENCE:0
DTSTAMP:20260425T134834Z
DTSTART:20260206T150000Z
DTEND:20260206T164000Z
SUMMARY:Основы проектной деятельности
LOCATION:DL Дистанционно
END:VEVENT
BEGIN:VEVENT
UID:i4of@192.168.245.71:3006
SEQUENCE:0
DTSTAMP:20260425T134834Z
DTSTART:20260207T050000Z
DTEND:20260207T064000Z
SUMMARY:Язык программирования Java
LOCATION:DL Дистанционно
END:VEVENT
BEGIN:VEVENT
UID:ix95@192.168.245.71:3006
SEQUENCE:0
DTSTAMP:20260425T134834Z
DTSTART:20260207T070000Z
DTEND:20260207T084000Z
SUMMARY:Численные методы
LOCATION:DL Дистанционно
END:VEVENT
END:VCALENDAR