BEGIN:VCALENDAR
VERSION:2.0
PRODID:-//spbstu.ru//ical//RU
NAME:Расписание группы 5030102/40003
X-WR-CALNAME:Расписание группы 5030102/40003
TIMEZONE-ID:Europe/Moscow
X-WR-TIMEZONE:Europe/Moscow
BEGIN:VEVENT
UID:b4as@192.168.245.71:3006
SEQUENCE:0
DTSTAMP:20260424T183211Z
DTSTART:20260310T070000Z
DTEND:20260310T084000Z
SUMMARY:Дискретная математика
LOCATION:1 к. 431
END:VEVENT
BEGIN:VEVENT
UID:0ins@192.168.245.71:3006
SEQUENCE:0
DTSTAMP:20260424T183211Z
DTSTART:20260310T090000Z
DTEND:20260310T104000Z
SUMMARY:Численные методы
LOCATION:1 к. 430
END:VEVENT
BEGIN:VEVENT
UID:0m21@192.168.245.71:3006
SEQUENCE:0
DTSTAMP:20260424T183211Z
DTSTART:20260310T090000Z
DTEND:20260310T104000Z
SUMMARY:Численные методы
LOCATION:1 к. 428
END:VEVENT
BEGIN:VEVENT
UID:w4to@192.168.245.71:3006
SEQUENCE:0
DTSTAMP:20260424T183211Z
DTSTART:20260310T110000Z
DTEND:20260310T124000Z
SUMMARY:Математический анализ
LOCATION:2 к. 330
END:VEVENT
BEGIN:VEVENT
UID:n4mk@192.168.245.71:3006
SEQUENCE:0
DTSTAMP:20260424T183211Z
DTSTART:20260310T130000Z
DTEND:20260310T144000Z
SUMMARY:Математический анализ
LOCATION:2 к. 330
END:VEVENT
BEGIN:VEVENT
UID:ujhp@192.168.245.71:3006
SEQUENCE:0
DTSTAMP:20260424T183211Z
DTSTART:20260311T090000Z
DTEND:20260311T104000Z
SUMMARY:Элективная физическая культура и спорт
LOCATION:СК Секции
END:VEVENT
BEGIN:VEVENT
UID:8735@192.168.245.71:3006
SEQUENCE:0
DTSTAMP:20260424T183211Z
DTSTART:20260311T110000Z
DTEND:20260311T124000Z
SUMMARY:Теоретическая механика
LOCATION:Мех. к. БМ
END:VEVENT
BEGIN:VEVENT
UID:kf5p@192.168.245.71:3006
SEQUENCE:0
DTSTAMP:20260424T183211Z
DTSTART:20260311T130000Z
DTEND:20260311T144000Z
SUMMARY:Язык программирования Java
LOCATION:1 к. лаб.3  каф. Примат
END:VEVENT
BEGIN:VEVENT
UID:c8we@192.168.245.71:3006
SEQUENCE:0
DTSTAMP:20260424T183211Z
DTSTART:20260312T090000Z
DTEND:20260312T104000Z
SUMMARY:Проектирование данных  в приложениях
LOCATION:DL Дистанционно
END:VEVENT
BEGIN:VEVENT
UID:jals@192.168.245.71:3006
SEQUENCE:0
DTSTAMP:20260424T183211Z
DTSTART:20260313T080000Z
DTEND:20260313T084000Z
SUMMARY:Дискретная математика
LOCATION:DL Дистанционно
END:VEVENT
BEGIN:VEVENT
UID:i4zx@192.168.245.71:3006
SEQUENCE:0
DTSTAMP:20260424T183211Z
DTSTART:20260313T090000Z
DTEND:20260313T104000Z
SUMMARY:Дискретная математика
LOCATION:DL Дистанционно
END:VEVENT
BEGIN:VEVENT
UID:wvb4@192.168.245.71:3006
SEQUENCE:0
DTSTAMP:20260424T183211Z
DTSTART:20260313T110000Z
DTEND:20260313T124000Z
SUMMARY:Язык кодирования С++
LOCATION:DL Дистанционно
END:VEVENT
BEGIN:VEVENT
UID:4fus@192.168.245.71:3006
SEQUENCE:0
DTSTAMP:20260424T183211Z
DTSTART:20260314T050000Z
DTEND:20260314T064000Z
SUMMARY:Язык программирования Java
LOCATION:DL Дистанционно
END:VEVENT
BEGIN:VEVENT
UID:zk62@192.168.245.71:3006
SEQUENCE:0
DTSTAMP:20260424T183211Z
DTSTART:20260314T070000Z
DTEND:20260314T084000Z
SUMMARY:Численные методы
LOCATION:DL Дистанционно
END:VEVENT
BEGIN:VEVENT
UID:p2mw@192.168.245.71:3006
SEQUENCE:0
DTSTAMP:20260424T183211Z
DTSTART:20260314T110000Z
DTEND:20260314T124000Z
SUMMARY:Элективная физическая культура и спорт
LOCATION:СК Секции
END:VEVENT
END:VCALENDAR