BEGIN:VCALENDAR
VERSION:2.0
PRODID:-//spbstu.ru//ical//RU
NAME:Расписание группы 5030102/40003
X-WR-CALNAME:Расписание группы 5030102/40003
TIMEZONE-ID:Europe/Moscow
X-WR-TIMEZONE:Europe/Moscow
BEGIN:VEVENT
UID:4ijm@192.168.245.71:3006
SEQUENCE:0
DTSTAMP:20260422T081906Z
DTSTART:20260406T070000Z
DTEND:20260406T084000Z
SUMMARY:Иностранный язык. Профессионально-ориентированный курс
LOCATION:ГЗ 252
END:VEVENT
BEGIN:VEVENT
UID:v3n4@192.168.245.71:3006
SEQUENCE:0
DTSTAMP:20260422T081906Z
DTSTART:20260406T110000Z
DTEND:20260406T124000Z
SUMMARY:Математический анализ
LOCATION:ГЗ 329
END:VEVENT
BEGIN:VEVENT
UID:7dpc@192.168.245.71:3006
SEQUENCE:0
DTSTAMP:20260422T081906Z
DTSTART:20260406T130000Z
DTEND:20260406T135000Z
SUMMARY:Математический анализ
LOCATION:ГЗ 329
END:VEVENT
BEGIN:VEVENT
UID:injg@192.168.245.71:3006
SEQUENCE:0
DTSTAMP:20260422T081906Z
DTSTART:20260406T130000Z
DTEND:20260406T153000Z
SUMMARY:Теоретическая механика
LOCATION:ГЗ 242
END:VEVENT
BEGIN:VEVENT
UID:cvdo@192.168.245.71:3006
SEQUENCE:0
DTSTAMP:20260422T081906Z
DTSTART:20260406T150000Z
DTEND:20260406T164000Z
SUMMARY:Факультатив по физике
LOCATION:ГЗ 161
END:VEVENT
BEGIN:VEVENT
UID:jmas@192.168.245.71:3006
SEQUENCE:0
DTSTAMP:20260422T081906Z
DTSTART:20260407T070000Z
DTEND:20260407T084000Z
SUMMARY:Дискретная математика
LOCATION:1 к. 431
END:VEVENT
BEGIN:VEVENT
UID:klua@192.168.245.71:3006
SEQUENCE:0
DTSTAMP:20260422T081906Z
DTSTART:20260407T090000Z
DTEND:20260407T104000Z
SUMMARY:Численные методы
LOCATION:1 к. 430
END:VEVENT
BEGIN:VEVENT
UID:o5ss@192.168.245.71:3006
SEQUENCE:0
DTSTAMP:20260422T081906Z
DTSTART:20260407T090000Z
DTEND:20260407T104000Z
SUMMARY:Численные методы
LOCATION:1 к. 428
END:VEVENT
BEGIN:VEVENT
UID:o361@192.168.245.71:3006
SEQUENCE:0
DTSTAMP:20260422T081906Z
DTSTART:20260407T110000Z
DTEND:20260407T124000Z
SUMMARY:Математический анализ
LOCATION:2 к. 330
END:VEVENT
BEGIN:VEVENT
UID:m2is@192.168.245.71:3006
SEQUENCE:0
DTSTAMP:20260422T081906Z
DTSTART:20260407T130000Z
DTEND:20260407T144000Z
SUMMARY:Математический анализ
LOCATION:2 к. 330
END:VEVENT
BEGIN:VEVENT
UID:hq96@192.168.245.71:3006
SEQUENCE:0
DTSTAMP:20260422T081906Z
DTSTART:20260407T160000Z
DTEND:20260407T164500Z
SUMMARY:Алгоритмы и структуры данных
LOCATION:DL Дистанционно
END:VEVENT
BEGIN:VEVENT
UID:7l5z@192.168.245.71:3006
SEQUENCE:0
DTSTAMP:20260422T081906Z
DTSTART:20260407T160000Z
DTEND:20260407T164500Z
SUMMARY:Алгоритмы и структуры данных
LOCATION:DL Дистанционно
END:VEVENT
BEGIN:VEVENT
UID:j4fi@192.168.245.71:3006
SEQUENCE:0
DTSTAMP:20260422T081906Z
DTSTART:20260408T090000Z
DTEND:20260408T104000Z
SUMMARY:Элективная физическая культура и спорт
LOCATION:СК Секции
END:VEVENT
BEGIN:VEVENT
UID:h38q@192.168.245.71:3006
SEQUENCE:0
DTSTAMP:20260422T081906Z
DTSTART:20260408T110000Z
DTEND:20260408T124000Z
SUMMARY:Теоретическая механика
LOCATION:Мех. к. БМ
END:VEVENT
BEGIN:VEVENT
UID:mxji@192.168.245.71:3006
SEQUENCE:0
DTSTAMP:20260422T081906Z
DTSTART:20260408T130000Z
DTEND:20260408T144000Z
SUMMARY:Язык программирования Java
LOCATION:1 к. лаб.3  каф. Примат
END:VEVENT
BEGIN:VEVENT
UID:mtrt@192.168.245.71:3006
SEQUENCE:0
DTSTAMP:20260422T081906Z
DTSTART:20260408T130000Z
DTEND:20260408T143000Z
SUMMARY:Физика
LOCATION:ГЗ 324
END:VEVENT
BEGIN:VEVENT
UID:paty@192.168.245.71:3006
SEQUENCE:0
DTSTAMP:20260422T081906Z
DTSTART:20260408T130000Z
DTEND:20260408T143000Z
SUMMARY:Физика
LOCATION:ГЗ 324
END:VEVENT
BEGIN:VEVENT
UID:8ujz@192.168.245.71:3006
SEQUENCE:0
DTSTAMP:20260422T081906Z
DTSTART:20260408T130000Z
DTEND:20260408T143000Z
SUMMARY:Физика
LOCATION:ГЗ 324
END:VEVENT
BEGIN:VEVENT
UID:hns4@192.168.245.71:3006
SEQUENCE:0
DTSTAMP:20260422T081906Z
DTSTART:20260409T090000Z
DTEND:20260409T104000Z
SUMMARY:Проектирование данных  в приложениях
LOCATION:DL Дистанционно
END:VEVENT
BEGIN:VEVENT
UID:96zu@192.168.245.71:3006
SEQUENCE:0
DTSTAMP:20260422T081906Z
DTSTART:20260410T080000Z
DTEND:20260410T084000Z
SUMMARY:Дискретная математика
LOCATION:DL Дистанционно
END:VEVENT
BEGIN:VEVENT
UID:t7ug@192.168.245.71:3006
SEQUENCE:0
DTSTAMP:20260422T081906Z
DTSTART:20260410T090000Z
DTEND:20260410T104000Z
SUMMARY:Дискретная математика
LOCATION:DL Дистанционно
END:VEVENT
BEGIN:VEVENT
UID:flax@192.168.245.71:3006
SEQUENCE:0
DTSTAMP:20260422T081906Z
DTSTART:20260410T110000Z
DTEND:20260410T124000Z
SUMMARY:Язык кодирования С++
LOCATION:DL Дистанционно
END:VEVENT
BEGIN:VEVENT
UID:30h5@192.168.245.71:3006
SEQUENCE:0
DTSTAMP:20260422T081906Z
DTSTART:20260410T130000Z
DTEND:20260410T144000Z
SUMMARY:Язык программирования Java
LOCATION:DL Дистанционно
END:VEVENT
BEGIN:VEVENT
UID:gwl9@192.168.245.71:3006
SEQUENCE:0
DTSTAMP:20260422T081906Z
DTSTART:20260411T070000Z
DTEND:20260411T084000Z
SUMMARY:Численные методы
LOCATION:DL Дистанционно
END:VEVENT
BEGIN:VEVENT
UID:tsb4@192.168.245.71:3006
SEQUENCE:0
DTSTAMP:20260422T081906Z
DTSTART:20260411T110000Z
DTEND:20260411T124000Z
SUMMARY:Элективная физическая культура и спорт
LOCATION:СК Секции
END:VEVENT
END:VCALENDAR