BEGIN:VCALENDAR
VERSION:2.0
PRODID:-//spbstu.ru//ical//RU
NAME:Расписание группы 5030103/40002
X-WR-CALNAME:Расписание группы 5030103/40002
TIMEZONE-ID:Europe/Moscow
X-WR-TIMEZONE:Europe/Moscow
BEGIN:VEVENT
UID:p689@192.168.245.71:3006
SEQUENCE:0
DTSTAMP:20260423T205804Z
DTSTART:20251020T070000Z
DTEND:20251020T084000Z
SUMMARY:Иностранный язык: Базовый курс
LOCATION:ГЗ 252
END:VEVENT
BEGIN:VEVENT
UID:ma1s@192.168.245.71:3006
SEQUENCE:0
DTSTAMP:20260423T205804Z
DTSTART:20251020T090000Z
DTEND:20251020T104000Z
SUMMARY:История России
LOCATION:Мех. к. БМ
END:VEVENT
BEGIN:VEVENT
UID:gcc2@192.168.245.71:3006
SEQUENCE:0
DTSTAMP:20260423T205804Z
DTSTART:20251020T110000Z
DTEND:20251020T124000Z
SUMMARY:Цифровая аналитика
LOCATION:НИК А2.07
END:VEVENT
BEGIN:VEVENT
UID:6k3j@192.168.245.71:3006
SEQUENCE:0
DTSTAMP:20260423T205804Z
DTSTART:20251021T070000Z
DTEND:20251021T084000Z
SUMMARY:Теоретическая механика
LOCATION:ГЗ 240
END:VEVENT
BEGIN:VEVENT
UID:q4jg@192.168.245.71:3006
SEQUENCE:0
DTSTAMP:20260423T205804Z
DTSTART:20251021T090000Z
DTEND:20251021T104000Z
SUMMARY:Численные методы
LOCATION:1 к. 430
END:VEVENT
BEGIN:VEVENT
UID:6wvl@192.168.245.71:3006
SEQUENCE:0
DTSTAMP:20260423T205804Z
DTSTART:20251021T090000Z
DTEND:20251021T104000Z
SUMMARY:Численные методы
LOCATION:1 к. 428
END:VEVENT
BEGIN:VEVENT
UID:77w4@192.168.245.71:3006
SEQUENCE:0
DTSTAMP:20260423T205804Z
DTSTART:20251021T110000Z
DTEND:20251021T124000Z
SUMMARY:Математический анализ
LOCATION:Мех. к. БМ
END:VEVENT
BEGIN:VEVENT
UID:cu6g@192.168.245.71:3006
SEQUENCE:0
DTSTAMP:20260423T205804Z
DTSTART:20251021T130000Z
DTEND:20251021T134500Z
SUMMARY:Математический анализ
LOCATION:Мех. к. БМ
END:VEVENT
BEGIN:VEVENT
UID:g4u8@192.168.245.71:3006
SEQUENCE:0
DTSTAMP:20260423T205804Z
DTSTART:20251022T070000Z
DTEND:20251022T084000Z
SUMMARY:Физика
LOCATION:ГЗ 101
END:VEVENT
BEGIN:VEVENT
UID:fni0@192.168.245.71:3006
SEQUENCE:0
DTSTAMP:20260423T205804Z
DTSTART:20251022T090000Z
DTEND:20251022T104000Z
SUMMARY:Элективная физическая культура и спорт
LOCATION:СК Секции
END:VEVENT
BEGIN:VEVENT
UID:7kzv@192.168.245.71:3006
SEQUENCE:0
DTSTAMP:20260423T205804Z
DTSTART:20251022T110000Z
DTEND:20251022T124000Z
SUMMARY:Физика
LOCATION:ГЗ 278
END:VEVENT
BEGIN:VEVENT
UID:07e3@192.168.245.71:3006
SEQUENCE:0
DTSTAMP:20260423T205804Z
DTSTART:20251022T130000Z
DTEND:20251022T144000Z
SUMMARY:Навыки личной эффективности (SoftSkills)
LOCATION:Не опр. Нет
END:VEVENT
BEGIN:VEVENT
UID:25sq@192.168.245.71:3006
SEQUENCE:0
DTSTAMP:20260423T205804Z
DTSTART:20251023T070000Z
DTEND:20251023T084000Z
SUMMARY:Физика
LOCATION:ГЗ 285
END:VEVENT
BEGIN:VEVENT
UID:w7fu@192.168.245.71:3006
SEQUENCE:0
DTSTAMP:20260423T205804Z
DTSTART:20251023T070000Z
DTEND:20251023T084000Z
SUMMARY:Физика
LOCATION:ГЗ 285
END:VEVENT
BEGIN:VEVENT
UID:gj4j@192.168.245.71:3006
SEQUENCE:0
DTSTAMP:20260423T205804Z
DTSTART:20251023T090000Z
DTEND:20251023T104000Z
SUMMARY:Теоретическая механика
LOCATION:Мех. к. БМ
END:VEVENT
BEGIN:VEVENT
UID:6a3q@192.168.245.71:3006
SEQUENCE:0
DTSTAMP:20260423T205804Z
DTSTART:20251023T110000Z
DTEND:20251023T124000Z
SUMMARY:Безопасность жизнедеятельности
LOCATION:ГК 104
END:VEVENT
BEGIN:VEVENT
UID:x5t6@192.168.245.71:3006
SEQUENCE:0
DTSTAMP:20260423T205804Z
DTSTART:20251023T130000Z
DTEND:20251023T144000Z
SUMMARY:Математический анализ
LOCATION:ГЗ 242
END:VEVENT
BEGIN:VEVENT
UID:34pg@192.168.245.71:3006
SEQUENCE:0
DTSTAMP:20260423T205804Z
DTSTART:20251024T060000Z
DTEND:20251024T064500Z
SUMMARY:Механика материалов
LOCATION:НИК Г.3.58
END:VEVENT
BEGIN:VEVENT
UID:9v32@192.168.245.71:3006
SEQUENCE:0
DTSTAMP:20260423T205804Z
DTSTART:20251024T070000Z
DTEND:20251024T084000Z
SUMMARY:Механика материалов
LOCATION:НИК Г.3.58
END:VEVENT
BEGIN:VEVENT
UID:b19d@192.168.245.71:3006
SEQUENCE:0
DTSTAMP:20260423T205804Z
DTSTART:20251024T090000Z
DTEND:20251024T104000Z
SUMMARY:Математический анализ
LOCATION:ГЗ 242
END:VEVENT
BEGIN:VEVENT
UID:38kh@192.168.245.71:3006
SEQUENCE:0
DTSTAMP:20260423T205804Z
DTSTART:20251024T110000Z
DTEND:20251024T124000Z
SUMMARY:Физика
LOCATION:ГЗ 324
END:VEVENT
BEGIN:VEVENT
UID:h1cg@192.168.245.71:3006
SEQUENCE:0
DTSTAMP:20260423T205804Z
DTSTART:20251024T130000Z
DTEND:20251024T144000Z
SUMMARY:Механика материалов
LOCATION:Мех. к. БМ
END:VEVENT
BEGIN:VEVENT
UID:qvxw@192.168.245.71:3006
SEQUENCE:0
DTSTAMP:20260423T205804Z
DTSTART:20251025T050000Z
DTEND:20251025T064000Z
SUMMARY:Численные методы
LOCATION:DL Дистанционно
END:VEVENT
BEGIN:VEVENT
UID:fzq3@192.168.245.71:3006
SEQUENCE:0
DTSTAMP:20260423T205804Z
DTSTART:20251025T070000Z
DTEND:20251025T084000Z
SUMMARY:Навыки личной эффективности (SoftSkills)
LOCATION:Не опр. Нет
END:VEVENT
BEGIN:VEVENT
UID:luqv@192.168.245.71:3006
SEQUENCE:0
DTSTAMP:20260423T205804Z
DTSTART:20251025T110000Z
DTEND:20251025T124000Z
SUMMARY:Элективная физическая культура и спорт
LOCATION:СК Секции
END:VEVENT
END:VCALENDAR