BEGIN:VCALENDAR
VERSION:2.0
PRODID:-//spbstu.ru//ical//RU
NAME:Расписание группы 5030103/40002
X-WR-CALNAME:Расписание группы 5030103/40002
TIMEZONE-ID:Europe/Moscow
X-WR-TIMEZONE:Europe/Moscow
BEGIN:VEVENT
UID:240g@192.168.245.71:3006
SEQUENCE:0
DTSTAMP:20260423T045454Z
DTSTART:20251124T070000Z
DTEND:20251124T084000Z
SUMMARY:Иностранный язык: Базовый курс
LOCATION:ГЗ 252
END:VEVENT
BEGIN:VEVENT
UID:mkhe@192.168.245.71:3006
SEQUENCE:0
DTSTAMP:20260423T045454Z
DTSTART:20251125T070000Z
DTEND:20251125T084000Z
SUMMARY:Теоретическая механика
LOCATION:ГЗ 245
END:VEVENT
BEGIN:VEVENT
UID:hsnf@192.168.245.71:3006
SEQUENCE:0
DTSTAMP:20260423T045454Z
DTSTART:20251125T090000Z
DTEND:20251125T104000Z
SUMMARY:Численные методы
LOCATION:1 к. 430
END:VEVENT
BEGIN:VEVENT
UID:ya7h@192.168.245.71:3006
SEQUENCE:0
DTSTAMP:20260423T045454Z
DTSTART:20251125T090000Z
DTEND:20251125T104000Z
SUMMARY:Численные методы
LOCATION:1 к. 428
END:VEVENT
BEGIN:VEVENT
UID:ta0v@192.168.245.71:3006
SEQUENCE:0
DTSTAMP:20260423T045454Z
DTSTART:20251125T110000Z
DTEND:20251125T124000Z
SUMMARY:Математический анализ
LOCATION:Мех. к. БМ
END:VEVENT
BEGIN:VEVENT
UID:aq9l@192.168.245.71:3006
SEQUENCE:0
DTSTAMP:20260423T045454Z
DTSTART:20251125T130000Z
DTEND:20251125T134500Z
SUMMARY:Математический анализ
LOCATION:Мех. к. БМ
END:VEVENT
BEGIN:VEVENT
UID:7pof@192.168.245.71:3006
SEQUENCE:0
DTSTAMP:20260423T045454Z
DTSTART:20251126T070000Z
DTEND:20251126T084000Z
SUMMARY:Физика
LOCATION:ГЗ 101
END:VEVENT
BEGIN:VEVENT
UID:1r9u@192.168.245.71:3006
SEQUENCE:0
DTSTAMP:20260423T045454Z
DTSTART:20251126T090000Z
DTEND:20251126T104000Z
SUMMARY:Элективная физическая культура и спорт
LOCATION:СК Секции
END:VEVENT
BEGIN:VEVENT
UID:0mcu@192.168.245.71:3006
SEQUENCE:0
DTSTAMP:20260423T045454Z
DTSTART:20251126T110000Z
DTEND:20251126T124000Z
SUMMARY:Физика
LOCATION:ГЗ 278
END:VEVENT
BEGIN:VEVENT
UID:31lg@192.168.245.71:3006
SEQUENCE:0
DTSTAMP:20260423T045454Z
DTSTART:20251126T130000Z
DTEND:20251126T144000Z
SUMMARY:Навыки личной эффективности (SoftSkills)
LOCATION:Не опр. Нет
END:VEVENT
BEGIN:VEVENT
UID:8vlu@192.168.245.71:3006
SEQUENCE:0
DTSTAMP:20260423T045454Z
DTSTART:20251127T070000Z
DTEND:20251127T084000Z
SUMMARY:Физика
LOCATION:ГЗ 285
END:VEVENT
BEGIN:VEVENT
UID:3g8j@192.168.245.71:3006
SEQUENCE:0
DTSTAMP:20260423T045454Z
DTSTART:20251127T070000Z
DTEND:20251127T084000Z
SUMMARY:Физика
LOCATION:ГЗ 285
END:VEVENT
BEGIN:VEVENT
UID:n1pk@192.168.245.71:3006
SEQUENCE:0
DTSTAMP:20260423T045454Z
DTSTART:20251127T090000Z
DTEND:20251127T104000Z
SUMMARY:Теоретическая механика
LOCATION:Мех. к. БМ
END:VEVENT
BEGIN:VEVENT
UID:cyxi@192.168.245.71:3006
SEQUENCE:0
DTSTAMP:20260423T045454Z
DTSTART:20251128T060000Z
DTEND:20251128T064500Z
SUMMARY:Механика материалов
LOCATION:НИК Г.3.58
END:VEVENT
BEGIN:VEVENT
UID:hl2m@192.168.245.71:3006
SEQUENCE:0
DTSTAMP:20260423T045454Z
DTSTART:20251128T070000Z
DTEND:20251128T084000Z
SUMMARY:Механика материалов
LOCATION:НИК Г.3.58
END:VEVENT
BEGIN:VEVENT
UID:36mu@192.168.245.71:3006
SEQUENCE:0
DTSTAMP:20260423T045454Z
DTSTART:20251128T090000Z
DTEND:20251128T104000Z
SUMMARY:Математический анализ
LOCATION:ГЗ 242
END:VEVENT
BEGIN:VEVENT
UID:768p@192.168.245.71:3006
SEQUENCE:0
DTSTAMP:20260423T045454Z
DTSTART:20251128T110000Z
DTEND:20251128T124000Z
SUMMARY:Физика
LOCATION:ГЗ 324
END:VEVENT
BEGIN:VEVENT
UID:wmuu@192.168.245.71:3006
SEQUENCE:0
DTSTAMP:20260423T045454Z
DTSTART:20251128T130000Z
DTEND:20251128T144000Z
SUMMARY:Механика материалов
LOCATION:Мех. к. БМ
END:VEVENT
BEGIN:VEVENT
UID:zavz@192.168.245.71:3006
SEQUENCE:0
DTSTAMP:20260423T045454Z
DTSTART:20251129T050000Z
DTEND:20251129T064000Z
SUMMARY:Численные методы
LOCATION:DL Дистанционно
END:VEVENT
BEGIN:VEVENT
UID:59t7@192.168.245.71:3006
SEQUENCE:0
DTSTAMP:20260423T045454Z
DTSTART:20251129T070000Z
DTEND:20251129T084000Z
SUMMARY:Навыки личной эффективности (SoftSkills)
LOCATION:Не опр. Нет
END:VEVENT
BEGIN:VEVENT
UID:fahw@192.168.245.71:3006
SEQUENCE:0
DTSTAMP:20260423T045454Z
DTSTART:20251129T090000Z
DTEND:20251129T104000Z
SUMMARY:История России
LOCATION:ГЗ 329
END:VEVENT
BEGIN:VEVENT
UID:nrwh@192.168.245.71:3006
SEQUENCE:0
DTSTAMP:20260423T045454Z
DTSTART:20251129T110000Z
DTEND:20251129T124000Z
SUMMARY:Элективная физическая культура и спорт
LOCATION:СК Секции
END:VEVENT
END:VCALENDAR