BEGIN:VCALENDAR
VERSION:2.0
PRODID:-//spbstu.ru//ical//RU
NAME:Расписание группы 5030103/40002
X-WR-CALNAME:Расписание группы 5030103/40002
TIMEZONE-ID:Europe/Moscow
X-WR-TIMEZONE:Europe/Moscow
BEGIN:VEVENT
UID:sj6o@192.168.245.71:3006
SEQUENCE:0
DTSTAMP:20260421T020029Z
DTSTART:20260518T090000Z
DTEND:20260518T104000Z
SUMMARY:Теоретическая механика
LOCATION:ГЗ 278
END:VEVENT
BEGIN:VEVENT
UID:osmt@192.168.245.71:3006
SEQUENCE:0
DTSTAMP:20260421T020029Z
DTSTART:20260518T110000Z
DTEND:20260518T124000Z
SUMMARY:Математический анализ
LOCATION:ГЗ 329
END:VEVENT
BEGIN:VEVENT
UID:rskb@192.168.245.71:3006
SEQUENCE:0
DTSTAMP:20260421T020029Z
DTSTART:20260518T130000Z
DTEND:20260518T135000Z
SUMMARY:Математический анализ
LOCATION:ГЗ 329
END:VEVENT
BEGIN:VEVENT
UID:kajb@192.168.245.71:3006
SEQUENCE:0
DTSTAMP:20260421T020029Z
DTSTART:20260522T050000Z
DTEND:20260522T064000Z
SUMMARY:Языки программирования
LOCATION:НИК А2.07
END:VEVENT
BEGIN:VEVENT
UID:8wd0@192.168.245.71:3006
SEQUENCE:0
DTSTAMP:20260421T020029Z
DTSTART:20260522T070000Z
DTEND:20260522T084000Z
SUMMARY:Языки программирования
LOCATION:НИК А2.07
END:VEVENT
BEGIN:VEVENT
UID:3q8j@192.168.245.71:3006
SEQUENCE:0
DTSTAMP:20260421T020029Z
DTSTART:20260522T090000Z
DTEND:20260522T104000Z
SUMMARY:Математический анализ
LOCATION:ГЗ 241
END:VEVENT
BEGIN:VEVENT
UID:q3wt@192.168.245.71:3006
SEQUENCE:0
DTSTAMP:20260421T020029Z
DTSTART:20260522T110000Z
DTEND:20260522T124000Z
SUMMARY:Тензорная алгебра и тензорный анализ
LOCATION:НИК В2.03
END:VEVENT
BEGIN:VEVENT
UID:8x3z@192.168.245.71:3006
SEQUENCE:0
DTSTAMP:20260421T020029Z
DTSTART:20260522T130000Z
DTEND:20260522T135000Z
SUMMARY:Тензорная алгебра и тензорный анализ
LOCATION:НИК В2.03
END:VEVENT
BEGIN:VEVENT
UID:gqs5@192.168.245.71:3006
SEQUENCE:0
DTSTAMP:20260421T020029Z
DTSTART:20260523T070000Z
DTEND:20260523T084000Z
SUMMARY:Численные методы
LOCATION:DL Дистанционно
END:VEVENT
END:VCALENDAR