BEGIN:VCALENDAR
VERSION:2.0
PRODID:-//spbstu.ru//ical//RU
NAME:Расписание группы 5030103/40003
X-WR-CALNAME:Расписание группы 5030103/40003
TIMEZONE-ID:Europe/Moscow
X-WR-TIMEZONE:Europe/Moscow
BEGIN:VEVENT
UID:71s8@192.168.245.71:3006
SEQUENCE:0
DTSTAMP:20260419T204655Z
DTSTART:20251110T070000Z
DTEND:20251110T084000Z
SUMMARY:История России
LOCATION:НИК В2.18
END:VEVENT
BEGIN:VEVENT
UID:ch0w@192.168.245.71:3006
SEQUENCE:0
DTSTAMP:20260419T204655Z
DTSTART:20251110T090000Z
DTEND:20251110T104000Z
SUMMARY:Математический анализ
LOCATION:ГЗ 241
END:VEVENT
BEGIN:VEVENT
UID:11kp@192.168.245.71:3006
SEQUENCE:0
DTSTAMP:20260419T204655Z
DTSTART:20251110T110000Z
DTEND:20251110T124000Z
SUMMARY:Физика
LOCATION:ГЗ 285
END:VEVENT
BEGIN:VEVENT
UID:v12i@192.168.245.71:3006
SEQUENCE:0
DTSTAMP:20260419T204655Z
DTSTART:20251110T110000Z
DTEND:20251110T124000Z
SUMMARY:Физика
LOCATION:ГЗ 285
END:VEVENT
BEGIN:VEVENT
UID:xima@192.168.245.71:3006
SEQUENCE:0
DTSTAMP:20260419T204655Z
DTSTART:20251110T130000Z
DTEND:20251110T144000Z
SUMMARY:Математический анализ
LOCATION:ГЗ 241
END:VEVENT
BEGIN:VEVENT
UID:yfmj@192.168.245.71:3006
SEQUENCE:0
DTSTAMP:20260419T204655Z
DTSTART:20251111T090000Z
DTEND:20251111T104000Z
SUMMARY:Цифровая аналитика
LOCATION:НИК А2.07
END:VEVENT
BEGIN:VEVENT
UID:bzat@192.168.245.71:3006
SEQUENCE:0
DTSTAMP:20260419T204655Z
DTSTART:20251111T110000Z
DTEND:20251111T124000Z
SUMMARY:Математический анализ
LOCATION:Мех. к. БМ
END:VEVENT
BEGIN:VEVENT
UID:4wdx@192.168.245.71:3006
SEQUENCE:0
DTSTAMP:20260419T204655Z
DTSTART:20251111T130000Z
DTEND:20251111T134500Z
SUMMARY:Математический анализ
LOCATION:Мех. к. БМ
END:VEVENT
BEGIN:VEVENT
UID:x7v2@192.168.245.71:3006
SEQUENCE:0
DTSTAMP:20260419T204655Z
DTSTART:20251112T070000Z
DTEND:20251112T084000Z
SUMMARY:Физика
LOCATION:ГЗ 101
END:VEVENT
BEGIN:VEVENT
UID:2nu2@192.168.245.71:3006
SEQUENCE:0
DTSTAMP:20260419T204655Z
DTSTART:20251112T090000Z
DTEND:20251112T104000Z
SUMMARY:Элективная физическая культура и спорт
LOCATION:СК Секции
END:VEVENT
BEGIN:VEVENT
UID:fr7v@192.168.245.71:3006
SEQUENCE:0
DTSTAMP:20260419T204655Z
DTSTART:20251112T110000Z
DTEND:20251112T124000Z
SUMMARY:Теоретическая механика
LOCATION:НИК А2.02
END:VEVENT
BEGIN:VEVENT
UID:iwn7@192.168.245.71:3006
SEQUENCE:0
DTSTAMP:20260419T204655Z
DTSTART:20251112T130000Z
DTEND:20251112T144000Z
SUMMARY:Навыки личной эффективности (SoftSkills)
LOCATION:Не опр. Нет
END:VEVENT
BEGIN:VEVENT
UID:oj2v@192.168.245.71:3006
SEQUENCE:0
DTSTAMP:20260419T204655Z
DTSTART:20251113T070000Z
DTEND:20251113T084000Z
SUMMARY:Физика
LOCATION:ГЗ 245
END:VEVENT
BEGIN:VEVENT
UID:0x4z@192.168.245.71:3006
SEQUENCE:0
DTSTAMP:20260419T204655Z
DTSTART:20251113T090000Z
DTEND:20251113T104000Z
SUMMARY:Теоретическая механика
LOCATION:Мех. к. БМ
END:VEVENT
BEGIN:VEVENT
UID:7x1r@192.168.245.71:3006
SEQUENCE:0
DTSTAMP:20260419T204655Z
DTSTART:20251113T110000Z
DTEND:20251113T124000Z
SUMMARY:Безопасность жизнедеятельности
LOCATION:ГК 104
END:VEVENT
BEGIN:VEVENT
UID:z2hr@192.168.245.71:3006
SEQUENCE:0
DTSTAMP:20260419T204655Z
DTSTART:20251113T130000Z
DTEND:20251113T144000Z
SUMMARY:Иностранный язык: Базовый курс
LOCATION:ГЗ 223
END:VEVENT
BEGIN:VEVENT
UID:gdj1@192.168.245.71:3006
SEQUENCE:0
DTSTAMP:20260419T204655Z
DTSTART:20251114T060000Z
DTEND:20251114T064500Z
SUMMARY:Механика материалов
LOCATION:НИК Г.3.58
END:VEVENT
BEGIN:VEVENT
UID:af5w@192.168.245.71:3006
SEQUENCE:0
DTSTAMP:20260419T204655Z
DTSTART:20251114T070000Z
DTEND:20251114T084000Z
SUMMARY:Механика материалов
LOCATION:НИК Г.3.58
END:VEVENT
BEGIN:VEVENT
UID:ozlq@192.168.245.71:3006
SEQUENCE:0
DTSTAMP:20260419T204655Z
DTSTART:20251114T090000Z
DTEND:20251114T104000Z
SUMMARY:Численные методы
LOCATION:1 к. 430
END:VEVENT
BEGIN:VEVENT
UID:21c3@192.168.245.71:3006
SEQUENCE:0
DTSTAMP:20260419T204655Z
DTSTART:20251114T090000Z
DTEND:20251114T104000Z
SUMMARY:Численные методы
LOCATION:1 к. 428
END:VEVENT
BEGIN:VEVENT
UID:2ltp@192.168.245.71:3006
SEQUENCE:0
DTSTAMP:20260419T204655Z
DTSTART:20251114T110000Z
DTEND:20251114T124000Z
SUMMARY:Физика
LOCATION:ГЗ 324
END:VEVENT
BEGIN:VEVENT
UID:r7y6@192.168.245.71:3006
SEQUENCE:0
DTSTAMP:20260419T204655Z
DTSTART:20251114T130000Z
DTEND:20251114T144000Z
SUMMARY:Механика материалов
LOCATION:Мех. к. БМ
END:VEVENT
BEGIN:VEVENT
UID:uv5d@192.168.245.71:3006
SEQUENCE:0
DTSTAMP:20260419T204655Z
DTSTART:20251115T050000Z
DTEND:20251115T064000Z
SUMMARY:Численные методы
LOCATION:DL Дистанционно
END:VEVENT
BEGIN:VEVENT
UID:rk0g@192.168.245.71:3006
SEQUENCE:0
DTSTAMP:20260419T204655Z
DTSTART:20251115T070000Z
DTEND:20251115T084000Z
SUMMARY:Навыки личной эффективности (SoftSkills)
LOCATION:Не опр. Нет
END:VEVENT
BEGIN:VEVENT
UID:5psk@192.168.245.71:3006
SEQUENCE:0
DTSTAMP:20260419T204655Z
DTSTART:20251115T090000Z
DTEND:20251115T104000Z
SUMMARY:История России
LOCATION:3 к. 201
END:VEVENT
BEGIN:VEVENT
UID:nk5u@192.168.245.71:3006
SEQUENCE:0
DTSTAMP:20260419T204655Z
DTSTART:20251115T110000Z
DTEND:20251115T124000Z
SUMMARY:Элективная физическая культура и спорт
LOCATION:СК Секции
END:VEVENT
END:VCALENDAR