BEGIN:VCALENDAR
VERSION:2.0
PRODID:-//spbstu.ru//ical//RU
NAME:Расписание группы 5030103/40003
X-WR-CALNAME:Расписание группы 5030103/40003
TIMEZONE-ID:Europe/Moscow
X-WR-TIMEZONE:Europe/Moscow
BEGIN:VEVENT
UID:spfh@192.168.245.71:3006
SEQUENCE:0
DTSTAMP:20260421T001346Z
DTSTART:20250908T070000Z
DTEND:20250908T084000Z
SUMMARY:История России
LOCATION:НИК В2.18
END:VEVENT
BEGIN:VEVENT
UID:yjjb@192.168.245.71:3006
SEQUENCE:0
DTSTAMP:20260421T001346Z
DTSTART:20250908T090000Z
DTEND:20250908T104000Z
SUMMARY:Математический анализ
LOCATION:ГЗ 241
END:VEVENT
BEGIN:VEVENT
UID:i3fu@192.168.245.71:3006
SEQUENCE:0
DTSTAMP:20260421T001346Z
DTSTART:20250908T110000Z
DTEND:20250908T124000Z
SUMMARY:Физика
LOCATION:ГЗ 285
END:VEVENT
BEGIN:VEVENT
UID:059p@192.168.245.71:3006
SEQUENCE:0
DTSTAMP:20260421T001346Z
DTSTART:20250908T110000Z
DTEND:20250908T124000Z
SUMMARY:Физика
LOCATION:ГЗ 285
END:VEVENT
BEGIN:VEVENT
UID:b29a@192.168.245.71:3006
SEQUENCE:0
DTSTAMP:20260421T001346Z
DTSTART:20250909T110000Z
DTEND:20250909T124000Z
SUMMARY:Математический анализ
LOCATION:Мех. к. БМ
END:VEVENT
BEGIN:VEVENT
UID:8g60@192.168.245.71:3006
SEQUENCE:0
DTSTAMP:20260421T001346Z
DTSTART:20250909T130000Z
DTEND:20250909T134500Z
SUMMARY:Математический анализ
LOCATION:Мех. к. БМ
END:VEVENT
BEGIN:VEVENT
UID:ob9e@192.168.245.71:3006
SEQUENCE:0
DTSTAMP:20260421T001346Z
DTSTART:20250910T070000Z
DTEND:20250910T084000Z
SUMMARY:Физика
LOCATION:ГЗ 101
END:VEVENT
BEGIN:VEVENT
UID:t4ni@192.168.245.71:3006
SEQUENCE:0
DTSTAMP:20260421T001346Z
DTSTART:20250910T090000Z
DTEND:20250910T104000Z
SUMMARY:Элективная физическая культура и спорт
LOCATION:СК Секции
END:VEVENT
BEGIN:VEVENT
UID:nqs5@192.168.245.71:3006
SEQUENCE:0
DTSTAMP:20260421T001346Z
DTSTART:20250910T110000Z
DTEND:20250910T124000Z
SUMMARY:Теоретическая механика
LOCATION:НИК А2.02
END:VEVENT
BEGIN:VEVENT
UID:3vpy@192.168.245.71:3006
SEQUENCE:0
DTSTAMP:20260421T001346Z
DTSTART:20250910T130000Z
DTEND:20250910T144000Z
SUMMARY:Навыки личной эффективности (SoftSkills)
LOCATION:Не опр. Нет
END:VEVENT
BEGIN:VEVENT
UID:2ogj@192.168.245.71:3006
SEQUENCE:0
DTSTAMP:20260421T001346Z
DTSTART:20250911T070000Z
DTEND:20250911T084000Z
SUMMARY:Физика
LOCATION:ГЗ 245
END:VEVENT
BEGIN:VEVENT
UID:uqs4@192.168.245.71:3006
SEQUENCE:0
DTSTAMP:20260421T001346Z
DTSTART:20250911T090000Z
DTEND:20250911T104000Z
SUMMARY:Теоретическая механика
LOCATION:Мех. к. БМ
END:VEVENT
BEGIN:VEVENT
UID:ye2r@192.168.245.71:3006
SEQUENCE:0
DTSTAMP:20260421T001346Z
DTSTART:20250911T130000Z
DTEND:20250911T144000Z
SUMMARY:Иностранный язык: Базовый курс
LOCATION:ГЗ 223
END:VEVENT
BEGIN:VEVENT
UID:a8cp@192.168.245.71:3006
SEQUENCE:0
DTSTAMP:20260421T001346Z
DTSTART:20250912T060000Z
DTEND:20250912T064500Z
SUMMARY:Механика материалов
LOCATION:НИК В2.03
END:VEVENT
BEGIN:VEVENT
UID:n0pv@192.168.245.71:3006
SEQUENCE:0
DTSTAMP:20260421T001346Z
DTSTART:20250912T070000Z
DTEND:20250912T084000Z
SUMMARY:Механика материалов
LOCATION:НИК В2.03
END:VEVENT
BEGIN:VEVENT
UID:gz7s@192.168.245.71:3006
SEQUENCE:0
DTSTAMP:20260421T001346Z
DTSTART:20250912T090000Z
DTEND:20250912T104000Z
SUMMARY:Численные методы
LOCATION:1 к. 430
END:VEVENT
BEGIN:VEVENT
UID:sc2r@192.168.245.71:3006
SEQUENCE:0
DTSTAMP:20260421T001346Z
DTSTART:20250912T090000Z
DTEND:20250912T104000Z
SUMMARY:Численные методы
LOCATION:1 к. 428
END:VEVENT
BEGIN:VEVENT
UID:pa59@192.168.245.71:3006
SEQUENCE:0
DTSTAMP:20260421T001346Z
DTSTART:20250912T110000Z
DTEND:20250912T124000Z
SUMMARY:Физика
LOCATION:ГЗ 324
END:VEVENT
BEGIN:VEVENT
UID:t3r4@192.168.245.71:3006
SEQUENCE:0
DTSTAMP:20260421T001346Z
DTSTART:20250912T130000Z
DTEND:20250912T144000Z
SUMMARY:Механика материалов
LOCATION:Мех. к. БМ
END:VEVENT
BEGIN:VEVENT
UID:ua5d@192.168.245.71:3006
SEQUENCE:0
DTSTAMP:20260421T001346Z
DTSTART:20250913T050000Z
DTEND:20250913T064000Z
SUMMARY:Численные методы
LOCATION:DL Дистанционно
END:VEVENT
BEGIN:VEVENT
UID:o363@192.168.245.71:3006
SEQUENCE:0
DTSTAMP:20260421T001346Z
DTSTART:20250913T070000Z
DTEND:20250913T084000Z
SUMMARY:Навыки личной эффективности (SoftSkills)
LOCATION:Не опр. Нет
END:VEVENT
BEGIN:VEVENT
UID:nrz5@192.168.245.71:3006
SEQUENCE:0
DTSTAMP:20260421T001346Z
DTSTART:20250913T090000Z
DTEND:20250913T104000Z
SUMMARY:Безопасность жизнедеятельности
LOCATION:ГЗ 305
END:VEVENT
BEGIN:VEVENT
UID:sqgo@192.168.245.71:3006
SEQUENCE:0
DTSTAMP:20260421T001346Z
DTSTART:20250913T110000Z
DTEND:20250913T124000Z
SUMMARY:Элективная физическая культура и спорт
LOCATION:СК Секции
END:VEVENT
END:VCALENDAR