BEGIN:VCALENDAR
VERSION:2.0
PRODID:-//spbstu.ru//ical//RU
NAME:Расписание группы 5030103/40004
X-WR-CALNAME:Расписание группы 5030103/40004
TIMEZONE-ID:Europe/Moscow
X-WR-TIMEZONE:Europe/Moscow
BEGIN:VEVENT
UID:2pot@192.168.245.71:3006
SEQUENCE:0
DTSTAMP:20260422T141147Z
DTSTART:20251222T070000Z
DTEND:20251222T100000Z
SUMMARY:Безопасность жизнедеятельности
LOCATION:ГК 104
END:VEVENT
BEGIN:VEVENT
UID:ccbw@192.168.245.71:3006
SEQUENCE:0
DTSTAMP:20260422T141147Z
DTSTART:20251223T100000Z
DTEND:20251223T130000Z
SUMMARY:Цифровая аналитика
LOCATION:НИК А2.07
END:VEVENT
BEGIN:VEVENT
UID:mve7@192.168.245.71:3006
SEQUENCE:0
DTSTAMP:20260422T141147Z
DTSTART:20251224T100000Z
DTEND:20251224T130000Z
SUMMARY:Механика материалов
LOCATION:НИК В2.03
END:VEVENT
BEGIN:VEVENT
UID:hfp2@192.168.245.71:3006
SEQUENCE:0
DTSTAMP:20260422T141147Z
DTSTART:20251225T100000Z
DTEND:20251225T130000Z
SUMMARY:Физика
LOCATION:ГЗ 285
END:VEVENT
BEGIN:VEVENT
UID:bp9h@192.168.245.71:3006
SEQUENCE:0
DTSTAMP:20260422T141147Z
DTSTART:20251225T100000Z
DTEND:20251225T130000Z
SUMMARY:Физика
LOCATION:ГЗ 285
END:VEVENT
BEGIN:VEVENT
UID:n2ez@192.168.245.71:3006
SEQUENCE:0
DTSTAMP:20260422T141147Z
DTSTART:20251227T090000Z
DTEND:20251227T103000Z
SUMMARY:Элективная физическая культура и спорт
LOCATION:СК Секции
END:VEVENT
END:VCALENDAR