BEGIN:VCALENDAR
VERSION:2.0
PRODID:-//spbstu.ru//ical//RU
NAME:Расписание группы 5030103/40004
X-WR-CALNAME:Расписание группы 5030103/40004
TIMEZONE-ID:Europe/Moscow
X-WR-TIMEZONE:Europe/Moscow
BEGIN:VEVENT
UID:5i6x@192.168.245.71:3006
SEQUENCE:0
DTSTAMP:20260421T152345Z
DTSTART:20260209T090000Z
DTEND:20260209T104000Z
SUMMARY:Математический анализ
LOCATION:ГЗ 252
END:VEVENT
BEGIN:VEVENT
UID:kx11@192.168.245.71:3006
SEQUENCE:0
DTSTAMP:20260421T152345Z
DTSTART:20260209T110000Z
DTEND:20260209T124000Z
SUMMARY:Математический анализ
LOCATION:ГЗ 329
END:VEVENT
BEGIN:VEVENT
UID:djg8@192.168.245.71:3006
SEQUENCE:0
DTSTAMP:20260421T152345Z
DTSTART:20260209T130000Z
DTEND:20260209T135000Z
SUMMARY:Математический анализ
LOCATION:ГЗ 329
END:VEVENT
BEGIN:VEVENT
UID:w2xd@192.168.245.71:3006
SEQUENCE:0
DTSTAMP:20260421T152345Z
DTSTART:20260210T070000Z
DTEND:20260210T084000Z
SUMMARY:Теоретическая механика
LOCATION:НИК А2.02
END:VEVENT
BEGIN:VEVENT
UID:z48p@192.168.245.71:3006
SEQUENCE:0
DTSTAMP:20260421T152345Z
DTSTART:20260210T090000Z
DTEND:20260210T104000Z
SUMMARY:Языки программирования
LOCATION:НИК А2.07
END:VEVENT
BEGIN:VEVENT
UID:ggqq@192.168.245.71:3006
SEQUENCE:0
DTSTAMP:20260421T152345Z
DTSTART:20260210T130000Z
DTEND:20260210T143000Z
SUMMARY:Теоретическая механика
LOCATION:НИК В2.02
END:VEVENT
BEGIN:VEVENT
UID:gja5@192.168.245.71:3006
SEQUENCE:0
DTSTAMP:20260421T152345Z
DTSTART:20260210T150000Z
DTEND:20260210T160000Z
SUMMARY:История России
LOCATION:НИК В2.02
END:VEVENT
BEGIN:VEVENT
UID:a6y6@192.168.245.71:3006
SEQUENCE:0
DTSTAMP:20260421T152345Z
DTSTART:20260211T070000Z
DTEND:20260211T084000Z
SUMMARY:Математический анализ
LOCATION:ГЗ 278
END:VEVENT
BEGIN:VEVENT
UID:pd8p@192.168.245.71:3006
SEQUENCE:0
DTSTAMP:20260421T152345Z
DTSTART:20260211T090000Z
DTEND:20260211T104000Z
SUMMARY:Элективная физическая культура и спорт
LOCATION:СК Секции
END:VEVENT
BEGIN:VEVENT
UID:5x4l@192.168.245.71:3006
SEQUENCE:0
DTSTAMP:20260421T152345Z
DTSTART:20260211T130000Z
DTEND:20260211T143000Z
SUMMARY:Теоретическая механика
LOCATION:НИК А2.02
END:VEVENT
BEGIN:VEVENT
UID:2x5u@192.168.245.71:3006
SEQUENCE:0
DTSTAMP:20260421T152345Z
DTSTART:20260212T070000Z
DTEND:20260212T084000Z
SUMMARY:Численные методы
LOCATION:1 к. 428
END:VEVENT
BEGIN:VEVENT
UID:jvrc@192.168.245.71:3006
SEQUENCE:0
DTSTAMP:20260421T152345Z
DTSTART:20260212T070000Z
DTEND:20260212T084000Z
SUMMARY:Численные методы
LOCATION:1 к. 430
END:VEVENT
BEGIN:VEVENT
UID:rtzn@192.168.245.71:3006
SEQUENCE:0
DTSTAMP:20260421T152345Z
DTSTART:20260212T090000Z
DTEND:20260212T104000Z
SUMMARY:Теоретическая механика
LOCATION:Мех. к. БМ
END:VEVENT
BEGIN:VEVENT
UID:lmte@192.168.245.71:3006
SEQUENCE:0
DTSTAMP:20260421T152345Z
DTSTART:20260212T110000Z
DTEND:20260212T124000Z
SUMMARY:Языки программирования
LOCATION:НИК А2.07
END:VEVENT
BEGIN:VEVENT
UID:4vfd@192.168.245.71:3006
SEQUENCE:0
DTSTAMP:20260421T152345Z
DTSTART:20260212T130000Z
DTEND:20260212T144000Z
SUMMARY:Основы проектной деятельности
LOCATION:Не опр. Нет
END:VEVENT
BEGIN:VEVENT
UID:c2ca@192.168.245.71:3006
SEQUENCE:0
DTSTAMP:20260421T152345Z
DTSTART:20260213T060000Z
DTEND:20260213T064000Z
SUMMARY:Тензорная алгебра и тензорный анализ
LOCATION:НИК В2.03
END:VEVENT
BEGIN:VEVENT
UID:ugg1@192.168.245.71:3006
SEQUENCE:0
DTSTAMP:20260421T152345Z
DTSTART:20260213T070000Z
DTEND:20260213T084000Z
SUMMARY:Тензорная алгебра и тензорный анализ
LOCATION:НИК В2.03
END:VEVENT
BEGIN:VEVENT
UID:7b8o@192.168.245.71:3006
SEQUENCE:0
DTSTAMP:20260421T152345Z
DTSTART:20260214T070000Z
DTEND:20260214T084000Z
SUMMARY:Численные методы
LOCATION:DL Дистанционно
END:VEVENT
BEGIN:VEVENT
UID:nrlt@192.168.245.71:3006
SEQUENCE:0
DTSTAMP:20260421T152345Z
DTSTART:20260214T110000Z
DTEND:20260214T124000Z
SUMMARY:Элективная физическая культура и спорт
LOCATION:СК Секции
END:VEVENT
END:VCALENDAR