BEGIN:VCALENDAR
VERSION:2.0
PRODID:-//spbstu.ru//ical//RU
NAME:Расписание группы 5030103/40004
X-WR-CALNAME:Расписание группы 5030103/40004
TIMEZONE-ID:Europe/Moscow
X-WR-TIMEZONE:Europe/Moscow
BEGIN:VEVENT
UID:xlvt@192.168.245.71:3006
SEQUENCE:0
DTSTAMP:20260420T153911Z
DTSTART:20260420T090000Z
DTEND:20260420T104000Z
SUMMARY:Математический анализ
LOCATION:ГЗ 212
END:VEVENT
BEGIN:VEVENT
UID:uyqk@192.168.245.71:3006
SEQUENCE:0
DTSTAMP:20260420T153911Z
DTSTART:20260420T110000Z
DTEND:20260420T124000Z
SUMMARY:Математический анализ
LOCATION:ГЗ 329
END:VEVENT
BEGIN:VEVENT
UID:a5iy@192.168.245.71:3006
SEQUENCE:0
DTSTAMP:20260420T153911Z
DTSTART:20260420T130000Z
DTEND:20260420T135000Z
SUMMARY:Математический анализ
LOCATION:ГЗ 329
END:VEVENT
BEGIN:VEVENT
UID:qogf@192.168.245.71:3006
SEQUENCE:0
DTSTAMP:20260420T153911Z
DTSTART:20260421T070000Z
DTEND:20260421T084000Z
SUMMARY:Теоретическая механика
LOCATION:НИК А2.02
END:VEVENT
BEGIN:VEVENT
UID:zu63@192.168.245.71:3006
SEQUENCE:0
DTSTAMP:20260420T153911Z
DTSTART:20260421T090000Z
DTEND:20260421T104000Z
SUMMARY:Языки программирования
LOCATION:НИК А2.07
END:VEVENT
BEGIN:VEVENT
UID:ybuh@192.168.245.71:3006
SEQUENCE:0
DTSTAMP:20260420T153911Z
DTSTART:20260422T070000Z
DTEND:20260422T084000Z
SUMMARY:Математический анализ
LOCATION:ГЗ 278
END:VEVENT
BEGIN:VEVENT
UID:3fn3@192.168.245.71:3006
SEQUENCE:0
DTSTAMP:20260420T153911Z
DTSTART:20260422T090000Z
DTEND:20260422T104000Z
SUMMARY:Элективная физическая культура и спорт
LOCATION:СК Секции
END:VEVENT
BEGIN:VEVENT
UID:h0ia@192.168.245.71:3006
SEQUENCE:0
DTSTAMP:20260420T153911Z
DTSTART:20260423T070000Z
DTEND:20260423T084000Z
SUMMARY:Численные методы
LOCATION:1 к. 428
END:VEVENT
BEGIN:VEVENT
UID:1cyy@192.168.245.71:3006
SEQUENCE:0
DTSTAMP:20260420T153911Z
DTSTART:20260423T070000Z
DTEND:20260423T084000Z
SUMMARY:Численные методы
LOCATION:1 к. 430
END:VEVENT
BEGIN:VEVENT
UID:hzjm@192.168.245.71:3006
SEQUENCE:0
DTSTAMP:20260420T153911Z
DTSTART:20260423T090000Z
DTEND:20260423T104000Z
SUMMARY:Теоретическая механика
LOCATION:Мех. к. БМ
END:VEVENT
BEGIN:VEVENT
UID:th4l@192.168.245.71:3006
SEQUENCE:0
DTSTAMP:20260420T153911Z
DTSTART:20260423T110000Z
DTEND:20260423T124000Z
SUMMARY:Языки программирования
LOCATION:НИК А2.07
END:VEVENT
BEGIN:VEVENT
UID:9pe1@192.168.245.71:3006
SEQUENCE:0
DTSTAMP:20260420T153911Z
DTSTART:20260424T060000Z
DTEND:20260424T064000Z
SUMMARY:Тензорная алгебра и тензорный анализ
LOCATION:НИК В2.03
END:VEVENT
BEGIN:VEVENT
UID:7j8r@192.168.245.71:3006
SEQUENCE:0
DTSTAMP:20260420T153911Z
DTSTART:20260424T070000Z
DTEND:20260424T084000Z
SUMMARY:Тензорная алгебра и тензорный анализ
LOCATION:НИК В2.03
END:VEVENT
BEGIN:VEVENT
UID:f8df@192.168.245.71:3006
SEQUENCE:0
DTSTAMP:20260420T153911Z
DTSTART:20260425T070000Z
DTEND:20260425T084000Z
SUMMARY:Численные методы
LOCATION:DL Дистанционно
END:VEVENT
BEGIN:VEVENT
UID:udju@192.168.245.71:3006
SEQUENCE:0
DTSTAMP:20260420T153911Z
DTSTART:20260425T110000Z
DTEND:20260425T124000Z
SUMMARY:Элективная физическая культура и спорт
LOCATION:СК Секции
END:VEVENT
END:VCALENDAR