BEGIN:VCALENDAR
VERSION:2.0
PRODID:-//spbstu.ru//ical//RU
NAME:Расписание группы 5030301/40001
X-WR-CALNAME:Расписание группы 5030301/40001
TIMEZONE-ID:Europe/Moscow
X-WR-TIMEZONE:Europe/Moscow
BEGIN:VEVENT
UID:20wc@192.168.245.71:3006
SEQUENCE:0
DTSTAMP:20260425T135046Z
DTSTART:20251117T060000Z
DTEND:20251117T064500Z
SUMMARY:Математический анализ
LOCATION:Мех. к. БМ
END:VEVENT
BEGIN:VEVENT
UID:r76p@192.168.245.71:3006
SEQUENCE:0
DTSTAMP:20260425T135046Z
DTSTART:20251117T070000Z
DTEND:20251117T084000Z
SUMMARY:Математический анализ
LOCATION:Мех. к. БМ
END:VEVENT
BEGIN:VEVENT
UID:z8fo@192.168.245.71:3006
SEQUENCE:0
DTSTAMP:20260425T135046Z
DTSTART:20251117T090000Z
DTEND:20251117T104000Z
SUMMARY:Математический анализ
LOCATION:ГЗ 242
END:VEVENT
BEGIN:VEVENT
UID:j35e@192.168.245.71:3006
SEQUENCE:0
DTSTAMP:20260425T135046Z
DTSTART:20251118T050000Z
DTEND:20251118T064000Z
SUMMARY:Теоретическая механика
LOCATION:ГЗ 245
END:VEVENT
BEGIN:VEVENT
UID:kcmh@192.168.245.71:3006
SEQUENCE:0
DTSTAMP:20260425T135046Z
DTSTART:20251118T070000Z
DTEND:20251118T084000Z
SUMMARY:Физика
LOCATION:ГЗ 324
END:VEVENT
BEGIN:VEVENT
UID:qgp2@192.168.245.71:3006
SEQUENCE:0
DTSTAMP:20260425T135046Z
DTSTART:20251118T090000Z
DTEND:20251118T104000Z
SUMMARY:Физика
LOCATION:ГЗ 285
END:VEVENT
BEGIN:VEVENT
UID:hvqu@192.168.245.71:3006
SEQUENCE:0
DTSTAMP:20260425T135046Z
DTSTART:20251118T090000Z
DTEND:20251118T104000Z
SUMMARY:Физика
LOCATION:ГЗ 285
END:VEVENT
BEGIN:VEVENT
UID:h8ss@192.168.245.71:3006
SEQUENCE:0
DTSTAMP:20260425T135046Z
DTSTART:20251119T090000Z
DTEND:20251119T104000Z
SUMMARY:Элективная физическая культура и спорт
LOCATION:СК Секции
END:VEVENT
BEGIN:VEVENT
UID:z613@192.168.245.71:3006
SEQUENCE:0
DTSTAMP:20260425T135046Z
DTSTART:20251119T110000Z
DTEND:20251119T124000Z
SUMMARY:Теоретическая механика
LOCATION:Мех. к. БМ
END:VEVENT
BEGIN:VEVENT
UID:fptj@192.168.245.71:3006
SEQUENCE:0
DTSTAMP:20260425T135046Z
DTSTART:20251119T130000Z
DTEND:20251119T144000Z
SUMMARY:Навыки личной эффективности (SoftSkills)
LOCATION:Не опр. Нет
END:VEVENT
BEGIN:VEVENT
UID:zanf@192.168.245.71:3006
SEQUENCE:0
DTSTAMP:20260425T135046Z
DTSTART:20251120T070000Z
DTEND:20251120T084000Z
SUMMARY:Физика
LOCATION:ГЗ 324
END:VEVENT
BEGIN:VEVENT
UID:o3qd@192.168.245.71:3006
SEQUENCE:0
DTSTAMP:20260425T135046Z
DTSTART:20251120T090000Z
DTEND:20251120T104000Z
SUMMARY:Численные методы
LOCATION:1 к. 428
END:VEVENT
BEGIN:VEVENT
UID:s9m3@192.168.245.71:3006
SEQUENCE:0
DTSTAMP:20260425T135046Z
DTSTART:20251120T090000Z
DTEND:20251120T104000Z
SUMMARY:Численные методы
LOCATION:1 к. 430
END:VEVENT
BEGIN:VEVENT
UID:wk7h@192.168.245.71:3006
SEQUENCE:0
DTSTAMP:20260425T135046Z
DTSTART:20251121T090000Z
DTEND:20251121T104000Z
SUMMARY:Безопасность жизнедеятельности
LOCATION:ГК 104
END:VEVENT
BEGIN:VEVENT
UID:s4yt@192.168.245.71:3006
SEQUENCE:0
DTSTAMP:20260425T135046Z
DTSTART:20251121T110000Z
DTEND:20251121T124000Z
SUMMARY:Безопасность жизнедеятельности
LOCATION:ГК 118
END:VEVENT
BEGIN:VEVENT
UID:g2in@192.168.245.71:3006
SEQUENCE:0
DTSTAMP:20260425T135046Z
DTSTART:20251121T130000Z
DTEND:20251121T144000Z
SUMMARY:Иностранный язык: Базовый курс
LOCATION:ГЗ 226
END:VEVENT
BEGIN:VEVENT
UID:xih2@192.168.245.71:3006
SEQUENCE:0
DTSTAMP:20260425T135046Z
DTSTART:20251121T150000Z
DTEND:20251121T164000Z
SUMMARY:Факультатив по физике
LOCATION:ГЗ 161
END:VEVENT
BEGIN:VEVENT
UID:lymj@192.168.245.71:3006
SEQUENCE:0
DTSTAMP:20260425T135046Z
DTSTART:20251122T050000Z
DTEND:20251122T064000Z
SUMMARY:Численные методы
LOCATION:DL Дистанционно
END:VEVENT
BEGIN:VEVENT
UID:mxsn@192.168.245.71:3006
SEQUENCE:0
DTSTAMP:20260425T135046Z
DTSTART:20251122T070000Z
DTEND:20251122T084000Z
SUMMARY:Навыки личной эффективности (SoftSkills)
LOCATION:Не опр. Нет
END:VEVENT
BEGIN:VEVENT
UID:aob1@192.168.245.71:3006
SEQUENCE:0
DTSTAMP:20260425T135046Z
DTSTART:20251122T090000Z
DTEND:20251122T104000Z
SUMMARY:История России
LOCATION:3 к. 201
END:VEVENT
BEGIN:VEVENT
UID:k7tg@192.168.245.71:3006
SEQUENCE:0
DTSTAMP:20260425T135046Z
DTSTART:20251122T110000Z
DTEND:20251122T124000Z
SUMMARY:Элективная физическая культура и спорт
LOCATION:СК Секции
END:VEVENT
END:VCALENDAR