BEGIN:VCALENDAR
VERSION:2.0
PRODID:-//spbstu.ru//ical//RU
NAME:Расписание группы 5030301/40001
X-WR-CALNAME:Расписание группы 5030301/40001
TIMEZONE-ID:Europe/Moscow
X-WR-TIMEZONE:Europe/Moscow
BEGIN:VEVENT
UID:ssxs@192.168.245.71:3006
SEQUENCE:0
DTSTAMP:20260421T102755Z
DTSTART:20260216T060000Z
DTEND:20260216T064000Z
SUMMARY:Математический анализ
LOCATION:Мех. к. БМ
END:VEVENT
BEGIN:VEVENT
UID:cc1i@192.168.245.71:3006
SEQUENCE:0
DTSTAMP:20260421T102755Z
DTSTART:20260216T070000Z
DTEND:20260216T084000Z
SUMMARY:Математический анализ
LOCATION:Мех. к. БМ
END:VEVENT
BEGIN:VEVENT
UID:xmb1@192.168.245.71:3006
SEQUENCE:0
DTSTAMP:20260421T102755Z
DTSTART:20260216T090000Z
DTEND:20260216T104000Z
SUMMARY:Специальные главы физики
LOCATION:ГЗ 184
END:VEVENT
BEGIN:VEVENT
UID:o855@192.168.245.71:3006
SEQUENCE:0
DTSTAMP:20260421T102755Z
DTSTART:20260216T130000Z
DTEND:20260216T144000Z
SUMMARY:Численные методы
LOCATION:1 к. 428
END:VEVENT
BEGIN:VEVENT
UID:y745@192.168.245.71:3006
SEQUENCE:0
DTSTAMP:20260421T102755Z
DTSTART:20260216T130000Z
DTEND:20260216T144000Z
SUMMARY:Численные методы
LOCATION:1 к. 430
END:VEVENT
BEGIN:VEVENT
UID:35q4@192.168.245.71:3006
SEQUENCE:0
DTSTAMP:20260421T102755Z
DTSTART:20260216T150000Z
DTEND:20260216T164000Z
SUMMARY:Факультатив по физике
LOCATION:ГЗ 161
END:VEVENT
BEGIN:VEVENT
UID:i2md@192.168.245.71:3006
SEQUENCE:0
DTSTAMP:20260421T102755Z
DTSTART:20260216T150000Z
DTEND:20260216T163000Z
SUMMARY:Иностранный язык: Базовый курс
LOCATION:ГЗ 284
END:VEVENT
BEGIN:VEVENT
UID:buns@192.168.245.71:3006
SEQUENCE:0
DTSTAMP:20260421T102755Z
DTSTART:20260217T070000Z
DTEND:20260217T084000Z
SUMMARY:Специальные главы физики
LOCATION:ГЗ 324
END:VEVENT
BEGIN:VEVENT
UID:rix1@192.168.245.71:3006
SEQUENCE:0
DTSTAMP:20260421T102755Z
DTSTART:20260217T090000Z
DTEND:20260217T104000Z
SUMMARY:Математический анализ
LOCATION:ГЗ 207
END:VEVENT
BEGIN:VEVENT
UID:eb0f@192.168.245.71:3006
SEQUENCE:0
DTSTAMP:20260421T102755Z
DTSTART:20260217T110000Z
DTEND:20260217T123000Z
SUMMARY:Математический анализ
LOCATION:ГЗ 226
END:VEVENT
BEGIN:VEVENT
UID:mf48@192.168.245.71:3006
SEQUENCE:0
DTSTAMP:20260421T102755Z
DTSTART:20260218T090000Z
DTEND:20260218T104000Z
SUMMARY:Элективная физическая культура и спорт
LOCATION:СК Секции
END:VEVENT
BEGIN:VEVENT
UID:0zo4@192.168.245.71:3006
SEQUENCE:0
DTSTAMP:20260421T102755Z
DTSTART:20260218T110000Z
DTEND:20260218T124000Z
SUMMARY:Теоретическая механика
LOCATION:Мех. к. БМ
END:VEVENT
BEGIN:VEVENT
UID:w5ej@192.168.245.71:3006
SEQUENCE:0
DTSTAMP:20260421T102755Z
DTSTART:20260219T070000Z
DTEND:20260219T084000Z
SUMMARY:Иностранный язык. Профессионально-ориентированный курс
LOCATION:1 к. каф. ГГТ\, 3 этаж
END:VEVENT
BEGIN:VEVENT
UID:qbqh@192.168.245.71:3006
SEQUENCE:0
DTSTAMP:20260421T102755Z
DTSTART:20260219T090000Z
DTEND:20260219T104000Z
SUMMARY:Химия
LOCATION:Хим. к. 10
END:VEVENT
BEGIN:VEVENT
UID:vr8u@192.168.245.71:3006
SEQUENCE:0
DTSTAMP:20260421T102755Z
DTSTART:20260219T110000Z
DTEND:20260219T123000Z
SUMMARY:Численные методы
LOCATION:1 к. 428
END:VEVENT
BEGIN:VEVENT
UID:afcy@192.168.245.71:3006
SEQUENCE:0
DTSTAMP:20260421T102755Z
DTSTART:20260219T130000Z
DTEND:20260219T144000Z
SUMMARY:Основы проектной деятельности
LOCATION:1 к. каф. ГГТ\, 1 этаж
END:VEVENT
BEGIN:VEVENT
UID:lnjw@192.168.245.71:3006
SEQUENCE:0
DTSTAMP:20260421T102755Z
DTSTART:20260220T070000Z
DTEND:20260220T084000Z
SUMMARY:Теоретическая механика
LOCATION:НИК А2.25
END:VEVENT
BEGIN:VEVENT
UID:beva@192.168.245.71:3006
SEQUENCE:0
DTSTAMP:20260421T102755Z
DTSTART:20260220T090000Z
DTEND:20260220T104000Z
SUMMARY:Химия
LOCATION:Хим. к. 10
END:VEVENT
BEGIN:VEVENT
UID:0fnl@192.168.245.71:3006
SEQUENCE:0
DTSTAMP:20260421T102755Z
DTSTART:20260220T110000Z
DTEND:20260220T124000Z
SUMMARY:Численное решение краевых задач
LOCATION:2 к. 160
END:VEVENT
BEGIN:VEVENT
UID:myxm@192.168.245.71:3006
SEQUENCE:0
DTSTAMP:20260421T102755Z
DTSTART:20260220T130000Z
DTEND:20260220T144000Z
SUMMARY:Химия
LOCATION:НИК В2.18
END:VEVENT
BEGIN:VEVENT
UID:auuq@192.168.245.71:3006
SEQUENCE:0
DTSTAMP:20260421T102755Z
DTSTART:20260220T130000Z
DTEND:20260220T143000Z
SUMMARY:Численные методы
LOCATION:2 к. 325
END:VEVENT
BEGIN:VEVENT
UID:uovh@192.168.245.71:3006
SEQUENCE:0
DTSTAMP:20260421T102755Z
DTSTART:20260221T070000Z
DTEND:20260221T084000Z
SUMMARY:Численные методы
LOCATION:DL Дистанционно
END:VEVENT
BEGIN:VEVENT
UID:920g@192.168.245.71:3006
SEQUENCE:0
DTSTAMP:20260421T102755Z
DTSTART:20260221T110000Z
DTEND:20260221T124000Z
SUMMARY:Элективная физическая культура и спорт
LOCATION:СК Секции
END:VEVENT
END:VCALENDAR