BEGIN:VCALENDAR
VERSION:2.0
PRODID:-//spbstu.ru//ical//RU
NAME:Расписание группы 5030301/40001
X-WR-CALNAME:Расписание группы 5030301/40001
TIMEZONE-ID:Europe/Moscow
X-WR-TIMEZONE:Europe/Moscow
BEGIN:VEVENT
UID:rh6m@192.168.245.71:3006
SEQUENCE:0
DTSTAMP:20260421T053601Z
DTSTART:20260302T060000Z
DTEND:20260302T064000Z
SUMMARY:Математический анализ
LOCATION:Мех. к. БМ
END:VEVENT
BEGIN:VEVENT
UID:1ozu@192.168.245.71:3006
SEQUENCE:0
DTSTAMP:20260421T053601Z
DTSTART:20260302T070000Z
DTEND:20260302T084000Z
SUMMARY:Математический анализ
LOCATION:Мех. к. БМ
END:VEVENT
BEGIN:VEVENT
UID:3sub@192.168.245.71:3006
SEQUENCE:0
DTSTAMP:20260421T053601Z
DTSTART:20260302T090000Z
DTEND:20260302T104000Z
SUMMARY:Специальные главы физики
LOCATION:ГЗ 184
END:VEVENT
BEGIN:VEVENT
UID:7171@192.168.245.71:3006
SEQUENCE:0
DTSTAMP:20260421T053601Z
DTSTART:20260302T130000Z
DTEND:20260302T144000Z
SUMMARY:Численные методы
LOCATION:1 к. 428
END:VEVENT
BEGIN:VEVENT
UID:t7cm@192.168.245.71:3006
SEQUENCE:0
DTSTAMP:20260421T053601Z
DTSTART:20260302T130000Z
DTEND:20260302T144000Z
SUMMARY:Численные методы
LOCATION:1 к. 430
END:VEVENT
BEGIN:VEVENT
UID:g1ph@192.168.245.71:3006
SEQUENCE:0
DTSTAMP:20260421T053601Z
DTSTART:20260302T150000Z
DTEND:20260302T164000Z
SUMMARY:Факультатив по физике
LOCATION:ГЗ 161
END:VEVENT
BEGIN:VEVENT
UID:i9kx@192.168.245.71:3006
SEQUENCE:0
DTSTAMP:20260421T053601Z
DTSTART:20260303T070000Z
DTEND:20260303T084000Z
SUMMARY:Специальные главы физики
LOCATION:ГЗ 324
END:VEVENT
BEGIN:VEVENT
UID:kp90@192.168.245.71:3006
SEQUENCE:0
DTSTAMP:20260421T053601Z
DTSTART:20260303T090000Z
DTEND:20260303T104000Z
SUMMARY:Математический анализ
LOCATION:ГЗ 207
END:VEVENT
BEGIN:VEVENT
UID:m9dq@192.168.245.71:3006
SEQUENCE:0
DTSTAMP:20260421T053601Z
DTSTART:20260304T090000Z
DTEND:20260304T104000Z
SUMMARY:Элективная физическая культура и спорт
LOCATION:СК Секции
END:VEVENT
BEGIN:VEVENT
UID:7uox@192.168.245.71:3006
SEQUENCE:0
DTSTAMP:20260421T053601Z
DTSTART:20260304T110000Z
DTEND:20260304T124000Z
SUMMARY:Теоретическая механика
LOCATION:Мех. к. БМ
END:VEVENT
BEGIN:VEVENT
UID:yjdl@192.168.245.71:3006
SEQUENCE:0
DTSTAMP:20260421T053601Z
DTSTART:20260305T070000Z
DTEND:20260305T084000Z
SUMMARY:Иностранный язык. Профессионально-ориентированный курс
LOCATION:1 к. каф. ГГТ\, 3 этаж
END:VEVENT
BEGIN:VEVENT
UID:txwv@192.168.245.71:3006
SEQUENCE:0
DTSTAMP:20260421T053601Z
DTSTART:20260305T090000Z
DTEND:20260305T104000Z
SUMMARY:Химия
LOCATION:Хим. к. 10
END:VEVENT
BEGIN:VEVENT
UID:4aik@192.168.245.71:3006
SEQUENCE:0
DTSTAMP:20260421T053601Z
DTSTART:20260305T130000Z
DTEND:20260305T144000Z
SUMMARY:Основы проектной деятельности
LOCATION:1 к. каф. ГГТ\, 1 этаж
END:VEVENT
BEGIN:VEVENT
UID:okqg@192.168.245.71:3006
SEQUENCE:0
DTSTAMP:20260421T053601Z
DTSTART:20260306T070000Z
DTEND:20260306T084000Z
SUMMARY:Теоретическая механика
LOCATION:НИК А2.25
END:VEVENT
BEGIN:VEVENT
UID:c0be@192.168.245.71:3006
SEQUENCE:0
DTSTAMP:20260421T053601Z
DTSTART:20260306T090000Z
DTEND:20260306T104000Z
SUMMARY:Химия
LOCATION:Хим. к. 10
END:VEVENT
BEGIN:VEVENT
UID:k3xp@192.168.245.71:3006
SEQUENCE:0
DTSTAMP:20260421T053601Z
DTSTART:20260306T110000Z
DTEND:20260306T124000Z
SUMMARY:Численное решение краевых задач
LOCATION:2 к. 160
END:VEVENT
BEGIN:VEVENT
UID:zx4h@192.168.245.71:3006
SEQUENCE:0
DTSTAMP:20260421T053601Z
DTSTART:20260306T130000Z
DTEND:20260306T144000Z
SUMMARY:Химия
LOCATION:НИК В2.18
END:VEVENT
BEGIN:VEVENT
UID:g3w8@192.168.245.71:3006
SEQUENCE:0
DTSTAMP:20260421T053601Z
DTSTART:20260307T070000Z
DTEND:20260307T084000Z
SUMMARY:Численные методы
LOCATION:DL Дистанционно
END:VEVENT
BEGIN:VEVENT
UID:ibh8@192.168.245.71:3006
SEQUENCE:0
DTSTAMP:20260421T053601Z
DTSTART:20260307T110000Z
DTEND:20260307T124000Z
SUMMARY:Элективная физическая культура и спорт
LOCATION:СК Секции
END:VEVENT
END:VCALENDAR