BEGIN:VCALENDAR
VERSION:2.0
PRODID:-//spbstu.ru//ical//RU
NAME:Расписание группы 5030301/40001
X-WR-CALNAME:Расписание группы 5030301/40001
TIMEZONE-ID:Europe/Moscow
X-WR-TIMEZONE:Europe/Moscow
BEGIN:VEVENT
UID:on0x@192.168.245.71:3006
SEQUENCE:0
DTSTAMP:20260420T204040Z
DTSTART:20260406T060000Z
DTEND:20260406T064000Z
SUMMARY:Математический анализ
LOCATION:Мех. к. БМ
END:VEVENT
BEGIN:VEVENT
UID:pbhr@192.168.245.71:3006
SEQUENCE:0
DTSTAMP:20260420T204040Z
DTSTART:20260406T070000Z
DTEND:20260406T084000Z
SUMMARY:Математический анализ
LOCATION:Мех. к. БМ
END:VEVENT
BEGIN:VEVENT
UID:qmuk@192.168.245.71:3006
SEQUENCE:0
DTSTAMP:20260420T204040Z
DTSTART:20260406T070000Z
DTEND:20260406T080000Z
SUMMARY:Численные методы
LOCATION:1 к. лаб.2  каф. Примат
END:VEVENT
BEGIN:VEVENT
UID:8z8q@192.168.245.71:3006
SEQUENCE:0
DTSTAMP:20260420T204040Z
DTSTART:20260406T090000Z
DTEND:20260406T104000Z
SUMMARY:Специальные главы физики
LOCATION:ГЗ 184
END:VEVENT
BEGIN:VEVENT
UID:kyhn@192.168.245.71:3006
SEQUENCE:0
DTSTAMP:20260420T204040Z
DTSTART:20260406T110000Z
DTEND:20260406T124000Z
SUMMARY:Математический анализ
LOCATION:ГЗ 106
END:VEVENT
BEGIN:VEVENT
UID:r9a7@192.168.245.71:3006
SEQUENCE:0
DTSTAMP:20260420T204040Z
DTSTART:20260406T130000Z
DTEND:20260406T144000Z
SUMMARY:Численные методы
LOCATION:1 к. 428
END:VEVENT
BEGIN:VEVENT
UID:oi6s@192.168.245.71:3006
SEQUENCE:0
DTSTAMP:20260420T204040Z
DTSTART:20260406T130000Z
DTEND:20260406T144000Z
SUMMARY:Численные методы
LOCATION:1 к. 430
END:VEVENT
BEGIN:VEVENT
UID:jjyj@192.168.245.71:3006
SEQUENCE:0
DTSTAMP:20260420T204040Z
DTSTART:20260406T150000Z
DTEND:20260406T163000Z
SUMMARY:Численные методы
LOCATION:2 к. 329
END:VEVENT
BEGIN:VEVENT
UID:hda8@192.168.245.71:3006
SEQUENCE:0
DTSTAMP:20260420T204040Z
DTSTART:20260406T150000Z
DTEND:20260406T164000Z
SUMMARY:Факультатив по физике
LOCATION:ГЗ 161
END:VEVENT
BEGIN:VEVENT
UID:a6km@192.168.245.71:3006
SEQUENCE:0
DTSTAMP:20260420T204040Z
DTSTART:20260407T070000Z
DTEND:20260407T084000Z
SUMMARY:Специальные главы физики
LOCATION:ГЗ 324
END:VEVENT
BEGIN:VEVENT
UID:evuf@192.168.245.71:3006
SEQUENCE:0
DTSTAMP:20260420T204040Z
DTSTART:20260407T090000Z
DTEND:20260407T104000Z
SUMMARY:Математический анализ
LOCATION:ГЗ 207
END:VEVENT
BEGIN:VEVENT
UID:38ll@192.168.245.71:3006
SEQUENCE:0
DTSTAMP:20260420T204040Z
DTSTART:20260408T090000Z
DTEND:20260408T104000Z
SUMMARY:Элективная физическая культура и спорт
LOCATION:СК Секции
END:VEVENT
BEGIN:VEVENT
UID:26ou@192.168.245.71:3006
SEQUENCE:0
DTSTAMP:20260420T204040Z
DTSTART:20260408T110000Z
DTEND:20260408T124000Z
SUMMARY:Теоретическая механика
LOCATION:Мех. к. БМ
END:VEVENT
BEGIN:VEVENT
UID:gqwq@192.168.245.71:3006
SEQUENCE:0
DTSTAMP:20260420T204040Z
DTSTART:20260408T130000Z
DTEND:20260408T143000Z
SUMMARY:Физика
LOCATION:ГЗ 324
END:VEVENT
BEGIN:VEVENT
UID:ipjw@192.168.245.71:3006
SEQUENCE:0
DTSTAMP:20260420T204040Z
DTSTART:20260408T130000Z
DTEND:20260408T143000Z
SUMMARY:Физика
LOCATION:ГЗ 324
END:VEVENT
BEGIN:VEVENT
UID:vbow@192.168.245.71:3006
SEQUENCE:0
DTSTAMP:20260420T204040Z
DTSTART:20260409T070000Z
DTEND:20260409T084000Z
SUMMARY:Иностранный язык. Профессионально-ориентированный курс
LOCATION:1 к. каф. ГГТ\, 3 этаж
END:VEVENT
BEGIN:VEVENT
UID:snym@192.168.245.71:3006
SEQUENCE:0
DTSTAMP:20260420T204040Z
DTSTART:20260409T090000Z
DTEND:20260409T104000Z
SUMMARY:Химия
LOCATION:Хим. к. 10
END:VEVENT
BEGIN:VEVENT
UID:dwxm@192.168.245.71:3006
SEQUENCE:0
DTSTAMP:20260420T204040Z
DTSTART:20260410T070000Z
DTEND:20260410T084000Z
SUMMARY:Теоретическая механика
LOCATION:НИК А2.25
END:VEVENT
BEGIN:VEVENT
UID:3xb6@192.168.245.71:3006
SEQUENCE:0
DTSTAMP:20260420T204040Z
DTSTART:20260410T090000Z
DTEND:20260410T104000Z
SUMMARY:Химия
LOCATION:Хим. к. 10
END:VEVENT
BEGIN:VEVENT
UID:ay98@192.168.245.71:3006
SEQUENCE:0
DTSTAMP:20260420T204040Z
DTSTART:20260410T110000Z
DTEND:20260410T124000Z
SUMMARY:Численное решение краевых задач
LOCATION:2 к. 160
END:VEVENT
BEGIN:VEVENT
UID:nuvz@192.168.245.71:3006
SEQUENCE:0
DTSTAMP:20260420T204040Z
DTSTART:20260411T070000Z
DTEND:20260411T084000Z
SUMMARY:Численные методы
LOCATION:DL Дистанционно
END:VEVENT
BEGIN:VEVENT
UID:yn8n@192.168.245.71:3006
SEQUENCE:0
DTSTAMP:20260420T204040Z
DTSTART:20260411T110000Z
DTEND:20260411T124000Z
SUMMARY:Элективная физическая культура и спорт
LOCATION:СК Секции
END:VEVENT
END:VCALENDAR