BEGIN:VCALENDAR
VERSION:2.0
PRODID:-//spbstu.ru//ical//RU
NAME:Расписание группы 5030301/40002
X-WR-CALNAME:Расписание группы 5030301/40002
TIMEZONE-ID:Europe/Moscow
X-WR-TIMEZONE:Europe/Moscow
BEGIN:VEVENT
UID:3mkf@192.168.245.71:3006
SEQUENCE:0
DTSTAMP:20260422T145418Z
DTSTART:20251215T060000Z
DTEND:20251215T064500Z
SUMMARY:Математический анализ
LOCATION:Мех. к. БМ
END:VEVENT
BEGIN:VEVENT
UID:wrr9@192.168.245.71:3006
SEQUENCE:0
DTSTAMP:20260422T145418Z
DTSTART:20251215T070000Z
DTEND:20251215T084000Z
SUMMARY:Математический анализ
LOCATION:Мех. к. БМ
END:VEVENT
BEGIN:VEVENT
UID:tm5k@192.168.245.71:3006
SEQUENCE:0
DTSTAMP:20260422T145418Z
DTSTART:20251216T070000Z
DTEND:20251216T084000Z
SUMMARY:Физика
LOCATION:ГЗ 324
END:VEVENT
BEGIN:VEVENT
UID:hfhi@192.168.245.71:3006
SEQUENCE:0
DTSTAMP:20260422T145418Z
DTSTART:20251216T110000Z
DTEND:20251216T124000Z
SUMMARY:Численные методы
LOCATION:1 к. 428
END:VEVENT
BEGIN:VEVENT
UID:b61j@192.168.245.71:3006
SEQUENCE:0
DTSTAMP:20260422T145418Z
DTSTART:20251216T130000Z
DTEND:20251216T144000Z
SUMMARY:Цифровая аналитика
LOCATION:1 к. 428
END:VEVENT
BEGIN:VEVENT
UID:mglo@192.168.245.71:3006
SEQUENCE:0
DTSTAMP:20260422T145418Z
DTSTART:20251217T050000Z
DTEND:20251217T080000Z
SUMMARY:Иностранный язык: Русский язык как иностранный
LOCATION:16 к. 214
END:VEVENT
BEGIN:VEVENT
UID:wxum@192.168.245.71:3006
SEQUENCE:0
DTSTAMP:20260422T145418Z
DTSTART:20251218T130000Z
DTEND:20251218T150000Z
SUMMARY:Безопасность жизнедеятельности
LOCATION:2 к. 331
END:VEVENT
BEGIN:VEVENT
UID:ugs0@192.168.245.71:3006
SEQUENCE:0
DTSTAMP:20260422T145418Z
DTSTART:20251219T100000Z
DTEND:20251219T130000Z
SUMMARY:Иностранный язык: Базовый курс
LOCATION:ГЗ 240
END:VEVENT
BEGIN:VEVENT
UID:3ru3@192.168.245.71:3006
SEQUENCE:0
DTSTAMP:20260422T145418Z
DTSTART:20251220T090000Z
DTEND:20251220T110000Z
SUMMARY:История России
LOCATION:ГЗ 241
END:VEVENT
END:VCALENDAR