BEGIN:VCALENDAR
VERSION:2.0
PRODID:-//spbstu.ru//ical//RU
NAME:Расписание группы 5030302/40003
X-WR-CALNAME:Расписание группы 5030302/40003
TIMEZONE-ID:Europe/Moscow
X-WR-TIMEZONE:Europe/Moscow
BEGIN:VEVENT
UID:qyff@192.168.245.71:3006
SEQUENCE:0
DTSTAMP:20260426T043727Z
DTSTART:20251006T090000Z
DTEND:20251006T104000Z
SUMMARY:Математический анализ
LOCATION:DL Дистанционно
END:VEVENT
BEGIN:VEVENT
UID:mjul@192.168.245.71:3006
SEQUENCE:0
DTSTAMP:20260426T043727Z
DTSTART:20251006T110000Z
DTEND:20251006T115000Z
SUMMARY:Математический анализ
LOCATION:DL Дистанционно
END:VEVENT
BEGIN:VEVENT
UID:rinp@192.168.245.71:3006
SEQUENCE:0
DTSTAMP:20260426T043727Z
DTSTART:20251007T070000Z
DTEND:20251007T084000Z
SUMMARY:Физика
LOCATION:ГЗ 324
END:VEVENT
BEGIN:VEVENT
UID:ussz@192.168.245.71:3006
SEQUENCE:0
DTSTAMP:20260426T043727Z
DTSTART:20251007T090000Z
DTEND:20251007T104000Z
SUMMARY:Математический анализ
LOCATION:ГЗ 106
END:VEVENT
BEGIN:VEVENT
UID:l5op@192.168.245.71:3006
SEQUENCE:0
DTSTAMP:20260426T043727Z
DTSTART:20251007T110000Z
DTEND:20251007T124000Z
SUMMARY:Физика
LOCATION:ГЗ 285
END:VEVENT
BEGIN:VEVENT
UID:f1sl@192.168.245.71:3006
SEQUENCE:0
DTSTAMP:20260426T043727Z
DTSTART:20251007T110000Z
DTEND:20251007T124000Z
SUMMARY:Физика
LOCATION:ГЗ 285
END:VEVENT
BEGIN:VEVENT
UID:3mu1@192.168.245.71:3006
SEQUENCE:0
DTSTAMP:20260426T043727Z
DTSTART:20251007T130000Z
DTEND:20251007T144000Z
SUMMARY:Иностранный язык: Базовый курс
LOCATION:ГЗ 107
END:VEVENT
BEGIN:VEVENT
UID:tcgo@192.168.245.71:3006
SEQUENCE:0
DTSTAMP:20260426T043727Z
DTSTART:20251008T050000Z
DTEND:20251008T064000Z
SUMMARY:Программирование
LOCATION:2 к. 265
END:VEVENT
BEGIN:VEVENT
UID:mupy@192.168.245.71:3006
SEQUENCE:0
DTSTAMP:20260426T043727Z
DTSTART:20251008T070000Z
DTEND:20251008T084000Z
SUMMARY:Программирование
LOCATION:2 к. 265
END:VEVENT
BEGIN:VEVENT
UID:4wa1@192.168.245.71:3006
SEQUENCE:0
DTSTAMP:20260426T043727Z
DTSTART:20251008T090000Z
DTEND:20251008T104000Z
SUMMARY:Элективная физическая культура и спорт
LOCATION:СК Секции
END:VEVENT
BEGIN:VEVENT
UID:m27z@192.168.245.71:3006
SEQUENCE:0
DTSTAMP:20260426T043727Z
DTSTART:20251008T110000Z
DTEND:20251008T124000Z
SUMMARY:Безопасность жизнедеятельности
LOCATION:ГК 106
END:VEVENT
BEGIN:VEVENT
UID:5tar@192.168.245.71:3006
SEQUENCE:0
DTSTAMP:20260426T043727Z
DTSTART:20251008T130000Z
DTEND:20251008T144000Z
SUMMARY:Навыки личной эффективности (SoftSkills)
LOCATION:Не опр. Нет
END:VEVENT
BEGIN:VEVENT
UID:yoyq@192.168.245.71:3006
SEQUENCE:0
DTSTAMP:20260426T043727Z
DTSTART:20251009T070000Z
DTEND:20251009T084000Z
SUMMARY:Физика
LOCATION:ГЗ 324
END:VEVENT
BEGIN:VEVENT
UID:q13x@192.168.245.71:3006
SEQUENCE:0
DTSTAMP:20260426T043727Z
DTSTART:20251009T090000Z
DTEND:20251009T104000Z
SUMMARY:Физика
LOCATION:ГЗ 152
END:VEVENT
BEGIN:VEVENT
UID:w7e6@192.168.245.71:3006
SEQUENCE:0
DTSTAMP:20260426T043727Z
DTSTART:20251009T120000Z
DTEND:20251009T125000Z
SUMMARY:Программирование
LOCATION:2 к. 104
END:VEVENT
BEGIN:VEVENT
UID:340k@192.168.245.71:3006
SEQUENCE:0
DTSTAMP:20260426T043727Z
DTSTART:20251009T130000Z
DTEND:20251009T144000Z
SUMMARY:Программирование
LOCATION:2 к. 104
END:VEVENT
BEGIN:VEVENT
UID:ia16@192.168.245.71:3006
SEQUENCE:0
DTSTAMP:20260426T043727Z
DTSTART:20251010T060000Z
DTEND:20251010T065000Z
SUMMARY:Аналитическая механика
LOCATION:Мех. к. БМ
END:VEVENT
BEGIN:VEVENT
UID:vyl0@192.168.245.71:3006
SEQUENCE:0
DTSTAMP:20260426T043727Z
DTSTART:20251010T070000Z
DTEND:20251010T084000Z
SUMMARY:Аналитическая механика
LOCATION:Мех. к. БМ
END:VEVENT
BEGIN:VEVENT
UID:o5k5@192.168.245.71:3006
SEQUENCE:0
DTSTAMP:20260426T043727Z
DTSTART:20251010T090000Z
DTEND:20251010T104000Z
SUMMARY:Аналитическая механика
LOCATION:2 к. 330
END:VEVENT
BEGIN:VEVENT
UID:esup@192.168.245.71:3006
SEQUENCE:0
DTSTAMP:20260426T043727Z
DTSTART:20251010T110000Z
DTEND:20251010T124000Z
SUMMARY:Математический анализ
LOCATION:ГЗ 107
END:VEVENT
BEGIN:VEVENT
UID:3g4y@192.168.245.71:3006
SEQUENCE:0
DTSTAMP:20260426T043727Z
DTSTART:20251010T150000Z
DTEND:20251010T164000Z
SUMMARY:Факультатив по физике
LOCATION:ГЗ 161
END:VEVENT
BEGIN:VEVENT
UID:aidv@192.168.245.71:3006
SEQUENCE:0
DTSTAMP:20260426T043727Z
DTSTART:20251011T050000Z
DTEND:20251011T064000Z
SUMMARY:Цифровая аналитика
LOCATION:2 к. 104
END:VEVENT
BEGIN:VEVENT
UID:1itg@192.168.245.71:3006
SEQUENCE:0
DTSTAMP:20260426T043727Z
DTSTART:20251011T070000Z
DTEND:20251011T084000Z
SUMMARY:Навыки личной эффективности (SoftSkills)
LOCATION:Не опр. Нет
END:VEVENT
BEGIN:VEVENT
UID:zbje@192.168.245.71:3006
SEQUENCE:0
DTSTAMP:20260426T043727Z
DTSTART:20251011T090000Z
DTEND:20251011T104000Z
SUMMARY:История России
LOCATION:ГЗ 329
END:VEVENT
BEGIN:VEVENT
UID:3u92@192.168.245.71:3006
SEQUENCE:0
DTSTAMP:20260426T043727Z
DTSTART:20251011T110000Z
DTEND:20251011T124000Z
SUMMARY:Элективная физическая культура и спорт
LOCATION:СК Секции
END:VEVENT
END:VCALENDAR