BEGIN:VCALENDAR
VERSION:2.0
PRODID:-//spbstu.ru//ical//RU
NAME:Расписание группы 5030302/40003
X-WR-CALNAME:Расписание группы 5030302/40003
TIMEZONE-ID:Europe/Moscow
X-WR-TIMEZONE:Europe/Moscow
BEGIN:VEVENT
UID:o1zk@192.168.245.71:3006
SEQUENCE:0
DTSTAMP:20260421T135243Z
DTSTART:20260310T070000Z
DTEND:20260310T084000Z
SUMMARY:Специальные главы физики
LOCATION:ГЗ 324
END:VEVENT
BEGIN:VEVENT
UID:37k0@192.168.245.71:3006
SEQUENCE:0
DTSTAMP:20260421T135243Z
DTSTART:20260310T090000Z
DTEND:20260310T104000Z
SUMMARY:Электродинамика
LOCATION:2 к. 339
END:VEVENT
BEGIN:VEVENT
UID:cqw2@192.168.245.71:3006
SEQUENCE:0
DTSTAMP:20260421T135243Z
DTSTART:20260310T110000Z
DTEND:20260310T124000Z
SUMMARY:Математический анализ
LOCATION:2 к. 331
END:VEVENT
BEGIN:VEVENT
UID:4rjk@192.168.245.71:3006
SEQUENCE:0
DTSTAMP:20260421T135243Z
DTSTART:20260310T130000Z
DTEND:20260310T144000Z
SUMMARY:Математический анализ
LOCATION:2 к. 331
END:VEVENT
BEGIN:VEVENT
UID:m7f0@192.168.245.71:3006
SEQUENCE:0
DTSTAMP:20260421T135243Z
DTSTART:20260311T060000Z
DTEND:20260311T065000Z
SUMMARY:Электродинамика
LOCATION:Мех. к. БМ
END:VEVENT
BEGIN:VEVENT
UID:7n63@192.168.245.71:3006
SEQUENCE:0
DTSTAMP:20260421T135243Z
DTSTART:20260311T070000Z
DTEND:20260311T084000Z
SUMMARY:Электродинамика
LOCATION:Мех. к. БМ
END:VEVENT
BEGIN:VEVENT
UID:q6ae@192.168.245.71:3006
SEQUENCE:0
DTSTAMP:20260421T135243Z
DTSTART:20260311T090000Z
DTEND:20260311T104000Z
SUMMARY:Элективная физическая культура и спорт
LOCATION:СК Секции
END:VEVENT
BEGIN:VEVENT
UID:qj32@192.168.245.71:3006
SEQUENCE:0
DTSTAMP:20260421T135243Z
DTSTART:20260311T110000Z
DTEND:20260311T124000Z
SUMMARY:Специальные главы физики
LOCATION:ГЗ 324
END:VEVENT
BEGIN:VEVENT
UID:a28g@192.168.245.71:3006
SEQUENCE:0
DTSTAMP:20260421T135243Z
DTSTART:20260312T060000Z
DTEND:20260312T065000Z
SUMMARY:Численные методы
LOCATION:ГЗ 283
END:VEVENT
BEGIN:VEVENT
UID:f6wc@192.168.245.71:3006
SEQUENCE:0
DTSTAMP:20260421T135243Z
DTSTART:20260312T070000Z
DTEND:20260312T084000Z
SUMMARY:Численные методы
LOCATION:ГЗ 283
END:VEVENT
BEGIN:VEVENT
UID:y98g@192.168.245.71:3006
SEQUENCE:0
DTSTAMP:20260421T135243Z
DTSTART:20260312T090000Z
DTEND:20260312T104000Z
SUMMARY:Физические основы функциональной электроники
LOCATION:2 к. 265
END:VEVENT
BEGIN:VEVENT
UID:4pg3@192.168.245.71:3006
SEQUENCE:0
DTSTAMP:20260421T135243Z
DTSTART:20260312T110000Z
DTEND:20260312T124000Z
SUMMARY:Иностранный язык. Профессионально-ориентированный курс
LOCATION:2 к. 329
END:VEVENT
BEGIN:VEVENT
UID:87lx@192.168.245.71:3006
SEQUENCE:0
DTSTAMP:20260421T135243Z
DTSTART:20260313T050000Z
DTEND:20260313T064000Z
SUMMARY:Численные методы
LOCATION:2 к. 104
END:VEVENT
BEGIN:VEVENT
UID:w8g5@192.168.245.71:3006
SEQUENCE:0
DTSTAMP:20260421T135243Z
DTSTART:20260313T050000Z
DTEND:20260313T064000Z
SUMMARY:Численные методы
LOCATION:2 к. 104
END:VEVENT
BEGIN:VEVENT
UID:q4zz@192.168.245.71:3006
SEQUENCE:0
DTSTAMP:20260421T135243Z
DTSTART:20260313T070000Z
DTEND:20260313T075000Z
SUMMARY:Численные методы
LOCATION:2 к. 104
END:VEVENT
BEGIN:VEVENT
UID:sxt0@192.168.245.71:3006
SEQUENCE:0
DTSTAMP:20260421T135243Z
DTSTART:20260313T070000Z
DTEND:20260313T075000Z
SUMMARY:Численные методы
LOCATION:2 к. 104
END:VEVENT
BEGIN:VEVENT
UID:x6on@192.168.245.71:3006
SEQUENCE:0
DTSTAMP:20260421T135243Z
DTSTART:20260313T080000Z
DTEND:20260313T085000Z
SUMMARY:Физические основы функциональной электроники
LOCATION:2 к. 240
END:VEVENT
BEGIN:VEVENT
UID:j3t2@192.168.245.71:3006
SEQUENCE:0
DTSTAMP:20260421T135243Z
DTSTART:20260313T090000Z
DTEND:20260313T104000Z
SUMMARY:Физические основы функциональной электроники
LOCATION:2 к. 240
END:VEVENT
BEGIN:VEVENT
UID:r0t5@192.168.245.71:3006
SEQUENCE:0
DTSTAMP:20260421T135243Z
DTSTART:20260313T120000Z
DTEND:20260313T125000Z
SUMMARY:Математический анализ
LOCATION:DL Дистанционно
END:VEVENT
BEGIN:VEVENT
UID:1tzv@192.168.245.71:3006
SEQUENCE:0
DTSTAMP:20260421T135243Z
DTSTART:20260313T130000Z
DTEND:20260313T144000Z
SUMMARY:Математический анализ
LOCATION:DL Дистанционно
END:VEVENT
BEGIN:VEVENT
UID:n79d@192.168.245.71:3006
SEQUENCE:0
DTSTAMP:20260421T135243Z
DTSTART:20260314T110000Z
DTEND:20260314T124000Z
SUMMARY:Элективная физическая культура и спорт
LOCATION:СК Секции
END:VEVENT
END:VCALENDAR