BEGIN:VCALENDAR
VERSION:2.0
PRODID:-//spbstu.ru//ical//RU
NAME:Расписание группы 5030302/40003
X-WR-CALNAME:Расписание группы 5030302/40003
TIMEZONE-ID:Europe/Moscow
X-WR-TIMEZONE:Europe/Moscow
BEGIN:VEVENT
UID:0yqo@192.168.245.71:3006
SEQUENCE:0
DTSTAMP:20260421T020030Z
DTSTART:20260406T110000Z
DTEND:20260406T124000Z
SUMMARY:Физические основы функциональной электроники
LOCATION:2 к. 265
END:VEVENT
BEGIN:VEVENT
UID:u1hq@192.168.245.71:3006
SEQUENCE:0
DTSTAMP:20260421T020030Z
DTSTART:20260406T130000Z
DTEND:20260406T144000Z
SUMMARY:Иностранный язык. Профессионально-ориентированный курс
LOCATION:2 к. 329
END:VEVENT
BEGIN:VEVENT
UID:bqwn@192.168.245.71:3006
SEQUENCE:0
DTSTAMP:20260421T020030Z
DTSTART:20260406T150000Z
DTEND:20260406T164000Z
SUMMARY:Факультатив по физике
LOCATION:ГЗ 161
END:VEVENT
BEGIN:VEVENT
UID:vpgi@192.168.245.71:3006
SEQUENCE:0
DTSTAMP:20260421T020030Z
DTSTART:20260407T070000Z
DTEND:20260407T084000Z
SUMMARY:Специальные главы физики
LOCATION:ГЗ 324
END:VEVENT
BEGIN:VEVENT
UID:2z06@192.168.245.71:3006
SEQUENCE:0
DTSTAMP:20260421T020030Z
DTSTART:20260407T090000Z
DTEND:20260407T104000Z
SUMMARY:Электродинамика
LOCATION:2 к. 339
END:VEVENT
BEGIN:VEVENT
UID:ym19@192.168.245.71:3006
SEQUENCE:0
DTSTAMP:20260421T020030Z
DTSTART:20260407T110000Z
DTEND:20260407T124000Z
SUMMARY:Математический анализ
LOCATION:2 к. 331
END:VEVENT
BEGIN:VEVENT
UID:fnxr@192.168.245.71:3006
SEQUENCE:0
DTSTAMP:20260421T020030Z
DTSTART:20260407T130000Z
DTEND:20260407T144000Z
SUMMARY:Математический анализ
LOCATION:2 к. 331
END:VEVENT
BEGIN:VEVENT
UID:hkaq@192.168.245.71:3006
SEQUENCE:0
DTSTAMP:20260421T020030Z
DTSTART:20260407T163000Z
DTEND:20260407T170000Z
SUMMARY:Цифровая аналитика
LOCATION:DL Дистанционно
END:VEVENT
BEGIN:VEVENT
UID:yfgk@192.168.245.71:3006
SEQUENCE:0
DTSTAMP:20260421T020030Z
DTSTART:20260408T060000Z
DTEND:20260408T065000Z
SUMMARY:Электродинамика
LOCATION:Мех. к. БМ
END:VEVENT
BEGIN:VEVENT
UID:p6xx@192.168.245.71:3006
SEQUENCE:0
DTSTAMP:20260421T020030Z
DTSTART:20260408T070000Z
DTEND:20260408T084000Z
SUMMARY:Электродинамика
LOCATION:Мех. к. БМ
END:VEVENT
BEGIN:VEVENT
UID:opac@192.168.245.71:3006
SEQUENCE:0
DTSTAMP:20260421T020030Z
DTSTART:20260408T090000Z
DTEND:20260408T104000Z
SUMMARY:Элективная физическая культура и спорт
LOCATION:СК Секции
END:VEVENT
BEGIN:VEVENT
UID:mhxk@192.168.245.71:3006
SEQUENCE:0
DTSTAMP:20260421T020030Z
DTSTART:20260408T110000Z
DTEND:20260408T124000Z
SUMMARY:Специальные главы физики
LOCATION:ГЗ 324
END:VEVENT
BEGIN:VEVENT
UID:p8je@192.168.245.71:3006
SEQUENCE:0
DTSTAMP:20260421T020030Z
DTSTART:20260408T130000Z
DTEND:20260408T143000Z
SUMMARY:Физика
LOCATION:ГЗ 324
END:VEVENT
BEGIN:VEVENT
UID:wdzs@192.168.245.71:3006
SEQUENCE:0
DTSTAMP:20260421T020030Z
DTSTART:20260408T130000Z
DTEND:20260408T143000Z
SUMMARY:Физика
LOCATION:ГЗ 324
END:VEVENT
BEGIN:VEVENT
UID:xfhs@192.168.245.71:3006
SEQUENCE:0
DTSTAMP:20260421T020030Z
DTSTART:20260409T060000Z
DTEND:20260409T065000Z
SUMMARY:Численные методы
LOCATION:ГЗ 283
END:VEVENT
BEGIN:VEVENT
UID:wv2i@192.168.245.71:3006
SEQUENCE:0
DTSTAMP:20260421T020030Z
DTSTART:20260409T070000Z
DTEND:20260409T084000Z
SUMMARY:Численные методы
LOCATION:ГЗ 283
END:VEVENT
BEGIN:VEVENT
UID:w935@192.168.245.71:3006
SEQUENCE:0
DTSTAMP:20260421T020030Z
DTSTART:20260409T090000Z
DTEND:20260409T104000Z
SUMMARY:Физические основы функциональной электроники
LOCATION:2 к. 265
END:VEVENT
BEGIN:VEVENT
UID:u7tv@192.168.245.71:3006
SEQUENCE:0
DTSTAMP:20260421T020030Z
DTSTART:20260409T110000Z
DTEND:20260409T124000Z
SUMMARY:Иностранный язык. Профессионально-ориентированный курс
LOCATION:2 к. 329
END:VEVENT
BEGIN:VEVENT
UID:2k4u@192.168.245.71:3006
SEQUENCE:0
DTSTAMP:20260421T020030Z
DTSTART:20260410T050000Z
DTEND:20260410T064000Z
SUMMARY:Численные методы
LOCATION:2 к. 104
END:VEVENT
BEGIN:VEVENT
UID:9vlg@192.168.245.71:3006
SEQUENCE:0
DTSTAMP:20260421T020030Z
DTSTART:20260410T050000Z
DTEND:20260410T064000Z
SUMMARY:Численные методы
LOCATION:2 к. 104
END:VEVENT
BEGIN:VEVENT
UID:juru@192.168.245.71:3006
SEQUENCE:0
DTSTAMP:20260421T020030Z
DTSTART:20260410T070000Z
DTEND:20260410T075000Z
SUMMARY:Численные методы
LOCATION:2 к. 104
END:VEVENT
BEGIN:VEVENT
UID:vw0z@192.168.245.71:3006
SEQUENCE:0
DTSTAMP:20260421T020030Z
DTSTART:20260410T070000Z
DTEND:20260410T075000Z
SUMMARY:Численные методы
LOCATION:2 к. 104
END:VEVENT
BEGIN:VEVENT
UID:pqhe@192.168.245.71:3006
SEQUENCE:0
DTSTAMP:20260421T020030Z
DTSTART:20260410T080000Z
DTEND:20260410T085000Z
SUMMARY:Физические основы функциональной электроники
LOCATION:2 к. 240
END:VEVENT
BEGIN:VEVENT
UID:578y@192.168.245.71:3006
SEQUENCE:0
DTSTAMP:20260421T020030Z
DTSTART:20260410T090000Z
DTEND:20260410T104000Z
SUMMARY:Физические основы функциональной электроники
LOCATION:2 к. 240
END:VEVENT
BEGIN:VEVENT
UID:3q81@192.168.245.71:3006
SEQUENCE:0
DTSTAMP:20260421T020030Z
DTSTART:20260410T120000Z
DTEND:20260410T125000Z
SUMMARY:Математический анализ
LOCATION:DL Дистанционно
END:VEVENT
BEGIN:VEVENT
UID:f1fw@192.168.245.71:3006
SEQUENCE:0
DTSTAMP:20260421T020030Z
DTSTART:20260410T130000Z
DTEND:20260410T144000Z
SUMMARY:Математический анализ
LOCATION:DL Дистанционно
END:VEVENT
BEGIN:VEVENT
UID:y3hb@192.168.245.71:3006
SEQUENCE:0
DTSTAMP:20260421T020030Z
DTSTART:20260411T110000Z
DTEND:20260411T124000Z
SUMMARY:Элективная физическая культура и спорт
LOCATION:СК Секции
END:VEVENT
END:VCALENDAR