BEGIN:VCALENDAR
VERSION:2.0
PRODID:-//spbstu.ru//ical//RU
NAME:Расписание группы 5031503/40001
X-WR-CALNAME:Расписание группы 5031503/40001
TIMEZONE-ID:Europe/Moscow
X-WR-TIMEZONE:Europe/Moscow
BEGIN:VEVENT
UID:a57x@192.168.245.71:3006
SEQUENCE:0
DTSTAMP:20260420T190828Z
DTSTART:20260420T060000Z
DTEND:20260420T064000Z
SUMMARY:Математический анализ
LOCATION:Мех. к. БМ
END:VEVENT
BEGIN:VEVENT
UID:dais@192.168.245.71:3006
SEQUENCE:0
DTSTAMP:20260420T190828Z
DTSTART:20260420T070000Z
DTEND:20260420T084000Z
SUMMARY:Математический анализ
LOCATION:Мех. к. БМ
END:VEVENT
BEGIN:VEVENT
UID:s20m@192.168.245.71:3006
SEQUENCE:0
DTSTAMP:20260420T190828Z
DTSTART:20260420T110000Z
DTEND:20260420T124000Z
SUMMARY:Математический анализ
LOCATION:ГЗ 279
END:VEVENT
BEGIN:VEVENT
UID:r33c@192.168.245.71:3006
SEQUENCE:0
DTSTAMP:20260420T190828Z
DTSTART:20260421T110000Z
DTEND:20260421T124000Z
SUMMARY:Иностранный язык. Профессионально-ориентированный курс
LOCATION:2 к. 143
END:VEVENT
BEGIN:VEVENT
UID:gp3z@192.168.245.71:3006
SEQUENCE:0
DTSTAMP:20260420T190828Z
DTSTART:20260421T130000Z
DTEND:20260421T144000Z
SUMMARY:Теоретическая механика
LOCATION:НИК В2.02
END:VEVENT
BEGIN:VEVENT
UID:c84w@192.168.245.71:3006
SEQUENCE:0
DTSTAMP:20260420T190828Z
DTSTART:20260422T090000Z
DTEND:20260422T104000Z
SUMMARY:Элективная физическая культура и спорт
LOCATION:СК Секции
END:VEVENT
BEGIN:VEVENT
UID:mscz@192.168.245.71:3006
SEQUENCE:0
DTSTAMP:20260420T190828Z
DTSTART:20260422T110000Z
DTEND:20260422T124000Z
SUMMARY:Механика материалов
LOCATION:2 к. 265
END:VEVENT
BEGIN:VEVENT
UID:jlqu@192.168.245.71:3006
SEQUENCE:0
DTSTAMP:20260420T190828Z
DTSTART:20260422T130000Z
DTEND:20260422T144000Z
SUMMARY:Механика материалов
LOCATION:2 к. 265
END:VEVENT
BEGIN:VEVENT
UID:ubf5@192.168.245.71:3006
SEQUENCE:0
DTSTAMP:20260420T190828Z
DTSTART:20260423T090000Z
DTEND:20260423T104000Z
SUMMARY:Теоретическая механика
LOCATION:Мех. к. БМ
END:VEVENT
BEGIN:VEVENT
UID:fuku@192.168.245.71:3006
SEQUENCE:0
DTSTAMP:20260420T190828Z
DTSTART:20260423T110000Z
DTEND:20260423T124000Z
SUMMARY:Автоматизированное проектирование
LOCATION:1 к. 426А
END:VEVENT
BEGIN:VEVENT
UID:uzc3@192.168.245.71:3006
SEQUENCE:0
DTSTAMP:20260420T190828Z
DTSTART:20260424T110000Z
DTEND:20260424T124000Z
SUMMARY:Теория вероятностей и математическая статистика
LOCATION:2 к. 265
END:VEVENT
BEGIN:VEVENT
UID:sdah@192.168.245.71:3006
SEQUENCE:0
DTSTAMP:20260420T190828Z
DTSTART:20260424T130000Z
DTEND:20260424T144000Z
SUMMARY:Теория вероятностей и математическая статистика
LOCATION:2 к. 265
END:VEVENT
BEGIN:VEVENT
UID:thev@192.168.245.71:3006
SEQUENCE:0
DTSTAMP:20260420T190828Z
DTSTART:20260425T070000Z
DTEND:20260425T074000Z
SUMMARY:Программные системы вычислительной математики
LOCATION:DL Дистанционно
END:VEVENT
BEGIN:VEVENT
UID:j5xv@192.168.245.71:3006
SEQUENCE:0
DTSTAMP:20260420T190828Z
DTSTART:20260425T080000Z
DTEND:20260425T094000Z
SUMMARY:Программные системы вычислительной математики
LOCATION:DL Дистанционно
END:VEVENT
BEGIN:VEVENT
UID:u22d@192.168.245.71:3006
SEQUENCE:0
DTSTAMP:20260420T190828Z
DTSTART:20260425T110000Z
DTEND:20260425T124000Z
SUMMARY:Элективная физическая культура и спорт
LOCATION:СК Секции
END:VEVENT
END:VCALENDAR