BEGIN:VCALENDAR
VERSION:2.0
PRODID:-//spbstu.ru//ical//RU
NAME:Расписание группы 5031503/40001
X-WR-CALNAME:Расписание группы 5031503/40001
TIMEZONE-ID:Europe/Moscow
X-WR-TIMEZONE:Europe/Moscow
BEGIN:VEVENT
UID:imnn@192.168.245.71:3006
SEQUENCE:0
DTSTAMP:20260420T172941Z
DTSTART:20260427T060000Z
DTEND:20260427T064000Z
SUMMARY:Математический анализ
LOCATION:Мех. к. БМ
END:VEVENT
BEGIN:VEVENT
UID:xk09@192.168.245.71:3006
SEQUENCE:0
DTSTAMP:20260420T172941Z
DTSTART:20260427T070000Z
DTEND:20260427T084000Z
SUMMARY:Математический анализ
LOCATION:Мех. к. БМ
END:VEVENT
BEGIN:VEVENT
UID:dm2b@192.168.245.71:3006
SEQUENCE:0
DTSTAMP:20260420T172941Z
DTSTART:20260427T110000Z
DTEND:20260427T124000Z
SUMMARY:Математический анализ
LOCATION:ГЗ 279
END:VEVENT
BEGIN:VEVENT
UID:skqz@192.168.245.71:3006
SEQUENCE:0
DTSTAMP:20260420T172941Z
DTSTART:20260427T130000Z
DTEND:20260427T144000Z
SUMMARY:Математический анализ
LOCATION:ГЗ 279
END:VEVENT
BEGIN:VEVENT
UID:su6e@192.168.245.71:3006
SEQUENCE:0
DTSTAMP:20260420T172941Z
DTSTART:20260428T110000Z
DTEND:20260428T124000Z
SUMMARY:Иностранный язык. Профессионально-ориентированный курс
LOCATION:2 к. 143
END:VEVENT
BEGIN:VEVENT
UID:wz1z@192.168.245.71:3006
SEQUENCE:0
DTSTAMP:20260420T172941Z
DTSTART:20260428T130000Z
DTEND:20260428T144000Z
SUMMARY:Теоретическая механика
LOCATION:НИК В2.02
END:VEVENT
BEGIN:VEVENT
UID:wjhl@192.168.245.71:3006
SEQUENCE:0
DTSTAMP:20260420T172941Z
DTSTART:20260429T090000Z
DTEND:20260429T104000Z
SUMMARY:Элективная физическая культура и спорт
LOCATION:СК Секции
END:VEVENT
BEGIN:VEVENT
UID:i21i@192.168.245.71:3006
SEQUENCE:0
DTSTAMP:20260420T172941Z
DTSTART:20260429T110000Z
DTEND:20260429T124000Z
SUMMARY:Механика материалов
LOCATION:2 к. 265
END:VEVENT
BEGIN:VEVENT
UID:gya9@192.168.245.71:3006
SEQUENCE:0
DTSTAMP:20260420T172941Z
DTSTART:20260429T130000Z
DTEND:20260429T144000Z
SUMMARY:Механика материалов
LOCATION:2 к. 265
END:VEVENT
BEGIN:VEVENT
UID:n6ji@192.168.245.71:3006
SEQUENCE:0
DTSTAMP:20260420T172941Z
DTSTART:20260430T070000Z
DTEND:20260430T084000Z
SUMMARY:Автоматизированное проектирование
LOCATION:1 к. 426А
END:VEVENT
BEGIN:VEVENT
UID:rylm@192.168.245.71:3006
SEQUENCE:0
DTSTAMP:20260420T172941Z
DTSTART:20260430T090000Z
DTEND:20260430T104000Z
SUMMARY:Теоретическая механика
LOCATION:Мех. к. БМ
END:VEVENT
BEGIN:VEVENT
UID:lbtm@192.168.245.71:3006
SEQUENCE:0
DTSTAMP:20260420T172941Z
DTSTART:20260430T110000Z
DTEND:20260430T124000Z
SUMMARY:Автоматизированное проектирование
LOCATION:1 к. 426А
END:VEVENT
BEGIN:VEVENT
UID:3yx3@192.168.245.71:3006
SEQUENCE:0
DTSTAMP:20260420T172941Z
DTSTART:20260502T070000Z
DTEND:20260502T074000Z
SUMMARY:Программные системы вычислительной математики
LOCATION:DL Дистанционно
END:VEVENT
BEGIN:VEVENT
UID:83tu@192.168.245.71:3006
SEQUENCE:0
DTSTAMP:20260420T172941Z
DTSTART:20260502T080000Z
DTEND:20260502T094000Z
SUMMARY:Программные системы вычислительной математики
LOCATION:DL Дистанционно
END:VEVENT
BEGIN:VEVENT
UID:mu4b@192.168.245.71:3006
SEQUENCE:0
DTSTAMP:20260420T172941Z
DTSTART:20260502T110000Z
DTEND:20260502T124000Z
SUMMARY:Элективная физическая культура и спорт
LOCATION:СК Секции
END:VEVENT
END:VCALENDAR