BEGIN:VCALENDAR
VERSION:2.0
PRODID:-//spbstu.ru//ical//RU
NAME:Расписание группы 5031503/40001
X-WR-CALNAME:Расписание группы 5031503/40001
TIMEZONE-ID:Europe/Moscow
X-WR-TIMEZONE:Europe/Moscow
BEGIN:VEVENT
UID:otve@192.168.245.71:3006
SEQUENCE:0
DTSTAMP:20260421T001304Z
DTSTART:20260518T060000Z
DTEND:20260518T064000Z
SUMMARY:Математический анализ
LOCATION:Мех. к. БМ
END:VEVENT
BEGIN:VEVENT
UID:cl2t@192.168.245.71:3006
SEQUENCE:0
DTSTAMP:20260421T001304Z
DTSTART:20260518T070000Z
DTEND:20260518T084000Z
SUMMARY:Математический анализ
LOCATION:Мех. к. БМ
END:VEVENT
BEGIN:VEVENT
UID:bpz1@192.168.245.71:3006
SEQUENCE:0
DTSTAMP:20260421T001304Z
DTSTART:20260518T110000Z
DTEND:20260518T124000Z
SUMMARY:Математический анализ
LOCATION:ГЗ 279
END:VEVENT
BEGIN:VEVENT
UID:n2j1@192.168.245.71:3006
SEQUENCE:0
DTSTAMP:20260421T001304Z
DTSTART:20260522T110000Z
DTEND:20260522T124000Z
SUMMARY:Теория вероятностей и математическая статистика
LOCATION:2 к. 265
END:VEVENT
BEGIN:VEVENT
UID:4uvu@192.168.245.71:3006
SEQUENCE:0
DTSTAMP:20260421T001304Z
DTSTART:20260522T130000Z
DTEND:20260522T144000Z
SUMMARY:Теория вероятностей и математическая статистика
LOCATION:2 к. 265
END:VEVENT
BEGIN:VEVENT
UID:tg55@192.168.245.71:3006
SEQUENCE:0
DTSTAMP:20260421T001304Z
DTSTART:20260523T070000Z
DTEND:20260523T074000Z
SUMMARY:Программные системы вычислительной математики
LOCATION:DL Дистанционно
END:VEVENT
BEGIN:VEVENT
UID:i75v@192.168.245.71:3006
SEQUENCE:0
DTSTAMP:20260421T001304Z
DTSTART:20260523T080000Z
DTEND:20260523T094000Z
SUMMARY:Программные системы вычислительной математики
LOCATION:DL Дистанционно
END:VEVENT
END:VCALENDAR