BEGIN:VCALENDAR
VERSION:2.0
PRODID:-//spbstu.ru//ical//RU
NAME:Расписание группы 5031503/40002
X-WR-CALNAME:Расписание группы 5031503/40002
TIMEZONE-ID:Europe/Moscow
X-WR-TIMEZONE:Europe/Moscow
BEGIN:VEVENT
UID:zwz4@192.168.245.71:3006
SEQUENCE:0
DTSTAMP:20260425T184356Z
DTSTART:20251020T060000Z
DTEND:20251020T064500Z
SUMMARY:Математический анализ
LOCATION:Мех. к. БМ
END:VEVENT
BEGIN:VEVENT
UID:ehsn@192.168.245.71:3006
SEQUENCE:0
DTSTAMP:20260425T184356Z
DTSTART:20251020T070000Z
DTEND:20251020T084000Z
SUMMARY:Математический анализ
LOCATION:Мех. к. БМ
END:VEVENT
BEGIN:VEVENT
UID:bocs@192.168.245.71:3006
SEQUENCE:0
DTSTAMP:20260425T184356Z
DTSTART:20251020T090000Z
DTEND:20251020T104000Z
SUMMARY:Теоретическая механика
LOCATION:ГЗ 245
END:VEVENT
BEGIN:VEVENT
UID:sij5@192.168.245.71:3006
SEQUENCE:0
DTSTAMP:20260425T184356Z
DTSTART:20251021T070000Z
DTEND:20251021T084000Z
SUMMARY:Физика
LOCATION:ГЗ 285
END:VEVENT
BEGIN:VEVENT
UID:k2wh@192.168.245.71:3006
SEQUENCE:0
DTSTAMP:20260425T184356Z
DTSTART:20251021T070000Z
DTEND:20251021T084000Z
SUMMARY:Физика
LOCATION:ГЗ 285
END:VEVENT
BEGIN:VEVENT
UID:mkav@192.168.245.71:3006
SEQUENCE:0
DTSTAMP:20260425T184356Z
DTSTART:20251021T090000Z
DTEND:20251021T104000Z
SUMMARY:Математический анализ
LOCATION:ГЗ 107
END:VEVENT
BEGIN:VEVENT
UID:4gty@192.168.245.71:3006
SEQUENCE:0
DTSTAMP:20260425T184356Z
DTSTART:20251021T110000Z
DTEND:20251021T124000Z
SUMMARY:Математический анализ
LOCATION:ГЗ 107
END:VEVENT
BEGIN:VEVENT
UID:kj5m@192.168.245.71:3006
SEQUENCE:0
DTSTAMP:20260425T184356Z
DTSTART:20251021T130000Z
DTEND:20251021T144000Z
SUMMARY:Безопасность жизнедеятельности
LOCATION:ГК 119
END:VEVENT
BEGIN:VEVENT
UID:mtb8@192.168.245.71:3006
SEQUENCE:0
DTSTAMP:20260425T184356Z
DTSTART:20251022T070000Z
DTEND:20251022T084000Z
SUMMARY:История России
LOCATION:НИК В2.03
END:VEVENT
BEGIN:VEVENT
UID:9rk9@192.168.245.71:3006
SEQUENCE:0
DTSTAMP:20260425T184356Z
DTSTART:20251022T090000Z
DTEND:20251022T104000Z
SUMMARY:Элективная физическая культура и спорт
LOCATION:СК Секции
END:VEVENT
BEGIN:VEVENT
UID:ttip@192.168.245.71:3006
SEQUENCE:0
DTSTAMP:20260425T184356Z
DTSTART:20251022T110000Z
DTEND:20251022T124000Z
SUMMARY:Физика
LOCATION:ГЗ 282
END:VEVENT
BEGIN:VEVENT
UID:10vx@192.168.245.71:3006
SEQUENCE:0
DTSTAMP:20260425T184356Z
DTSTART:20251022T130000Z
DTEND:20251022T144000Z
SUMMARY:Навыки личной эффективности (SoftSkills)
LOCATION:Не опр. Нет
END:VEVENT
BEGIN:VEVENT
UID:8jqn@192.168.245.71:3006
SEQUENCE:0
DTSTAMP:20260425T184356Z
DTSTART:20251023T070000Z
DTEND:20251023T084000Z
SUMMARY:Иностранный язык: Базовый курс
LOCATION:ГЗ 252
END:VEVENT
BEGIN:VEVENT
UID:saj5@192.168.245.71:3006
SEQUENCE:0
DTSTAMP:20260425T184356Z
DTSTART:20251023T090000Z
DTEND:20251023T104000Z
SUMMARY:Теоретическая механика
LOCATION:Мех. к. БМ
END:VEVENT
BEGIN:VEVENT
UID:vzs1@192.168.245.71:3006
SEQUENCE:0
DTSTAMP:20260425T184356Z
DTSTART:20251023T110000Z
DTEND:20251023T124000Z
SUMMARY:Механика материалов
LOCATION:2 к. 265
END:VEVENT
BEGIN:VEVENT
UID:r8ri@192.168.245.71:3006
SEQUENCE:0
DTSTAMP:20260425T184356Z
DTSTART:20251023T130000Z
DTEND:20251023T144000Z
SUMMARY:Механика материалов
LOCATION:2 к. 265
END:VEVENT
BEGIN:VEVENT
UID:ilpo@192.168.245.71:3006
SEQUENCE:0
DTSTAMP:20260425T184356Z
DTSTART:20251024T070000Z
DTEND:20251024T084000Z
SUMMARY:Физика
LOCATION:ГЗ 245
END:VEVENT
BEGIN:VEVENT
UID:uy1c@192.168.245.71:3006
SEQUENCE:0
DTSTAMP:20260425T184356Z
DTSTART:20251024T110000Z
DTEND:20251024T124000Z
SUMMARY:Физика
LOCATION:ГЗ 280
END:VEVENT
BEGIN:VEVENT
UID:engu@192.168.245.71:3006
SEQUENCE:0
DTSTAMP:20260425T184356Z
DTSTART:20251024T130000Z
DTEND:20251024T144000Z
SUMMARY:Теория вероятностей и математическая статистика
LOCATION:2 к. 265
END:VEVENT
BEGIN:VEVENT
UID:1275@192.168.245.71:3006
SEQUENCE:0
DTSTAMP:20260425T184356Z
DTSTART:20251024T150000Z
DTEND:20251024T154500Z
SUMMARY:Теория вероятностей и математическая статистика
LOCATION:2 к. 265
END:VEVENT
BEGIN:VEVENT
UID:isyd@192.168.245.71:3006
SEQUENCE:0
DTSTAMP:20260425T184356Z
DTSTART:20251025T070000Z
DTEND:20251025T084000Z
SUMMARY:Навыки личной эффективности (SoftSkills)
LOCATION:Не опр. Нет
END:VEVENT
BEGIN:VEVENT
UID:pfej@192.168.245.71:3006
SEQUENCE:0
DTSTAMP:20260425T184356Z
DTSTART:20251025T090000Z
DTEND:20251025T104000Z
SUMMARY:История России
LOCATION:ГЗ 329
END:VEVENT
BEGIN:VEVENT
UID:wgp9@192.168.245.71:3006
SEQUENCE:0
DTSTAMP:20260425T184356Z
DTSTART:20251025T110000Z
DTEND:20251025T124000Z
SUMMARY:Элективная физическая культура и спорт
LOCATION:СК Секции
END:VEVENT
END:VCALENDAR