BEGIN:VCALENDAR
VERSION:2.0
PRODID:-//spbstu.ru//ical//RU
NAME:Расписание группы 5031503/40002
X-WR-CALNAME:Расписание группы 5031503/40002
TIMEZONE-ID:Europe/Moscow
X-WR-TIMEZONE:Europe/Moscow
BEGIN:VEVENT
UID:6s8z@192.168.245.71:3006
SEQUENCE:0
DTSTAMP:20260422T145352Z
DTSTART:20251208T060000Z
DTEND:20251208T064500Z
SUMMARY:Математический анализ
LOCATION:Мех. к. БМ
END:VEVENT
BEGIN:VEVENT
UID:z9dv@192.168.245.71:3006
SEQUENCE:0
DTSTAMP:20260422T145352Z
DTSTART:20251208T070000Z
DTEND:20251208T084000Z
SUMMARY:Математический анализ
LOCATION:Мех. к. БМ
END:VEVENT
BEGIN:VEVENT
UID:r7as@192.168.245.71:3006
SEQUENCE:0
DTSTAMP:20260422T145352Z
DTSTART:20251208T090000Z
DTEND:20251208T104000Z
SUMMARY:Теоретическая механика
LOCATION:ГЗ 245
END:VEVENT
BEGIN:VEVENT
UID:wq74@192.168.245.71:3006
SEQUENCE:0
DTSTAMP:20260422T145352Z
DTSTART:20251209T070000Z
DTEND:20251209T084000Z
SUMMARY:Физика
LOCATION:ГЗ 285
END:VEVENT
BEGIN:VEVENT
UID:z7ps@192.168.245.71:3006
SEQUENCE:0
DTSTAMP:20260422T145352Z
DTSTART:20251209T070000Z
DTEND:20251209T084000Z
SUMMARY:Физика
LOCATION:ГЗ 285
END:VEVENT
BEGIN:VEVENT
UID:98hb@192.168.245.71:3006
SEQUENCE:0
DTSTAMP:20260422T145352Z
DTSTART:20251209T090000Z
DTEND:20251209T104000Z
SUMMARY:Математический анализ
LOCATION:ГЗ 107
END:VEVENT
BEGIN:VEVENT
UID:uxpo@192.168.245.71:3006
SEQUENCE:0
DTSTAMP:20260422T145352Z
DTSTART:20251209T110000Z
DTEND:20251209T124000Z
SUMMARY:Цифровая аналитика
LOCATION:1 к. 426А
END:VEVENT
BEGIN:VEVENT
UID:vfqs@192.168.245.71:3006
SEQUENCE:0
DTSTAMP:20260422T145352Z
DTSTART:20251210T090000Z
DTEND:20251210T104000Z
SUMMARY:Элективная физическая культура и спорт
LOCATION:СК Секции
END:VEVENT
BEGIN:VEVENT
UID:1smb@192.168.245.71:3006
SEQUENCE:0
DTSTAMP:20260422T145352Z
DTSTART:20251210T110000Z
DTEND:20251210T124000Z
SUMMARY:Физика
LOCATION:ГЗ 282
END:VEVENT
BEGIN:VEVENT
UID:5so4@192.168.245.71:3006
SEQUENCE:0
DTSTAMP:20260422T145352Z
DTSTART:20251210T130000Z
DTEND:20251210T144000Z
SUMMARY:Навыки личной эффективности (SoftSkills)
LOCATION:Не опр. Нет
END:VEVENT
BEGIN:VEVENT
UID:5vie@192.168.245.71:3006
SEQUENCE:0
DTSTAMP:20260422T145352Z
DTSTART:20251211T070000Z
DTEND:20251211T084000Z
SUMMARY:Иностранный язык: Базовый курс
LOCATION:ГЗ 252
END:VEVENT
BEGIN:VEVENT
UID:2dj1@192.168.245.71:3006
SEQUENCE:0
DTSTAMP:20260422T145352Z
DTSTART:20251211T090000Z
DTEND:20251211T104000Z
SUMMARY:Теоретическая механика
LOCATION:Мех. к. БМ
END:VEVENT
BEGIN:VEVENT
UID:yifw@192.168.245.71:3006
SEQUENCE:0
DTSTAMP:20260422T145352Z
DTSTART:20251211T110000Z
DTEND:20251211T124000Z
SUMMARY:Механика материалов
LOCATION:2 к. 265
END:VEVENT
BEGIN:VEVENT
UID:on7r@192.168.245.71:3006
SEQUENCE:0
DTSTAMP:20260422T145352Z
DTSTART:20251211T130000Z
DTEND:20251211T144000Z
SUMMARY:Механика материалов
LOCATION:2 к. 265
END:VEVENT
BEGIN:VEVENT
UID:f53y@192.168.245.71:3006
SEQUENCE:0
DTSTAMP:20260422T145352Z
DTSTART:20251212T070000Z
DTEND:20251212T084000Z
SUMMARY:Физика
LOCATION:ГЗ 245
END:VEVENT
BEGIN:VEVENT
UID:yxlo@192.168.245.71:3006
SEQUENCE:0
DTSTAMP:20260422T145352Z
DTSTART:20251212T110000Z
DTEND:20251212T124000Z
SUMMARY:Физика
LOCATION:ГЗ 280
END:VEVENT
BEGIN:VEVENT
UID:n36t@192.168.245.71:3006
SEQUENCE:0
DTSTAMP:20260422T145352Z
DTSTART:20251212T130000Z
DTEND:20251212T144000Z
SUMMARY:Теория вероятностей и математическая статистика
LOCATION:2 к. 265
END:VEVENT
BEGIN:VEVENT
UID:iklt@192.168.245.71:3006
SEQUENCE:0
DTSTAMP:20260422T145352Z
DTSTART:20251212T150000Z
DTEND:20251212T160000Z
SUMMARY:Теория вероятностей и математическая статистика
LOCATION:2 к. 265
END:VEVENT
BEGIN:VEVENT
UID:7oeq@192.168.245.71:3006
SEQUENCE:0
DTSTAMP:20260422T145352Z
DTSTART:20251213T070000Z
DTEND:20251213T084000Z
SUMMARY:Навыки личной эффективности (SoftSkills)
LOCATION:Не опр. Нет
END:VEVENT
END:VCALENDAR