BEGIN:VCALENDAR
VERSION:2.0
PRODID:-//spbstu.ru//ical//RU
NAME:Расписание группы 5031503/40003
X-WR-CALNAME:Расписание группы 5031503/40003
TIMEZONE-ID:Europe/Moscow
X-WR-TIMEZONE:Europe/Moscow
BEGIN:VEVENT
UID:z35z@192.168.245.71:3006
SEQUENCE:0
DTSTAMP:20260423T170933Z
DTSTART:20260209T060000Z
DTEND:20260209T064000Z
SUMMARY:Математический анализ
LOCATION:Мех. к. БМ
END:VEVENT
BEGIN:VEVENT
UID:0s8s@192.168.245.71:3006
SEQUENCE:0
DTSTAMP:20260423T170933Z
DTSTART:20260209T070000Z
DTEND:20260209T084000Z
SUMMARY:Математический анализ
LOCATION:Мех. к. БМ
END:VEVENT
BEGIN:VEVENT
UID:fk66@192.168.245.71:3006
SEQUENCE:0
DTSTAMP:20260423T170933Z
DTSTART:20260209T090000Z
DTEND:20260209T104000Z
SUMMARY:Автоматизированное проектирование
LOCATION:1 к. 426А
END:VEVENT
BEGIN:VEVENT
UID:yxt7@192.168.245.71:3006
SEQUENCE:0
DTSTAMP:20260423T170933Z
DTSTART:20260209T110000Z
DTEND:20260209T124000Z
SUMMARY:Иностранный язык. Профессионально-ориентированный курс
LOCATION:2 к. 316
END:VEVENT
BEGIN:VEVENT
UID:fkxq@192.168.245.71:3006
SEQUENCE:0
DTSTAMP:20260423T170933Z
DTSTART:20260210T060000Z
DTEND:20260210T064000Z
SUMMARY:Математический анализ
LOCATION:ГЗ 207
END:VEVENT
BEGIN:VEVENT
UID:3xi5@192.168.245.71:3006
SEQUENCE:0
DTSTAMP:20260423T170933Z
DTSTART:20260210T070000Z
DTEND:20260210T084000Z
SUMMARY:Математический анализ
LOCATION:ГЗ 207
END:VEVENT
BEGIN:VEVENT
UID:3sjj@192.168.245.71:3006
SEQUENCE:0
DTSTAMP:20260423T170933Z
DTSTART:20260210T130000Z
DTEND:20260210T143000Z
SUMMARY:Теоретическая механика
LOCATION:НИК В2.02
END:VEVENT
BEGIN:VEVENT
UID:13aw@192.168.245.71:3006
SEQUENCE:0
DTSTAMP:20260423T170933Z
DTSTART:20260210T150000Z
DTEND:20260210T160000Z
SUMMARY:История России
LOCATION:НИК В2.02
END:VEVENT
BEGIN:VEVENT
UID:1vvk@192.168.245.71:3006
SEQUENCE:0
DTSTAMP:20260423T170933Z
DTSTART:20260211T090000Z
DTEND:20260211T104000Z
SUMMARY:Элективная физическая культура и спорт
LOCATION:СК Секции
END:VEVENT
BEGIN:VEVENT
UID:xjrr@192.168.245.71:3006
SEQUENCE:0
DTSTAMP:20260423T170933Z
DTSTART:20260211T110000Z
DTEND:20260211T124000Z
SUMMARY:Механика материалов
LOCATION:2 к. 265
END:VEVENT
BEGIN:VEVENT
UID:whpr@192.168.245.71:3006
SEQUENCE:0
DTSTAMP:20260423T170933Z
DTSTART:20260211T130000Z
DTEND:20260211T144000Z
SUMMARY:Механика материалов
LOCATION:2 к. 143
END:VEVENT
BEGIN:VEVENT
UID:ov5z@192.168.245.71:3006
SEQUENCE:0
DTSTAMP:20260423T170933Z
DTSTART:20260211T130000Z
DTEND:20260211T143000Z
SUMMARY:Теоретическая механика
LOCATION:НИК А2.02
END:VEVENT
BEGIN:VEVENT
UID:hpu5@192.168.245.71:3006
SEQUENCE:0
DTSTAMP:20260423T170933Z
DTSTART:20260212T070000Z
DTEND:20260212T084000Z
SUMMARY:Автоматизированное проектирование
LOCATION:1 к. 426А
END:VEVENT
BEGIN:VEVENT
UID:dkqz@192.168.245.71:3006
SEQUENCE:0
DTSTAMP:20260423T170933Z
DTSTART:20260212T090000Z
DTEND:20260212T104000Z
SUMMARY:Теоретическая механика
LOCATION:Мех. к. БМ
END:VEVENT
BEGIN:VEVENT
UID:9oap@192.168.245.71:3006
SEQUENCE:0
DTSTAMP:20260423T170933Z
DTSTART:20260212T110000Z
DTEND:20260212T124000Z
SUMMARY:Теоретическая механика
LOCATION:НИК А2.02
END:VEVENT
BEGIN:VEVENT
UID:r136@192.168.245.71:3006
SEQUENCE:0
DTSTAMP:20260423T170933Z
DTSTART:20260212T130000Z
DTEND:20260212T144000Z
SUMMARY:Основы проектной деятельности
LOCATION:Не опр. Нет
END:VEVENT
BEGIN:VEVENT
UID:5rnx@192.168.245.71:3006
SEQUENCE:0
DTSTAMP:20260423T170933Z
DTSTART:20260213T110000Z
DTEND:20260213T124000Z
SUMMARY:Теория вероятностей и математическая статистика
LOCATION:2 к. 265
END:VEVENT
BEGIN:VEVENT
UID:4zof@192.168.245.71:3006
SEQUENCE:0
DTSTAMP:20260423T170933Z
DTSTART:20260213T130000Z
DTEND:20260213T144000Z
SUMMARY:Теория вероятностей и математическая статистика
LOCATION:2 к. 265
END:VEVENT
BEGIN:VEVENT
UID:5qk4@192.168.245.71:3006
SEQUENCE:0
DTSTAMP:20260423T170933Z
DTSTART:20260214T070000Z
DTEND:20260214T074000Z
SUMMARY:Программные системы вычислительной математики
LOCATION:DL Дистанционно
END:VEVENT
BEGIN:VEVENT
UID:cqiq@192.168.245.71:3006
SEQUENCE:0
DTSTAMP:20260423T170933Z
DTSTART:20260214T080000Z
DTEND:20260214T094000Z
SUMMARY:Программные системы вычислительной математики
LOCATION:DL Дистанционно
END:VEVENT
BEGIN:VEVENT
UID:ur5p@192.168.245.71:3006
SEQUENCE:0
DTSTAMP:20260423T170933Z
DTSTART:20260214T110000Z
DTEND:20260214T124000Z
SUMMARY:Элективная физическая культура и спорт
LOCATION:СК Секции
END:VEVENT
END:VCALENDAR