BEGIN:VCALENDAR
VERSION:2.0
PRODID:-//spbstu.ru//ical//RU
NAME:Расписание группы 5030102/30101
X-WR-CALNAME:Расписание группы 5030102/30101
TIMEZONE-ID:Europe/Moscow
X-WR-TIMEZONE:Europe/Moscow
BEGIN:VEVENT
UID:5mnh@192.168.245.71:3006
SEQUENCE:0
DTSTAMP:20260423T000207Z
DTSTART:20251201T070000Z
DTEND:20251201T084000Z
SUMMARY:Основы функционального анализа
LOCATION:2 к. 265
END:VEVENT
BEGIN:VEVENT
UID:9p3s@192.168.245.71:3006
SEQUENCE:0
DTSTAMP:20260423T000207Z
DTSTART:20251201T090000Z
DTEND:20251201T104000Z
SUMMARY:Механика сплошной среды
LOCATION:1 к. каф.МПУ
END:VEVENT
BEGIN:VEVENT
UID:4cwg@192.168.245.71:3006
SEQUENCE:0
DTSTAMP:20260423T000207Z
DTSTART:20251201T110000Z
DTEND:20251201T115000Z
SUMMARY:Механика сплошной среды
LOCATION:1 к. каф.МПУ
END:VEVENT
BEGIN:VEVENT
UID:9hkg@192.168.245.71:3006
SEQUENCE:0
DTSTAMP:20260423T000207Z
DTSTART:20251201T130000Z
DTEND:20251201T144000Z
SUMMARY:Комплексный анализ
LOCATION:2 к. 325
END:VEVENT
BEGIN:VEVENT
UID:vnmo@192.168.245.71:3006
SEQUENCE:0
DTSTAMP:20260423T000207Z
DTSTART:20251202T070000Z
DTEND:20251202T084000Z
SUMMARY:Теория вероятностей
LOCATION:ГЗ 224
END:VEVENT
BEGIN:VEVENT
UID:4u9d@192.168.245.71:3006
SEQUENCE:0
DTSTAMP:20260423T000207Z
DTSTART:20251202T090000Z
DTEND:20251202T104000Z
SUMMARY:Основы функционального анализа
LOCATION:1 к. каф. Примат
END:VEVENT
BEGIN:VEVENT
UID:ymya@192.168.245.71:3006
SEQUENCE:0
DTSTAMP:20260423T000207Z
DTSTART:20251202T110000Z
DTEND:20251202T124000Z
SUMMARY:Вариационное исчисление
LOCATION:НИК Г.3.58
END:VEVENT
BEGIN:VEVENT
UID:9x22@192.168.245.71:3006
SEQUENCE:0
DTSTAMP:20260423T000207Z
DTSTART:20251202T130000Z
DTEND:20251202T135000Z
SUMMARY:Вариационное исчисление
LOCATION:НИК Г.3.58
END:VEVENT
BEGIN:VEVENT
UID:fl31@192.168.245.71:3006
SEQUENCE:0
DTSTAMP:20260423T000207Z
DTSTART:20251203T060000Z
DTEND:20251203T074000Z
SUMMARY:Комплексный анализ
LOCATION:Мех. к. БМ
END:VEVENT
BEGIN:VEVENT
UID:v7ur@192.168.245.71:3006
SEQUENCE:0
DTSTAMP:20260423T000207Z
DTSTART:20251203T090000Z
DTEND:20251203T104000Z
SUMMARY:Теория вероятностей
LOCATION:1 к. 431
END:VEVENT
BEGIN:VEVENT
UID:ohlj@192.168.245.71:3006
SEQUENCE:0
DTSTAMP:20260423T000207Z
DTSTART:20251203T110000Z
DTEND:20251203T124000Z
SUMMARY:Методы оптимизации
LOCATION:ГЗ 245
END:VEVENT
BEGIN:VEVENT
UID:7j0y@192.168.245.71:3006
SEQUENCE:0
DTSTAMP:20260423T000207Z
DTSTART:20251203T130000Z
DTEND:20251203T144000Z
SUMMARY:Методы оптимизации
LOCATION:2 к. 265
END:VEVENT
BEGIN:VEVENT
UID:gxuq@192.168.245.71:3006
SEQUENCE:0
DTSTAMP:20260423T000207Z
DTSTART:20251204T090000Z
DTEND:20251204T104000Z
SUMMARY:Комплексный анализ
LOCATION:ГЗ 241
END:VEVENT
BEGIN:VEVENT
UID:pgep@192.168.245.71:3006
SEQUENCE:0
DTSTAMP:20260423T000207Z
DTSTART:20251205T050000Z
DTEND:20251205T064000Z
SUMMARY:Военная подготовка
LOCATION:Военная каф. кафедра
END:VEVENT
BEGIN:VEVENT
UID:ttrk@192.168.245.71:3006
SEQUENCE:0
DTSTAMP:20260423T000207Z
DTSTART:20251205T070000Z
DTEND:20251205T084000Z
SUMMARY:Военная подготовка
LOCATION:Военная каф. кафедра
END:VEVENT
BEGIN:VEVENT
UID:rvzw@192.168.245.71:3006
SEQUENCE:0
DTSTAMP:20260423T000207Z
DTSTART:20251205T090000Z
DTEND:20251205T104000Z
SUMMARY:Военная подготовка
LOCATION:Военная каф. кафедра
END:VEVENT
BEGIN:VEVENT
UID:48xk@192.168.245.71:3006
SEQUENCE:0
DTSTAMP:20260423T000207Z
DTSTART:20251206T070000Z
DTEND:20251206T084000Z
SUMMARY:Дискретная математика
LOCATION:DL Дистанционно
END:VEVENT
END:VCALENDAR