BEGIN:VCALENDAR
VERSION:2.0
PRODID:-//spbstu.ru//ical//RU
NAME:Расписание группы 5030102/30101
X-WR-CALNAME:Расписание группы 5030102/30101
TIMEZONE-ID:Europe/Moscow
X-WR-TIMEZONE:Europe/Moscow
BEGIN:VEVENT
UID:sqin@192.168.245.71:3006
SEQUENCE:0
DTSTAMP:20260423T044604Z
DTSTART:20251208T070000Z
DTEND:20251208T084000Z
SUMMARY:Основы функционального анализа
LOCATION:2 к. 265
END:VEVENT
BEGIN:VEVENT
UID:4682@192.168.245.71:3006
SEQUENCE:0
DTSTAMP:20260423T044604Z
DTSTART:20251208T090000Z
DTEND:20251208T104000Z
SUMMARY:Механика сплошной среды
LOCATION:1 к. каф.МПУ
END:VEVENT
BEGIN:VEVENT
UID:62gg@192.168.245.71:3006
SEQUENCE:0
DTSTAMP:20260423T044604Z
DTSTART:20251208T110000Z
DTEND:20251208T115000Z
SUMMARY:Механика сплошной среды
LOCATION:1 к. каф.МПУ
END:VEVENT
BEGIN:VEVENT
UID:x53m@192.168.245.71:3006
SEQUENCE:0
DTSTAMP:20260423T044604Z
DTSTART:20251208T130000Z
DTEND:20251208T150000Z
SUMMARY:Язык программирования Java
LOCATION:1 к. лаб.4  каф. Примат
END:VEVENT
BEGIN:VEVENT
UID:1prk@192.168.245.71:3006
SEQUENCE:0
DTSTAMP:20260423T044604Z
DTSTART:20251209T070000Z
DTEND:20251209T084000Z
SUMMARY:Теория вероятностей
LOCATION:ГЗ 224
END:VEVENT
BEGIN:VEVENT
UID:0ukd@192.168.245.71:3006
SEQUENCE:0
DTSTAMP:20260423T044604Z
DTSTART:20251209T090000Z
DTEND:20251209T104000Z
SUMMARY:Основы функционального анализа
LOCATION:1 к. каф. Примат
END:VEVENT
BEGIN:VEVENT
UID:snsu@192.168.245.71:3006
SEQUENCE:0
DTSTAMP:20260423T044604Z
DTSTART:20251209T110000Z
DTEND:20251209T124000Z
SUMMARY:Вариационное исчисление
LOCATION:НИК Г.3.58
END:VEVENT
BEGIN:VEVENT
UID:x472@192.168.245.71:3006
SEQUENCE:0
DTSTAMP:20260423T044604Z
DTSTART:20251209T130000Z
DTEND:20251209T135000Z
SUMMARY:Вариационное исчисление
LOCATION:НИК Г.3.58
END:VEVENT
BEGIN:VEVENT
UID:ea74@192.168.245.71:3006
SEQUENCE:0
DTSTAMP:20260423T044604Z
DTSTART:20251210T060000Z
DTEND:20251210T074000Z
SUMMARY:Комплексный анализ
LOCATION:Мех. к. БМ
END:VEVENT
BEGIN:VEVENT
UID:yeay@192.168.245.71:3006
SEQUENCE:0
DTSTAMP:20260423T044604Z
DTSTART:20251210T090000Z
DTEND:20251210T104000Z
SUMMARY:Теория вероятностей
LOCATION:1 к. 431
END:VEVENT
BEGIN:VEVENT
UID:i3e7@192.168.245.71:3006
SEQUENCE:0
DTSTAMP:20260423T044604Z
DTSTART:20251210T110000Z
DTEND:20251210T124000Z
SUMMARY:Методы оптимизации
LOCATION:ГЗ 245
END:VEVENT
BEGIN:VEVENT
UID:g13k@192.168.245.71:3006
SEQUENCE:0
DTSTAMP:20260423T044604Z
DTSTART:20251210T130000Z
DTEND:20251210T144000Z
SUMMARY:Методы оптимизации
LOCATION:2 к. 265
END:VEVENT
BEGIN:VEVENT
UID:s01j@192.168.245.71:3006
SEQUENCE:0
DTSTAMP:20260423T044604Z
DTSTART:20251211T090000Z
DTEND:20251211T104000Z
SUMMARY:Комплексный анализ
LOCATION:ГЗ 241
END:VEVENT
BEGIN:VEVENT
UID:w30b@192.168.245.71:3006
SEQUENCE:0
DTSTAMP:20260423T044604Z
DTSTART:20251211T110000Z
DTEND:20251211T124000Z
SUMMARY:Дискретная математика
LOCATION:1 к. лаб.2  каф. Примат
END:VEVENT
BEGIN:VEVENT
UID:7atc@192.168.245.71:3006
SEQUENCE:0
DTSTAMP:20260423T044604Z
DTSTART:20251212T050000Z
DTEND:20251212T064000Z
SUMMARY:Военная подготовка
LOCATION:Военная каф. кафедра
END:VEVENT
BEGIN:VEVENT
UID:tfgv@192.168.245.71:3006
SEQUENCE:0
DTSTAMP:20260423T044604Z
DTSTART:20251212T070000Z
DTEND:20251212T084000Z
SUMMARY:Военная подготовка
LOCATION:Военная каф. кафедра
END:VEVENT
BEGIN:VEVENT
UID:1lll@192.168.245.71:3006
SEQUENCE:0
DTSTAMP:20260423T044604Z
DTSTART:20251212T090000Z
DTEND:20251212T104000Z
SUMMARY:Военная подготовка
LOCATION:Военная каф. кафедра
END:VEVENT
BEGIN:VEVENT
UID:5v98@192.168.245.71:3006
SEQUENCE:0
DTSTAMP:20260423T044604Z
DTSTART:20251213T070000Z
DTEND:20251213T084000Z
SUMMARY:Дискретная математика
LOCATION:DL Дистанционно
END:VEVENT
BEGIN:VEVENT
UID:epsc@192.168.245.71:3006
SEQUENCE:0
DTSTAMP:20260423T044604Z
DTSTART:20251213T130000Z
DTEND:20251213T140000Z
SUMMARY:Язык программирования Java
LOCATION:1 к. каф. Примат
END:VEVENT
END:VCALENDAR