BEGIN:VCALENDAR
VERSION:2.0
PRODID:-//spbstu.ru//ical//RU
NAME:Расписание группы 5030102/30101
X-WR-CALNAME:Расписание группы 5030102/30101
TIMEZONE-ID:Europe/Moscow
X-WR-TIMEZONE:Europe/Moscow
BEGIN:VEVENT
UID:u7r9@192.168.245.71:3006
SEQUENCE:0
DTSTAMP:20260424T063849Z
DTSTART:20250922T070000Z
DTEND:20250922T084000Z
SUMMARY:Основы функционального анализа
LOCATION:2 к. 265
END:VEVENT
BEGIN:VEVENT
UID:s4zd@192.168.245.71:3006
SEQUENCE:0
DTSTAMP:20260424T063849Z
DTSTART:20250922T090000Z
DTEND:20250922T104000Z
SUMMARY:Механика сплошной среды
LOCATION:1 к. каф.МПУ
END:VEVENT
BEGIN:VEVENT
UID:pgbs@192.168.245.71:3006
SEQUENCE:0
DTSTAMP:20260424T063849Z
DTSTART:20250922T110000Z
DTEND:20250922T115000Z
SUMMARY:Механика сплошной среды
LOCATION:1 к. каф.МПУ
END:VEVENT
BEGIN:VEVENT
UID:ssrc@192.168.245.71:3006
SEQUENCE:0
DTSTAMP:20260424T063849Z
DTSTART:20250923T070000Z
DTEND:20250923T084000Z
SUMMARY:Теория вероятностей
LOCATION:ГЗ 224
END:VEVENT
BEGIN:VEVENT
UID:te3d@192.168.245.71:3006
SEQUENCE:0
DTSTAMP:20260424T063849Z
DTSTART:20250923T090000Z
DTEND:20250923T104000Z
SUMMARY:Основы функционального анализа
LOCATION:1 к. каф. Примат
END:VEVENT
BEGIN:VEVENT
UID:oyhf@192.168.245.71:3006
SEQUENCE:0
DTSTAMP:20260424T063849Z
DTSTART:20250923T110000Z
DTEND:20250923T124000Z
SUMMARY:Вариационное исчисление
LOCATION:НИК Г.3.58
END:VEVENT
BEGIN:VEVENT
UID:b6hb@192.168.245.71:3006
SEQUENCE:0
DTSTAMP:20260424T063849Z
DTSTART:20250923T130000Z
DTEND:20250923T135000Z
SUMMARY:Вариационное исчисление
LOCATION:НИК Г.3.58
END:VEVENT
BEGIN:VEVENT
UID:tdzk@192.168.245.71:3006
SEQUENCE:0
DTSTAMP:20260424T063849Z
DTSTART:20250924T060000Z
DTEND:20250924T074000Z
SUMMARY:Комплексный анализ
LOCATION:Мех. к. БМ
END:VEVENT
BEGIN:VEVENT
UID:5uul@192.168.245.71:3006
SEQUENCE:0
DTSTAMP:20260424T063849Z
DTSTART:20250924T090000Z
DTEND:20250924T104000Z
SUMMARY:Теория вероятностей
LOCATION:1 к. 431
END:VEVENT
BEGIN:VEVENT
UID:1plz@192.168.245.71:3006
SEQUENCE:0
DTSTAMP:20260424T063849Z
DTSTART:20250924T110000Z
DTEND:20250924T124000Z
SUMMARY:Методы оптимизации
LOCATION:ГЗ 245
END:VEVENT
BEGIN:VEVENT
UID:kxuk@192.168.245.71:3006
SEQUENCE:0
DTSTAMP:20260424T063849Z
DTSTART:20250924T130000Z
DTEND:20250924T144000Z
SUMMARY:Методы оптимизации
LOCATION:2 к. 265
END:VEVENT
BEGIN:VEVENT
UID:s0yh@192.168.245.71:3006
SEQUENCE:0
DTSTAMP:20260424T063849Z
DTSTART:20250925T090000Z
DTEND:20250925T104000Z
SUMMARY:Комплексный анализ
LOCATION:ГЗ 241
END:VEVENT
BEGIN:VEVENT
UID:r6nu@192.168.245.71:3006
SEQUENCE:0
DTSTAMP:20260424T063849Z
DTSTART:20250926T050000Z
DTEND:20250926T064000Z
SUMMARY:Военная подготовка
LOCATION:Военная каф. кафедра
END:VEVENT
BEGIN:VEVENT
UID:ngtr@192.168.245.71:3006
SEQUENCE:0
DTSTAMP:20260424T063849Z
DTSTART:20250926T070000Z
DTEND:20250926T084000Z
SUMMARY:Военная подготовка
LOCATION:Военная каф. кафедра
END:VEVENT
BEGIN:VEVENT
UID:uea1@192.168.245.71:3006
SEQUENCE:0
DTSTAMP:20260424T063849Z
DTSTART:20250926T090000Z
DTEND:20250926T104000Z
SUMMARY:Военная подготовка
LOCATION:Военная каф. кафедра
END:VEVENT
BEGIN:VEVENT
UID:wdxp@192.168.245.71:3006
SEQUENCE:0
DTSTAMP:20260424T063849Z
DTSTART:20250927T070000Z
DTEND:20250927T084000Z
SUMMARY:Дискретная математика
LOCATION:DL Дистанционно
END:VEVENT
END:VCALENDAR